| Back to Multiple platform build/check report for BioC 3.13 |
|
This page was generated on 2021-10-15 15:06:08 -0400 (Fri, 15 Oct 2021).
|
To the developers/maintainers of the icetea package: - Please allow up to 24 hours (and sometimes 48 hours) for your latest push to git@git.bioconductor.org:packages/icetea.git to reflect on this report. See How and When does the builder pull? When will my changes propagate? here for more information. - Make sure to use the following settings in order to reproduce any error or warning you see on this page. |
| Package 893/2041 | Hostname | OS / Arch | INSTALL | BUILD | CHECK | BUILD BIN | ||||||||
| icetea 1.10.0 (landing page) Vivek Bhardwaj
| nebbiolo1 | Linux (Ubuntu 20.04.2 LTS) / x86_64 | OK | OK | OK | |||||||||
| tokay2 | Windows Server 2012 R2 Standard / x64 | OK | OK | OK | OK | |||||||||
| machv2 | macOS 10.14.6 Mojave / x86_64 | OK | OK | OK | OK | |||||||||
| Package: icetea |
| Version: 1.10.0 |
| Command: C:\cygwin\bin\curl.exe -O http://155.52.207.165/BBS/3.13/bioc/src/contrib/icetea_1.10.0.tar.gz && rm -rf icetea.buildbin-libdir && mkdir icetea.buildbin-libdir && C:\Users\biocbuild\bbs-3.13-bioc\R\bin\R.exe CMD INSTALL --merge-multiarch --build --library=icetea.buildbin-libdir icetea_1.10.0.tar.gz && C:\Users\biocbuild\bbs-3.13-bioc\R\bin\R.exe CMD INSTALL icetea_1.10.0.zip && rm icetea_1.10.0.tar.gz icetea_1.10.0.zip |
| StartedAt: 2021-10-14 10:39:22 -0400 (Thu, 14 Oct 2021) |
| EndedAt: 2021-10-14 10:40:50 -0400 (Thu, 14 Oct 2021) |
| EllapsedTime: 87.9 seconds |
| RetCode: 0 |
| Status: OK |
##############################################################################
##############################################################################
###
### Running command:
###
### C:\cygwin\bin\curl.exe -O http://155.52.207.165/BBS/3.13/bioc/src/contrib/icetea_1.10.0.tar.gz && rm -rf icetea.buildbin-libdir && mkdir icetea.buildbin-libdir && C:\Users\biocbuild\bbs-3.13-bioc\R\bin\R.exe CMD INSTALL --merge-multiarch --build --library=icetea.buildbin-libdir icetea_1.10.0.tar.gz && C:\Users\biocbuild\bbs-3.13-bioc\R\bin\R.exe CMD INSTALL icetea_1.10.0.zip && rm icetea_1.10.0.tar.gz icetea_1.10.0.zip
###
##############################################################################
##############################################################################
% Total % Received % Xferd Average Speed Time Time Time Current
Dload Upload Total Spent Left Speed
0 0 0 0 0 0 0 0 --:--:-- --:--:-- --:--:-- 0
100 1263k 100 1263k 0 0 2285k 0 --:--:-- --:--:-- --:--:-- 2289k
install for i386
* installing *source* package 'icetea' ...
** using staged installation
** R
** inst
** byte-compile and prepare package for lazy loading
** help
*** installing help indices
converting help for package 'icetea'
finding HTML links ... done
activeChrs html
annotateTSS html
check_capSet html
demultiplexFASTQ html
detectDiffTSS html
finding level-2 HTML links ... done
detectTSS html
diffQCplots html
exampleCSobject html
exportTSS html
filterDuplicates html
filterDups html
fitDiffTSS html
getBamFlags html
getChromBins html
getChromWindows html
getGeneCounts html
getMCparams html
getNormFactors html
get_newfastq html
getranks html
mapCaps html
newCapSet html
numReadsInBed html
plotPrecision html
plotReadStats html
plotTSSprecision html
readsTo3p html
readsTo5p html
readsToCenter html
sampleInfo html
splitBAM_byIndex html
splitBAM_byRepindex html
split_fastq html
splitranks html
strandBinCounts html
** building package indices
** installing vignettes
** testing if installed package can be loaded from temporary location
** testing if installed package can be loaded from final location
** testing if installed package keeps a record of temporary installation path
install for x64
* installing *source* package 'icetea' ...
** testing if installed package can be loaded
* MD5 sums
packaged installation of 'icetea' as icetea_1.10.0.zip
* DONE (icetea)
* installing to library 'C:/Users/biocbuild/bbs-3.13-bioc/R/library'
package 'icetea' successfully unpacked and MD5 sums checked