| Back to Multiple platform build/check report for BioC 3.13 |
|
This page was generated on 2021-10-15 15:06:08 -0400 (Fri, 15 Oct 2021).
|
To the developers/maintainers of the iChip package: - Please allow up to 24 hours (and sometimes 48 hours) for your latest push to git@git.bioconductor.org:packages/iChip.git to reflect on this report. See How and When does the builder pull? When will my changes propagate? here for more information. - Make sure to use the following settings in order to reproduce any error or warning you see on this page. |
| Package 895/2041 | Hostname | OS / Arch | INSTALL | BUILD | CHECK | BUILD BIN | ||||||||
| iChip 1.46.0 (landing page) Qianxing Mo
| nebbiolo1 | Linux (Ubuntu 20.04.2 LTS) / x86_64 | OK | OK | OK | |||||||||
| tokay2 | Windows Server 2012 R2 Standard / x64 | OK | OK | OK | OK | |||||||||
| machv2 | macOS 10.14.6 Mojave / x86_64 | OK | OK | OK | OK | |||||||||
| Package: iChip |
| Version: 1.46.0 |
| Command: rm -rf iChip.buildbin-libdir && mkdir iChip.buildbin-libdir && C:\Users\biocbuild\bbs-3.13-bioc\R\bin\R.exe CMD INSTALL --merge-multiarch --build --library=iChip.buildbin-libdir iChip_1.46.0.tar.gz |
| StartedAt: 2021-10-15 09:52:33 -0400 (Fri, 15 Oct 2021) |
| EndedAt: 2021-10-15 09:54:03 -0400 (Fri, 15 Oct 2021) |
| EllapsedTime: 89.4 seconds |
| RetCode: 0 |
| Status: OK |
| PackageFile: iChip_1.46.0.zip |
| PackageFileSize: 1.868 MiB |
##############################################################################
##############################################################################
###
### Running command:
###
### rm -rf iChip.buildbin-libdir && mkdir iChip.buildbin-libdir && C:\Users\biocbuild\bbs-3.13-bioc\R\bin\R.exe CMD INSTALL --merge-multiarch --build --library=iChip.buildbin-libdir iChip_1.46.0.tar.gz
###
##############################################################################
##############################################################################
install for i386
* installing *source* package 'iChip' ...
** using staged installation
** libs
"C:/rtools40/mingw32/bin/"gcc -I"C:/Users/BIOCBU~1/BBS-3~1.13-/R/include" -DNDEBUG -I"c:/extsoft/include" -O2 -Wall -std=gnu99 -mfpmath=sse -msse2 -mstackrealign -c iChip.c -o iChip.o
iChip.c: In function 'iChip2':
iChip.c:23:51: warning: variable 'nrowm1' set but not used [-Wunused-but-set-variable]
int sampleSize,LB,RB,i,j,r,nnoise,nsignal,state,nrowm1,wtsum;
^~~~~~
"C:/rtools40/mingw32/bin/"gcc -I"C:/Users/BIOCBU~1/BBS-3~1.13-/R/include" -DNDEBUG -I"c:/extsoft/include" -O2 -Wall -std=gnu99 -mfpmath=sse -msse2 -mstackrealign -c registerDynamicSymbol.c -o registerDynamicSymbol.o
C:/rtools40/mingw32/bin/gcc -shared -s -static-libgcc -o iChip.dll tmp.def iChip.o registerDynamicSymbol.o -Lc:/extsoft/lib/i386 -Lc:/extsoft/lib -LC:/Users/BIOCBU~1/BBS-3~1.13-/R/bin/i386 -lR
installing to C:/Users/biocbuild/bbs-3.13-bioc/meat/iChip.buildbin-libdir/00LOCK-iChip/00new/iChip/libs/i386
** R
** data
*** moving datasets to lazyload DB
** demo
** inst
** byte-compile and prepare package for lazy loading
** help
*** installing help indices
converting help for package 'iChip'
finding HTML links ... done
enrichreg html
iChip1 html
iChip2 html
lmtstat html
oct4 html
p53 html
** building package indices
** installing vignettes
** testing if installed package can be loaded from temporary location
** testing if installed package can be loaded from final location
** testing if installed package keeps a record of temporary installation path
install for x64
* installing *source* package 'iChip' ...
** libs
"C:/rtools40/mingw64/bin/"gcc -I"C:/Users/BIOCBU~1/BBS-3~1.13-/R/include" -DNDEBUG -I"C:/extsoft/include" -O2 -Wall -std=gnu99 -mfpmath=sse -msse2 -mstackrealign -c iChip.c -o iChip.o
iChip.c: In function 'iChip2':
iChip.c:23:51: warning: variable 'nrowm1' set but not used [-Wunused-but-set-variable]
int sampleSize,LB,RB,i,j,r,nnoise,nsignal,state,nrowm1,wtsum;
^~~~~~
"C:/rtools40/mingw64/bin/"gcc -I"C:/Users/BIOCBU~1/BBS-3~1.13-/R/include" -DNDEBUG -I"C:/extsoft/include" -O2 -Wall -std=gnu99 -mfpmath=sse -msse2 -mstackrealign -c registerDynamicSymbol.c -o registerDynamicSymbol.o
C:/rtools40/mingw64/bin/gcc -shared -s -static-libgcc -o iChip.dll tmp.def iChip.o registerDynamicSymbol.o -LC:/extsoft/lib/x64 -LC:/extsoft/lib -LC:/Users/BIOCBU~1/BBS-3~1.13-/R/bin/x64 -lR
installing to C:/Users/biocbuild/bbs-3.13-bioc/meat/iChip.buildbin-libdir/iChip/libs/x64
** testing if installed package can be loaded
* MD5 sums
packaged installation of 'iChip' as iChip_1.46.0.zip
* DONE (iChip)