| Back to Multiple platform build/check report for BioC 3.13 |
|
This page was generated on 2021-10-15 15:06:08 -0400 (Fri, 15 Oct 2021).
|
To the developers/maintainers of the iCOBRA package: - Please allow up to 24 hours (and sometimes 48 hours) for your latest push to git@git.bioconductor.org:packages/iCOBRA.git to reflect on this report. See How and When does the builder pull? When will my changes propagate? here for more information. - Make sure to use the following settings in order to reproduce any error or warning you see on this page. |
| Package 898/2041 | Hostname | OS / Arch | INSTALL | BUILD | CHECK | BUILD BIN | ||||||||
| iCOBRA 1.20.0 (landing page) Charlotte Soneson
| nebbiolo1 | Linux (Ubuntu 20.04.2 LTS) / x86_64 | OK | OK | OK | |||||||||
| tokay2 | Windows Server 2012 R2 Standard / x64 | OK | OK | OK | OK | |||||||||
| machv2 | macOS 10.14.6 Mojave / x86_64 | OK | OK | OK | OK | |||||||||
| Package: iCOBRA |
| Version: 1.20.0 |
| Command: rm -rf iCOBRA.buildbin-libdir && mkdir iCOBRA.buildbin-libdir && C:\Users\biocbuild\bbs-3.13-bioc\R\bin\R.exe CMD INSTALL --merge-multiarch --build --library=iCOBRA.buildbin-libdir iCOBRA_1.20.0.tar.gz |
| StartedAt: 2021-10-15 09:52:57 -0400 (Fri, 15 Oct 2021) |
| EndedAt: 2021-10-15 09:54:31 -0400 (Fri, 15 Oct 2021) |
| EllapsedTime: 94.4 seconds |
| RetCode: 0 |
| Status: OK |
| PackageFile: iCOBRA_1.20.0.zip |
| PackageFileSize: 2.544 MiB |
##############################################################################
##############################################################################
###
### Running command:
###
### rm -rf iCOBRA.buildbin-libdir && mkdir iCOBRA.buildbin-libdir && C:\Users\biocbuild\bbs-3.13-bioc\R\bin\R.exe CMD INSTALL --merge-multiarch --build --library=iCOBRA.buildbin-libdir iCOBRA_1.20.0.tar.gz
###
##############################################################################
##############################################################################
install for i386
* installing *source* package 'iCOBRA' ...
** using staged installation
** R
** data
*** moving datasets to lazyload DB
** inst
** byte-compile and prepare package for lazy loading
** help
*** installing help indices
converting help for package 'iCOBRA'
finding HTML links ... done
COBRAData html
COBRAPerformance html
COBRAPlot html
COBRAapp html
Extract html
basemethods html
calculate_adjp html
calculate_performance html
cobradata_example html
cobradata_example_sval html
coerce html
corr html
deviation html
facetted html
fdrnbr html
fdrnbrcurve html
fdrtpr html
fdrtprcurve html
fpc html
fpr html
fsrnbr html
fsrnbrcurve html
maxsplit html
onlyshared html
overlap html
padj html
plot_corr html
plot_deviation html
plot_fdrnbrcurve html
plot_fdrtprcurve html
plot_fpc html
plot_fpr html
plot_fsrnbrcurve html
plot_overlap html
plot_roc html
plot_scatter html
plot_tpr html
plot_upset html
plotcolors html
prepare_data_for_plot html
pval html
reorder_levels html
roc html
scatter html
score html
splv html
stratiflevels html
sval html
tpr html
truth html
update_cobradata html
update_cobraperformance html
** building package indices
** installing vignettes
** testing if installed package can be loaded from temporary location
** testing if installed package can be loaded from final location
** testing if installed package keeps a record of temporary installation path
install for x64
* installing *source* package 'iCOBRA' ...
** testing if installed package can be loaded
* MD5 sums
packaged installation of 'iCOBRA' as iCOBRA_1.20.0.zip
* DONE (iCOBRA)