| Back to Multiple platform build/check report for BioC 3.13 |
|
This page was generated on 2021-10-15 15:06:08 -0400 (Fri, 15 Oct 2021).
|
To the developers/maintainers of the iASeq package: - Please allow up to 24 hours (and sometimes 48 hours) for your latest push to git@git.bioconductor.org:packages/iASeq.git to reflect on this report. See How and When does the builder pull? When will my changes propagate? here for more information. - Make sure to use the following settings in order to reproduce any error or warning you see on this page. |
| Package 886/2041 | Hostname | OS / Arch | INSTALL | BUILD | CHECK | BUILD BIN | ||||||||
| iASeq 1.36.0 (landing page) Yingying Wei
| nebbiolo1 | Linux (Ubuntu 20.04.2 LTS) / x86_64 | OK | OK | OK | |||||||||
| tokay2 | Windows Server 2012 R2 Standard / x64 | OK | OK | OK | OK | |||||||||
| machv2 | macOS 10.14.6 Mojave / x86_64 | OK | OK | OK | OK | |||||||||
| Package: iASeq |
| Version: 1.36.0 |
| Command: rm -rf iASeq.buildbin-libdir && mkdir iASeq.buildbin-libdir && C:\Users\biocbuild\bbs-3.13-bioc\R\bin\R.exe CMD INSTALL --merge-multiarch --build --library=iASeq.buildbin-libdir iASeq_1.36.0.tar.gz |
| StartedAt: 2021-10-15 09:51:19 -0400 (Fri, 15 Oct 2021) |
| EndedAt: 2021-10-15 09:52:49 -0400 (Fri, 15 Oct 2021) |
| EllapsedTime: 89.7 seconds |
| RetCode: 0 |
| Status: OK |
| PackageFile: iASeq_1.36.0.zip |
| PackageFileSize: 219.7 KiB |
##############################################################################
##############################################################################
###
### Running command:
###
### rm -rf iASeq.buildbin-libdir && mkdir iASeq.buildbin-libdir && C:\Users\biocbuild\bbs-3.13-bioc\R\bin\R.exe CMD INSTALL --merge-multiarch --build --library=iASeq.buildbin-libdir iASeq_1.36.0.tar.gz
###
##############################################################################
##############################################################################
install for i386
* installing *source* package 'iASeq' ...
** using staged installation
** R
** data
** inst
** byte-compile and prepare package for lazy loading
** help
*** installing help indices
converting help for package 'iASeq'
finding HTML links ... done
ASErawfit html
iASeq-internal html
iASeq-package html
iASeqmotif html
plotBIC html
plotMotif html
sampleASE html
singleEMfit html
** building package indices
** installing vignettes
** testing if installed package can be loaded from temporary location
** testing if installed package can be loaded from final location
** testing if installed package keeps a record of temporary installation path
install for x64
* installing *source* package 'iASeq' ...
** testing if installed package can be loaded
* MD5 sums
packaged installation of 'iASeq' as iASeq_1.36.0.zip
* DONE (iASeq)