| Back to Multiple platform build/check report for BioC 3.13 |
|
This page was generated on 2021-10-15 15:06:07 -0400 (Fri, 15 Oct 2021).
|
To the developers/maintainers of the heatmaps package: - Please allow up to 24 hours (and sometimes 48 hours) for your latest push to git@git.bioconductor.org:packages/heatmaps.git to reflect on this report. See How and When does the builder pull? When will my changes propagate? here for more information. - Make sure to use the following settings in order to reproduce any error or warning you see on this page. |
| Package 847/2041 | Hostname | OS / Arch | INSTALL | BUILD | CHECK | BUILD BIN | ||||||||
| heatmaps 1.16.0 (landing page) Malcolm Perry
| nebbiolo1 | Linux (Ubuntu 20.04.2 LTS) / x86_64 | OK | OK | OK | |||||||||
| tokay2 | Windows Server 2012 R2 Standard / x64 | OK | OK | OK | OK | |||||||||
| machv2 | macOS 10.14.6 Mojave / x86_64 | OK | OK | OK | OK | |||||||||
| Package: heatmaps |
| Version: 1.16.0 |
| Command: C:\Users\biocbuild\bbs-3.13-bioc\R\bin\R.exe CMD check --force-multiarch --install=check:heatmaps.install-out.txt --library=C:\Users\biocbuild\bbs-3.13-bioc\R\library --no-vignettes --timings heatmaps_1.16.0.tar.gz |
| StartedAt: 2021-10-15 00:18:39 -0400 (Fri, 15 Oct 2021) |
| EndedAt: 2021-10-15 00:21:37 -0400 (Fri, 15 Oct 2021) |
| EllapsedTime: 177.8 seconds |
| RetCode: 0 |
| Status: OK |
| CheckDir: heatmaps.Rcheck |
| Warnings: 0 |
##############################################################################
##############################################################################
###
### Running command:
###
### C:\Users\biocbuild\bbs-3.13-bioc\R\bin\R.exe CMD check --force-multiarch --install=check:heatmaps.install-out.txt --library=C:\Users\biocbuild\bbs-3.13-bioc\R\library --no-vignettes --timings heatmaps_1.16.0.tar.gz
###
##############################################################################
##############################################################################
* using log directory 'C:/Users/biocbuild/bbs-3.13-bioc/meat/heatmaps.Rcheck'
* using R version 4.1.1 (2021-08-10)
* using platform: x86_64-w64-mingw32 (64-bit)
* using session charset: ISO8859-1
* using option '--no-vignettes'
* checking for file 'heatmaps/DESCRIPTION' ... OK
* this is package 'heatmaps' version '1.16.0'
* checking package namespace information ... OK
* checking package dependencies ... OK
* checking if this is a source package ... OK
* checking if there is a namespace ... OK
* checking for hidden files and directories ... OK
* checking for portable file names ... OK
* checking whether package 'heatmaps' can be installed ... OK
* checking installed package size ... NOTE
installed size is 7.7Mb
sub-directories of 1Mb or more:
extdata 6.9Mb
* checking package directory ... OK
* checking 'build' directory ... OK
* checking DESCRIPTION meta-information ... OK
* checking top-level files ... OK
* checking for left-over files ... OK
* checking index information ... OK
* checking package subdirectories ... OK
* checking R files for non-ASCII characters ... OK
* checking R files for syntax errors ... OK
* loading checks for arch 'i386'
** checking whether the package can be loaded ... OK
** checking whether the package can be loaded with stated dependencies ... OK
** checking whether the package can be unloaded cleanly ... OK
** checking whether the namespace can be loaded with stated dependencies ... OK
** checking whether the namespace can be unloaded cleanly ... OK
* loading checks for arch 'x64'
** checking whether the package can be loaded ... OK
** checking whether the package can be loaded with stated dependencies ... OK
** checking whether the package can be unloaded cleanly ... OK
** checking whether the namespace can be loaded with stated dependencies ... OK
** checking whether the namespace can be unloaded cleanly ... OK
* checking dependencies in R code ... OK
* checking S3 generic/method consistency ... OK
* checking replacement functions ... OK
* checking foreign function calls ... OK
* checking R code for possible problems ... NOTE
makeGaussian2D: no visible binding for global variable 'dnorm'
Undefined global functions or variables:
dnorm
Consider adding
importFrom("stats", "dnorm")
to your NAMESPACE file.
* checking Rd files ... OK
* checking Rd metadata ... OK
* checking Rd cross-references ... OK
* checking for missing documentation entries ... OK
* checking for code/documentation mismatches ... OK
* checking Rd \usage sections ... OK
* checking Rd contents ... OK
* checking for unstated dependencies in examples ... OK
* checking contents of 'data' directory ... OK
* checking data for non-ASCII characters ... OK
* checking data for ASCII and uncompressed saves ... OK
* checking files in 'vignettes' ... OK
* checking examples ...
** running examples for arch 'i386' ... OK
** running examples for arch 'x64' ... OK
* checking for unstated dependencies in 'tests' ... OK
* checking tests ...
** running tests for arch 'i386' ...
Running 'testthat.R'
OK
** running tests for arch 'x64' ...
Running 'testthat.R'
OK
* checking for unstated dependencies in vignettes ... OK
* checking package vignettes in 'inst/doc' ... OK
* checking running R code from vignettes ... SKIPPED
* checking re-building of vignette outputs ... SKIPPED
* checking PDF version of manual ... OK
* DONE
Status: 2 NOTEs
See
'C:/Users/biocbuild/bbs-3.13-bioc/meat/heatmaps.Rcheck/00check.log'
for details.
heatmaps.Rcheck/00install.out
##############################################################################
##############################################################################
###
### Running command:
###
### C:\cygwin\bin\curl.exe -O http://155.52.207.165/BBS/3.13/bioc/src/contrib/heatmaps_1.16.0.tar.gz && rm -rf heatmaps.buildbin-libdir && mkdir heatmaps.buildbin-libdir && C:\Users\biocbuild\bbs-3.13-bioc\R\bin\R.exe CMD INSTALL --merge-multiarch --build --library=heatmaps.buildbin-libdir heatmaps_1.16.0.tar.gz && C:\Users\biocbuild\bbs-3.13-bioc\R\bin\R.exe CMD INSTALL heatmaps_1.16.0.zip && rm heatmaps_1.16.0.tar.gz heatmaps_1.16.0.zip
###
##############################################################################
##############################################################################
% Total % Received % Xferd Average Speed Time Time Time Current
Dload Upload Total Spent Left Speed
0 0 0 0 0 0 0 0 --:--:-- --:--:-- --:--:-- 0
12 6697k 12 804k 0 0 1340k 0 0:00:04 --:--:-- 0:00:04 1340k
51 6697k 51 3425k 0 0 2155k 0 0:00:03 0:00:01 0:00:02 2155k
100 6697k 100 6697k 0 0 2664k 0 0:00:02 0:00:02 --:--:-- 2666k
install for i386
* installing *source* package 'heatmaps' ...
** using staged installation
** R
** data
** inst
** byte-compile and prepare package for lazy loading
Creating a new generic function for 'scale' in package 'heatmaps'
** help
*** installing help indices
converting help for package 'heatmaps'
finding HTML links ... done
CoverageHeatmap html
Heatmap-class html
Heatmap html
HeatmapExamples html
PWMScanHeatmap html
PatternHeatmap html
coords html
default_color html
getScale html
heatmapOptions html
image html
label html
length-Heatmap-method html
metadata html
nseq html
plotHeatmap html
plotHeatmapList html
plotHeatmapMeta html
plotPatternDensityMap html
plot_clusters html
plot_legend html
rev-Heatmap-method html
scale html
smoothHeatmap html
width-Heatmap-method html
xm html
ym html
** building package indices
** installing vignettes
** testing if installed package can be loaded from temporary location
** testing if installed package can be loaded from final location
** testing if installed package keeps a record of temporary installation path
install for x64
* installing *source* package 'heatmaps' ...
** testing if installed package can be loaded
* MD5 sums
packaged installation of 'heatmaps' as heatmaps_1.16.0.zip
* DONE (heatmaps)
* installing to library 'C:/Users/biocbuild/bbs-3.13-bioc/R/library'
package 'heatmaps' successfully unpacked and MD5 sums checked
|
heatmaps.Rcheck/tests_i386/testthat.Rout
R version 4.1.1 (2021-08-10) -- "Kick Things"
Copyright (C) 2021 The R Foundation for Statistical Computing
Platform: i386-w64-mingw32/i386 (32-bit)
R is free software and comes with ABSOLUTELY NO WARRANTY.
You are welcome to redistribute it under certain conditions.
Type 'license()' or 'licence()' for distribution details.
R is a collaborative project with many contributors.
Type 'contributors()' for more information and
'citation()' on how to cite R or R packages in publications.
Type 'demo()' for some demos, 'help()' for on-line help, or
'help.start()' for an HTML browser interface to help.
Type 'q()' to quit R.
> library(testthat)
> library(heatmaps)
Attaching package: 'heatmaps'
The following object is masked from 'package:base':
scale
>
> test_check("heatmaps")
[ FAIL 0 | WARN 0 | SKIP 0 | PASS 22 ]
>
> proc.time()
user system elapsed
5.00 0.32 5.31
|
heatmaps.Rcheck/tests_x64/testthat.Rout
R version 4.1.1 (2021-08-10) -- "Kick Things"
Copyright (C) 2021 The R Foundation for Statistical Computing
Platform: x86_64-w64-mingw32/x64 (64-bit)
R is free software and comes with ABSOLUTELY NO WARRANTY.
You are welcome to redistribute it under certain conditions.
Type 'license()' or 'licence()' for distribution details.
R is a collaborative project with many contributors.
Type 'contributors()' for more information and
'citation()' on how to cite R or R packages in publications.
Type 'demo()' for some demos, 'help()' for on-line help, or
'help.start()' for an HTML browser interface to help.
Type 'q()' to quit R.
> library(testthat)
> library(heatmaps)
Attaching package: 'heatmaps'
The following object is masked from 'package:base':
scale
>
> test_check("heatmaps")
[ FAIL 0 | WARN 0 | SKIP 0 | PASS 22 ]
>
> proc.time()
user system elapsed
4.89 0.29 5.15
|
|
heatmaps.Rcheck/examples_i386/heatmaps-Ex.timings
|
heatmaps.Rcheck/examples_x64/heatmaps-Ex.timings
|