| Back to Multiple platform build/check report for BioC 3.13 |
|
This page was generated on 2021-10-15 15:06:07 -0400 (Fri, 15 Oct 2021).
|
To the developers/maintainers of the groHMM package: - Please allow up to 24 hours (and sometimes 48 hours) for your latest push to git@git.bioconductor.org:packages/groHMM.git to reflect on this report. See How and When does the builder pull? When will my changes propagate? here for more information. - Make sure to use the following settings in order to reproduce any error or warning you see on this page. |
| Package 813/2041 | Hostname | OS / Arch | INSTALL | BUILD | CHECK | BUILD BIN | ||||||||
| groHMM 1.26.0 (landing page) Anusha Nagari
| nebbiolo1 | Linux (Ubuntu 20.04.2 LTS) / x86_64 | OK | OK | OK | |||||||||
| tokay2 | Windows Server 2012 R2 Standard / x64 | OK | OK | OK | OK | |||||||||
| machv2 | macOS 10.14.6 Mojave / x86_64 | OK | OK | OK | OK | |||||||||
| Package: groHMM |
| Version: 1.26.0 |
| Command: C:\cygwin\bin\curl.exe -O http://155.52.207.165/BBS/3.13/bioc/src/contrib/groHMM_1.26.0.tar.gz && rm -rf groHMM.buildbin-libdir && mkdir groHMM.buildbin-libdir && C:\Users\biocbuild\bbs-3.13-bioc\R\bin\R.exe CMD INSTALL --merge-multiarch --build --library=groHMM.buildbin-libdir groHMM_1.26.0.tar.gz && C:\Users\biocbuild\bbs-3.13-bioc\R\bin\R.exe CMD INSTALL groHMM_1.26.0.zip && rm groHMM_1.26.0.tar.gz groHMM_1.26.0.zip |
| StartedAt: 2021-10-14 10:34:03 -0400 (Thu, 14 Oct 2021) |
| EndedAt: 2021-10-14 10:35:03 -0400 (Thu, 14 Oct 2021) |
| EllapsedTime: 60.0 seconds |
| RetCode: 0 |
| Status: OK |
##############################################################################
##############################################################################
###
### Running command:
###
### C:\cygwin\bin\curl.exe -O http://155.52.207.165/BBS/3.13/bioc/src/contrib/groHMM_1.26.0.tar.gz && rm -rf groHMM.buildbin-libdir && mkdir groHMM.buildbin-libdir && C:\Users\biocbuild\bbs-3.13-bioc\R\bin\R.exe CMD INSTALL --merge-multiarch --build --library=groHMM.buildbin-libdir groHMM_1.26.0.tar.gz && C:\Users\biocbuild\bbs-3.13-bioc\R\bin\R.exe CMD INSTALL groHMM_1.26.0.zip && rm groHMM_1.26.0.tar.gz groHMM_1.26.0.zip
###
##############################################################################
##############################################################################
% Total % Received % Xferd Average Speed Time Time Time Current
Dload Upload Total Spent Left Speed
0 0 0 0 0 0 0 0 --:--:-- --:--:-- --:--:-- 0
7 3956k 7 304k 0 0 444k 0 0:00:08 --:--:-- 0:00:08 444k
8 3956k 8 338k 0 0 201k 0 0:00:19 0:00:01 0:00:18 201k
52 3956k 52 2077k 0 0 775k 0 0:00:05 0:00:02 0:00:03 776k
100 3956k 100 3956k 0 0 1172k 0 0:00:03 0:00:03 --:--:-- 1172k
install for i386
* installing *source* package 'groHMM' ...
** using staged installation
** libs
"C:/rtools40/mingw32/bin/"gcc -I"C:/Users/BIOCBU~1/BBS-3~1.13-/R/include" -DNDEBUG -I"c:/extsoft/include" -O2 -Wall -std=gnu99 -mfpmath=sse -msse2 -mstackrealign -c AnnotateProbes.c -o AnnotateProbes.o
"C:/rtools40/mingw32/bin/"gcc -I"C:/Users/BIOCBU~1/BBS-3~1.13-/R/include" -DNDEBUG -I"c:/extsoft/include" -O2 -Wall -std=gnu99 -mfpmath=sse -msse2 -mstackrealign -c DecayAlgorithm.c -o DecayAlgorithm.o
"C:/rtools40/mingw32/bin/"gcc -I"C:/Users/BIOCBU~1/BBS-3~1.13-/R/include" -DNDEBUG -I"c:/extsoft/include" -O2 -Wall -std=gnu99 -mfpmath=sse -msse2 -mstackrealign -c MLEfit.c -o MLEfit.o
In file included from MLEfit.c:44:
hmmHeader.h:301:16: warning: 'expSum' defined but not used [-Wunused-function]
static double expSum(double *logValues, int length) {
^~~~~~
hmmHeader.h:281:16: warning: 'MargainalizeSumLogProbOver' defined but not used [-Wunused-function]
static double MargainalizeSumLogProbOver(int state, int position,
^~~~~~~~~~~~~~~~~~~~~~~~~~
"C:/rtools40/mingw32/bin/"gcc -I"C:/Users/BIOCBU~1/BBS-3~1.13-/R/include" -DNDEBUG -I"c:/extsoft/include" -O2 -Wall -std=gnu99 -mfpmath=sse -msse2 -mstackrealign -c RegisterRRoutines.c -o RegisterRRoutines.o
"C:/rtools40/mingw32/bin/"gcc -I"C:/Users/BIOCBU~1/BBS-3~1.13-/R/include" -DNDEBUG -I"c:/extsoft/include" -O2 -Wall -std=gnu99 -mfpmath=sse -msse2 -mstackrealign -c Windowing.c -o Windowing.o
Windowing.c: In function 'WindowAnalysis':
Windowing.c:147:6: warning: unused variable 'II' [-Wunused-variable]
int II = 0;
^~
"C:/rtools40/mingw32/bin/"gcc -I"C:/Users/BIOCBU~1/BBS-3~1.13-/R/include" -DNDEBUG -I"c:/extsoft/include" -O2 -Wall -std=gnu99 -mfpmath=sse -msse2 -mstackrealign -c hmmEM.c -o hmmEM.o
In file included from hmmEM.c:51:
hmmHeader.h:301:16: warning: 'expSum' defined but not used [-Wunused-function]
static double expSum(double *logValues, int length) {
^~~~~~
hmmHeader.h:281:16: warning: 'MargainalizeSumLogProbOver' defined but not used [-Wunused-function]
static double MargainalizeSumLogProbOver(int state, int position,
^~~~~~~~~~~~~~~~~~~~~~~~~~
In file included from hmmHeader.h:36,
from hmmEM.c:51:
UsefulValues.h:39:15: warning: 'VERY_LARGE_DOUBLE_VALUE' defined but not used [-Wunused-variable]
static double VERY_LARGE_DOUBLE_VALUE = 1e20;
^~~~~~~~~~~~~~~~~~~~~~~
"C:/rtools40/mingw32/bin/"gcc -I"C:/Users/BIOCBU~1/BBS-3~1.13-/R/include" -DNDEBUG -I"c:/extsoft/include" -O2 -Wall -std=gnu99 -mfpmath=sse -msse2 -mstackrealign -c hmmFwBw.c -o hmmFwBw.o
hmmFwBw.c: In function 'forward':
hmmFwBw.c:143:7: warning: this 'for' clause does not guard... [-Wmisleading-indentation]
for(k=1; k<n; k++)
^~~
hmmFwBw.c:146:9: note: ...this statement, but the latter is misleadingly indented as if it were guarded by the 'for'
for (k = 0; k<n; k++) {
^~~
In file included from hmmFwBw.c:46:
At top level:
hmmHeader.h:301:16: warning: 'expSum' defined but not used [-Wunused-function]
static double expSum(double *logValues, int length) {
^~~~~~
hmmHeader.h:281:16: warning: 'MargainalizeSumLogProbOver' defined but not used [-Wunused-function]
static double MargainalizeSumLogProbOver(int state, int position,
^~~~~~~~~~~~~~~~~~~~~~~~~~
In file included from hmmHeader.h:36,
from hmmFwBw.c:46:
UsefulValues.h:39:15: warning: 'VERY_LARGE_DOUBLE_VALUE' defined but not used [-Wunused-variable]
static double VERY_LARGE_DOUBLE_VALUE = 1e20;
^~~~~~~~~~~~~~~~~~~~~~~
"C:/rtools40/mingw32/bin/"gcc -I"C:/Users/BIOCBU~1/BBS-3~1.13-/R/include" -DNDEBUG -I"c:/extsoft/include" -O2 -Wall -std=gnu99 -mfpmath=sse -msse2 -mstackrealign -c hmmMiscFunctions.c -o hmmMiscFunctions.o
hmmMiscFunctions.c: In function 'SStatsNormExp':
hmmMiscFunctions.c:385:10: warning: unused variable 'wi' [-Wunused-variable]
double wi, *newEx;
^~
hmmMiscFunctions.c: In function 'UpdateNormExp':
hmmMiscFunctions.c:418:10: warning: unused variable 'epsilon' [-Wunused-variable]
double epsilon=0.00001;
^~~~~~~
In file included from hmmHeader.h:36,
from hmmMiscFunctions.c:44:
At top level:
UsefulValues.h:39:15: warning: 'VERY_LARGE_DOUBLE_VALUE' defined but not used [-Wunused-variable]
static double VERY_LARGE_DOUBLE_VALUE = 1e20;
^~~~~~~~~~~~~~~~~~~~~~~
"C:/rtools40/mingw32/bin/"gcc -I"C:/Users/BIOCBU~1/BBS-3~1.13-/R/include" -DNDEBUG -I"c:/extsoft/include" -O2 -Wall -std=gnu99 -mfpmath=sse -msse2 -mstackrealign -c hmmViterbi.c -o hmmViterbi.o
In file included from hmmViterbi.c:49:
hmmHeader.h:301:16: warning: 'expSum' defined but not used [-Wunused-function]
static double expSum(double *logValues, int length) {
^~~~~~
hmmHeader.h:281:16: warning: 'MargainalizeSumLogProbOver' defined but not used [-Wunused-function]
static double MargainalizeSumLogProbOver(int state, int position,
^~~~~~~~~~~~~~~~~~~~~~~~~~
In file included from hmmHeader.h:36,
from hmmViterbi.c:49:
UsefulValues.h:39:15: warning: 'VERY_LARGE_DOUBLE_VALUE' defined but not used [-Wunused-variable]
static double VERY_LARGE_DOUBLE_VALUE = 1e20;
^~~~~~~~~~~~~~~~~~~~~~~
C:/rtools40/mingw32/bin/gcc -shared -s -static-libgcc -o groHMM.dll tmp.def AnnotateProbes.o DecayAlgorithm.o MLEfit.o RegisterRRoutines.o Windowing.o hmmEM.o hmmFwBw.o hmmMiscFunctions.o hmmViterbi.o -Lc:/extsoft/lib/i386 -Lc:/extsoft/lib -LC:/Users/BIOCBU~1/BBS-3~1.13-/R/bin/i386 -lR
installing to C:/Users/biocbuild/bbs-3.13-bioc/meat/groHMM.buildbin-libdir/00LOCK-groHMM/00new/groHMM/libs/i386
** R
** inst
** byte-compile and prepare package for lazy loading
** help
*** installing help indices
converting help for package 'groHMM'
finding HTML links ... done
RgammaMLE html
Rnorm html
Rnorm.exp html
averagePlot html
breakTranscriptsOnGenes html
combineTranscripts html
countMappableReadsInInterval html
detectTranscripts html
evaluateHMMInAnnotations html
expressedGenes html
getCores html
getTxDensity html
groHMM-package html
limitToXkb html
makeConsensusAnnotations html
metaGene html
metaGeneMatrix html
metaGene_nL html
pausingIndex html
polymeraseWave html
readBed html
runMetaGene html
tlsDeming html
tlsLoess html
tlsSvd html
windowAnalysis html
writeWiggle html
** building package indices
** installing vignettes
** testing if installed package can be loaded from temporary location
** testing if installed package can be loaded from final location
** testing if installed package keeps a record of temporary installation path
install for x64
* installing *source* package 'groHMM' ...
** libs
"C:/rtools40/mingw64/bin/"gcc -I"C:/Users/BIOCBU~1/BBS-3~1.13-/R/include" -DNDEBUG -I"C:/extsoft/include" -O2 -Wall -std=gnu99 -mfpmath=sse -msse2 -mstackrealign -c AnnotateProbes.c -o AnnotateProbes.o
"C:/rtools40/mingw64/bin/"gcc -I"C:/Users/BIOCBU~1/BBS-3~1.13-/R/include" -DNDEBUG -I"C:/extsoft/include" -O2 -Wall -std=gnu99 -mfpmath=sse -msse2 -mstackrealign -c DecayAlgorithm.c -o DecayAlgorithm.o
"C:/rtools40/mingw64/bin/"gcc -I"C:/Users/BIOCBU~1/BBS-3~1.13-/R/include" -DNDEBUG -I"C:/extsoft/include" -O2 -Wall -std=gnu99 -mfpmath=sse -msse2 -mstackrealign -c MLEfit.c -o MLEfit.o
In file included from MLEfit.c:44:
hmmHeader.h:301:16: warning: 'expSum' defined but not used [-Wunused-function]
static double expSum(double *logValues, int length) {
^~~~~~
hmmHeader.h:281:16: warning: 'MargainalizeSumLogProbOver' defined but not used [-Wunused-function]
static double MargainalizeSumLogProbOver(int state, int position,
^~~~~~~~~~~~~~~~~~~~~~~~~~
"C:/rtools40/mingw64/bin/"gcc -I"C:/Users/BIOCBU~1/BBS-3~1.13-/R/include" -DNDEBUG -I"C:/extsoft/include" -O2 -Wall -std=gnu99 -mfpmath=sse -msse2 -mstackrealign -c RegisterRRoutines.c -o RegisterRRoutines.o
"C:/rtools40/mingw64/bin/"gcc -I"C:/Users/BIOCBU~1/BBS-3~1.13-/R/include" -DNDEBUG -I"C:/extsoft/include" -O2 -Wall -std=gnu99 -mfpmath=sse -msse2 -mstackrealign -c Windowing.c -o Windowing.o
Windowing.c: In function 'WindowAnalysis':
Windowing.c:147:6: warning: unused variable 'II' [-Wunused-variable]
int II = 0;
^~
"C:/rtools40/mingw64/bin/"gcc -I"C:/Users/BIOCBU~1/BBS-3~1.13-/R/include" -DNDEBUG -I"C:/extsoft/include" -O2 -Wall -std=gnu99 -mfpmath=sse -msse2 -mstackrealign -c hmmEM.c -o hmmEM.o
In file included from hmmEM.c:51:
hmmHeader.h:301:16: warning: 'expSum' defined but not used [-Wunused-function]
static double expSum(double *logValues, int length) {
^~~~~~
hmmHeader.h:281:16: warning: 'MargainalizeSumLogProbOver' defined but not used [-Wunused-function]
static double MargainalizeSumLogProbOver(int state, int position,
^~~~~~~~~~~~~~~~~~~~~~~~~~
In file included from hmmHeader.h:36,
from hmmEM.c:51:
UsefulValues.h:39:15: warning: 'VERY_LARGE_DOUBLE_VALUE' defined but not used [-Wunused-variable]
static double VERY_LARGE_DOUBLE_VALUE = 1e20;
^~~~~~~~~~~~~~~~~~~~~~~
"C:/rtools40/mingw64/bin/"gcc -I"C:/Users/BIOCBU~1/BBS-3~1.13-/R/include" -DNDEBUG -I"C:/extsoft/include" -O2 -Wall -std=gnu99 -mfpmath=sse -msse2 -mstackrealign -c hmmFwBw.c -o hmmFwBw.o
hmmFwBw.c: In function 'forward':
hmmFwBw.c:143:7: warning: this 'for' clause does not guard... [-Wmisleading-indentation]
for(k=1; k<n; k++)
^~~
hmmFwBw.c:146:9: note: ...this statement, but the latter is misleadingly indented as if it were guarded by the 'for'
for (k = 0; k<n; k++) {
^~~
In file included from hmmFwBw.c:46:
At top level:
hmmHeader.h:301:16: warning: 'expSum' defined but not used [-Wunused-function]
static double expSum(double *logValues, int length) {
^~~~~~
hmmHeader.h:281:16: warning: 'MargainalizeSumLogProbOver' defined but not used [-Wunused-function]
static double MargainalizeSumLogProbOver(int state, int position,
^~~~~~~~~~~~~~~~~~~~~~~~~~
In file included from hmmHeader.h:36,
from hmmFwBw.c:46:
UsefulValues.h:39:15: warning: 'VERY_LARGE_DOUBLE_VALUE' defined but not used [-Wunused-variable]
static double VERY_LARGE_DOUBLE_VALUE = 1e20;
^~~~~~~~~~~~~~~~~~~~~~~
"C:/rtools40/mingw64/bin/"gcc -I"C:/Users/BIOCBU~1/BBS-3~1.13-/R/include" -DNDEBUG -I"C:/extsoft/include" -O2 -Wall -std=gnu99 -mfpmath=sse -msse2 -mstackrealign -c hmmMiscFunctions.c -o hmmMiscFunctions.o
hmmMiscFunctions.c: In function 'SStatsNormExp':
hmmMiscFunctions.c:385:10: warning: unused variable 'wi' [-Wunused-variable]
double wi, *newEx;
^~
hmmMiscFunctions.c: In function 'UpdateNormExp':
hmmMiscFunctions.c:418:10: warning: unused variable 'epsilon' [-Wunused-variable]
double epsilon=0.00001;
^~~~~~~
In file included from hmmHeader.h:36,
from hmmMiscFunctions.c:44:
At top level:
UsefulValues.h:39:15: warning: 'VERY_LARGE_DOUBLE_VALUE' defined but not used [-Wunused-variable]
static double VERY_LARGE_DOUBLE_VALUE = 1e20;
^~~~~~~~~~~~~~~~~~~~~~~
"C:/rtools40/mingw64/bin/"gcc -I"C:/Users/BIOCBU~1/BBS-3~1.13-/R/include" -DNDEBUG -I"C:/extsoft/include" -O2 -Wall -std=gnu99 -mfpmath=sse -msse2 -mstackrealign -c hmmViterbi.c -o hmmViterbi.o
In file included from hmmViterbi.c:49:
hmmHeader.h:301:16: warning: 'expSum' defined but not used [-Wunused-function]
static double expSum(double *logValues, int length) {
^~~~~~
hmmHeader.h:281:16: warning: 'MargainalizeSumLogProbOver' defined but not used [-Wunused-function]
static double MargainalizeSumLogProbOver(int state, int position,
^~~~~~~~~~~~~~~~~~~~~~~~~~
In file included from hmmHeader.h:36,
from hmmViterbi.c:49:
UsefulValues.h:39:15: warning: 'VERY_LARGE_DOUBLE_VALUE' defined but not used [-Wunused-variable]
static double VERY_LARGE_DOUBLE_VALUE = 1e20;
^~~~~~~~~~~~~~~~~~~~~~~
C:/rtools40/mingw64/bin/gcc -shared -s -static-libgcc -o groHMM.dll tmp.def AnnotateProbes.o DecayAlgorithm.o MLEfit.o RegisterRRoutines.o Windowing.o hmmEM.o hmmFwBw.o hmmMiscFunctions.o hmmViterbi.o -LC:/extsoft/lib/x64 -LC:/extsoft/lib -LC:/Users/BIOCBU~1/BBS-3~1.13-/R/bin/x64 -lR
installing to C:/Users/biocbuild/bbs-3.13-bioc/meat/groHMM.buildbin-libdir/groHMM/libs/x64
** testing if installed package can be loaded
* MD5 sums
packaged installation of 'groHMM' as groHMM_1.26.0.zip
* DONE (groHMM)
* installing to library 'C:/Users/biocbuild/bbs-3.13-bioc/R/library'
package 'groHMM' successfully unpacked and MD5 sums checked