| Back to Multiple platform build/check report for BioC 3.13 |
|
This page was generated on 2021-10-15 15:06:07 -0400 (Fri, 15 Oct 2021).
|
To the developers/maintainers of the graphite package: - Please allow up to 24 hours (and sometimes 48 hours) for your latest push to git@git.bioconductor.org:packages/graphite.git to reflect on this report. See How and When does the builder pull? When will my changes propagate? here for more information. - Make sure to use the following settings in order to reproduce any error or warning you see on this page. |
| Package 808/2041 | Hostname | OS / Arch | INSTALL | BUILD | CHECK | BUILD BIN | ||||||||
| graphite 1.38.0 (landing page) Gabriele Sales
| nebbiolo1 | Linux (Ubuntu 20.04.2 LTS) / x86_64 | OK | OK | OK | |||||||||
| tokay2 | Windows Server 2012 R2 Standard / x64 | OK | OK | OK | OK | |||||||||
| machv2 | macOS 10.14.6 Mojave / x86_64 | OK | OK | OK | OK | |||||||||
| Package: graphite |
| Version: 1.38.0 |
| Command: rm -rf graphite.buildbin-libdir && mkdir graphite.buildbin-libdir && C:\Users\biocbuild\bbs-3.13-bioc\R\bin\R.exe CMD INSTALL --merge-multiarch --build --library=graphite.buildbin-libdir graphite_1.38.0.tar.gz |
| StartedAt: 2021-10-15 09:41:22 -0400 (Fri, 15 Oct 2021) |
| EndedAt: 2021-10-15 09:42:43 -0400 (Fri, 15 Oct 2021) |
| EllapsedTime: 81.4 seconds |
| RetCode: 0 |
| Status: OK |
| PackageFile: graphite_1.38.0.zip |
| PackageFileSize: 887.9 KiB |
##############################################################################
##############################################################################
###
### Running command:
###
### rm -rf graphite.buildbin-libdir && mkdir graphite.buildbin-libdir && C:\Users\biocbuild\bbs-3.13-bioc\R\bin\R.exe CMD INSTALL --merge-multiarch --build --library=graphite.buildbin-libdir graphite_1.38.0.tar.gz
###
##############################################################################
##############################################################################
install for i386
* installing *source* package 'graphite' ...
** using staged installation
** R
** inst
** byte-compile and prepare package for lazy loading
** help
*** installing help indices
converting help for package 'graphite'
finding HTML links ... done
Pathway-class html
PathwayList-class html
Pathways-class html
as.list.PathwayList html
buildPathway html
convertIdentifiers html
cytoscapePlot html
finding level-2 HTML links ... done
pathwayDatabases html
pathwayGraph html
pathways html
prepareSPIA html
runClipper html
runSPIA html
runTopologyGSA html
** building package indices
** installing vignettes
** testing if installed package can be loaded from temporary location
** testing if installed package can be loaded from final location
** testing if installed package keeps a record of temporary installation path
install for x64
* installing *source* package 'graphite' ...
** testing if installed package can be loaded
* MD5 sums
packaged installation of 'graphite' as graphite_1.38.0.zip
* DONE (graphite)