| Back to Multiple platform build/check report for BioC 3.13 |
|
This page was generated on 2021-10-15 15:06:06 -0400 (Fri, 15 Oct 2021).
|
To the developers/maintainers of the globalSeq package: - Please allow up to 24 hours (and sometimes 48 hours) for your latest push to git@git.bioconductor.org:packages/globalSeq.git to reflect on this report. See How and When does the builder pull? When will my changes propagate? here for more information. - Make sure to use the following settings in order to reproduce any error or warning you see on this page. |
| Package 778/2041 | Hostname | OS / Arch | INSTALL | BUILD | CHECK | BUILD BIN | ||||||||
| globalSeq 1.20.0 (landing page) Armin Rauschenberger
| nebbiolo1 | Linux (Ubuntu 20.04.2 LTS) / x86_64 | OK | OK | OK | |||||||||
| tokay2 | Windows Server 2012 R2 Standard / x64 | OK | OK | OK | OK | |||||||||
| machv2 | macOS 10.14.6 Mojave / x86_64 | OK | OK | OK | OK | |||||||||
| Package: globalSeq |
| Version: 1.20.0 |
| Command: rm -rf globalSeq.buildbin-libdir && mkdir globalSeq.buildbin-libdir && C:\Users\biocbuild\bbs-3.13-bioc\R\bin\R.exe CMD INSTALL --merge-multiarch --build --library=globalSeq.buildbin-libdir globalSeq_1.20.0.tar.gz |
| StartedAt: 2021-10-15 09:37:28 -0400 (Fri, 15 Oct 2021) |
| EndedAt: 2021-10-15 09:38:51 -0400 (Fri, 15 Oct 2021) |
| EllapsedTime: 82.7 seconds |
| RetCode: 0 |
| Status: OK |
| PackageFile: globalSeq_1.20.0.zip |
| PackageFileSize: 732.9 KiB |
##############################################################################
##############################################################################
###
### Running command:
###
### rm -rf globalSeq.buildbin-libdir && mkdir globalSeq.buildbin-libdir && C:\Users\biocbuild\bbs-3.13-bioc\R\bin\R.exe CMD INSTALL --merge-multiarch --build --library=globalSeq.buildbin-libdir globalSeq_1.20.0.tar.gz
###
##############################################################################
##############################################################################
install for i386
* installing *source* package 'globalSeq' ...
** using staged installation
** R
** data
*** moving datasets to lazyload DB
** inst
** byte-compile and prepare package for lazy loading
** help
*** installing help indices
converting help for package 'globalSeq'
finding HTML links ... done
cursus html
globalSeq-package html
intern.chromo html
intern.crude html
intern.estim html
intern.matrix html
intern.permu html
intern.plot html
intern.sam html
intern.score html
intern.select html
internal html
omnibus html
proprius html
toydata html
** building package indices
** installing vignettes
** testing if installed package can be loaded from temporary location
** testing if installed package can be loaded from final location
** testing if installed package keeps a record of temporary installation path
install for x64
* installing *source* package 'globalSeq' ...
** testing if installed package can be loaded
* MD5 sums
packaged installation of 'globalSeq' as globalSeq_1.20.0.zip
* DONE (globalSeq)