| Back to Multiple platform build/check report for BioC 3.13 |
|
This page was generated on 2021-10-15 15:06:06 -0400 (Fri, 15 Oct 2021).
|
To the developers/maintainers of the ggtreeExtra package: - Please allow up to 24 hours (and sometimes 48 hours) for your latest push to git@git.bioconductor.org:packages/ggtreeExtra.git to reflect on this report. See How and When does the builder pull? When will my changes propagate? here for more information. - Make sure to use the following settings in order to reproduce any error or warning you see on this page. |
| Package 768/2041 | Hostname | OS / Arch | INSTALL | BUILD | CHECK | BUILD BIN | ||||||||
| ggtreeExtra 1.2.3 (landing page) Shuangbin Xu
| nebbiolo1 | Linux (Ubuntu 20.04.2 LTS) / x86_64 | OK | OK | OK | |||||||||
| tokay2 | Windows Server 2012 R2 Standard / x64 | OK | OK | OK | OK | |||||||||
| machv2 | macOS 10.14.6 Mojave / x86_64 | OK | OK | OK | OK | |||||||||
| Package: ggtreeExtra |
| Version: 1.2.3 |
| Command: rm -rf ggtreeExtra.buildbin-libdir && mkdir ggtreeExtra.buildbin-libdir && C:\Users\biocbuild\bbs-3.13-bioc\R\bin\R.exe CMD INSTALL --merge-multiarch --build --library=ggtreeExtra.buildbin-libdir ggtreeExtra_1.2.3.tar.gz |
| StartedAt: 2021-10-15 09:36:15 -0400 (Fri, 15 Oct 2021) |
| EndedAt: 2021-10-15 09:37:45 -0400 (Fri, 15 Oct 2021) |
| EllapsedTime: 89.4 seconds |
| RetCode: 0 |
| Status: OK |
| PackageFile: ggtreeExtra_1.2.3.zip |
| PackageFileSize: 353 KiB |
##############################################################################
##############################################################################
###
### Running command:
###
### rm -rf ggtreeExtra.buildbin-libdir && mkdir ggtreeExtra.buildbin-libdir && C:\Users\biocbuild\bbs-3.13-bioc\R\bin\R.exe CMD INSTALL --merge-multiarch --build --library=ggtreeExtra.buildbin-libdir ggtreeExtra_1.2.3.tar.gz
###
##############################################################################
##############################################################################
install for i386
* installing *source* package 'ggtreeExtra' ...
** using staged installation
** R
** inst
** byte-compile and prepare package for lazy loading
** help
*** installing help indices
converting help for package 'ggtreeExtra'
finding HTML links ... done
PositionJitterdodgex html
PositionJitterx html
geom_fruit html
geom_fruit_list html
ggplot2-ggproto html
position_dodgex html
position_identityx html
position_jitterdodgex html
position_jitterx html
position_points_jitterx html
finding level-2 HTML links ... done
position_points_sinax html
position_raincloudx html
position_stackx html
reexports html
** building package indices
** installing vignettes
** testing if installed package can be loaded from temporary location
** testing if installed package can be loaded from final location
** testing if installed package keeps a record of temporary installation path
install for x64
* installing *source* package 'ggtreeExtra' ...
** testing if installed package can be loaded
* MD5 sums
packaged installation of 'ggtreeExtra' as ggtreeExtra_1.2.3.zip
* DONE (ggtreeExtra)