| Back to Multiple platform build/check report for BioC 3.13 |
|
This page was generated on 2021-10-15 15:06:06 -0400 (Fri, 15 Oct 2021).
|
To the developers/maintainers of the ggcyto package: - Please allow up to 24 hours (and sometimes 48 hours) for your latest push to git@git.bioconductor.org:packages/ggcyto.git to reflect on this report. See How and When does the builder pull? When will my changes propagate? here for more information. - Make sure to use the following settings in order to reproduce any error or warning you see on this page. |
| Package 765/2041 | Hostname | OS / Arch | INSTALL | BUILD | CHECK | BUILD BIN | ||||||||
| ggcyto 1.20.0 (landing page) Mike Jiang
| nebbiolo1 | Linux (Ubuntu 20.04.2 LTS) / x86_64 | OK | OK | OK | |||||||||
| tokay2 | Windows Server 2012 R2 Standard / x64 | OK | OK | OK | OK | |||||||||
| machv2 | macOS 10.14.6 Mojave / x86_64 | OK | OK | OK | OK | |||||||||
| Package: ggcyto |
| Version: 1.20.0 |
| Command: C:\Users\biocbuild\bbs-3.13-bioc\R\bin\R.exe CMD check --force-multiarch --install=check:ggcyto.install-out.txt --library=C:\Users\biocbuild\bbs-3.13-bioc\R\library --no-vignettes --timings ggcyto_1.20.0.tar.gz |
| StartedAt: 2021-10-14 23:48:07 -0400 (Thu, 14 Oct 2021) |
| EndedAt: 2021-10-14 23:52:26 -0400 (Thu, 14 Oct 2021) |
| EllapsedTime: 258.8 seconds |
| RetCode: 0 |
| Status: OK |
| CheckDir: ggcyto.Rcheck |
| Warnings: 0 |
##############################################################################
##############################################################################
###
### Running command:
###
### C:\Users\biocbuild\bbs-3.13-bioc\R\bin\R.exe CMD check --force-multiarch --install=check:ggcyto.install-out.txt --library=C:\Users\biocbuild\bbs-3.13-bioc\R\library --no-vignettes --timings ggcyto_1.20.0.tar.gz
###
##############################################################################
##############################################################################
* using log directory 'C:/Users/biocbuild/bbs-3.13-bioc/meat/ggcyto.Rcheck'
* using R version 4.1.1 (2021-08-10)
* using platform: x86_64-w64-mingw32 (64-bit)
* using session charset: ISO8859-1
* using option '--no-vignettes'
* checking for file 'ggcyto/DESCRIPTION' ... OK
* checking extension type ... Package
* this is package 'ggcyto' version '1.20.0'
* checking package namespace information ... OK
* checking package dependencies ... OK
* checking if this is a source package ... OK
* checking if there is a namespace ... OK
* checking for hidden files and directories ... NOTE
Found the following hidden files and directories:
.travis.yml
These were most likely included in error. See section 'Package
structure' in the 'Writing R Extensions' manual.
* checking for portable file names ... NOTE
Found the following non-portable file path:
ggcyto/docs/articles/advanced/ggplot.flowSet.overlay_files/accessible-code-block-0.0.1/empty-anchor.js
Tarballs are only required to store paths of up to 100 bytes and cannot
store those of more than 256 bytes, with restrictions including to 100
bytes for the final component.
See section 'Package structure' in the 'Writing R Extensions' manual.
* checking whether package 'ggcyto' can be installed ... OK
* checking installed package size ... OK
* checking package directory ... OK
* checking 'build' directory ... OK
* checking DESCRIPTION meta-information ... OK
* checking top-level files ... OK
* checking for left-over files ... OK
* checking index information ... OK
* checking package subdirectories ... OK
* checking R files for non-ASCII characters ... OK
* checking R files for syntax errors ... OK
* loading checks for arch 'i386'
** checking whether the package can be loaded ... OK
** checking whether the package can be loaded with stated dependencies ... OK
** checking whether the package can be unloaded cleanly ... OK
** checking whether the namespace can be loaded with stated dependencies ... OK
** checking whether the namespace can be unloaded cleanly ... OK
* loading checks for arch 'x64'
** checking whether the package can be loaded ... OK
** checking whether the package can be loaded with stated dependencies ... OK
** checking whether the package can be unloaded cleanly ... OK
** checking whether the namespace can be loaded with stated dependencies ... OK
** checking whether the namespace can be unloaded cleanly ... OK
* checking dependencies in R code ... NOTE
Namespace in Imports field not imported from: 'scales'
All declared Imports should be used.
':::' call which should be '::': 'flowWorkspace:::gh_pop_is_negated'
See the note in ?`:::` about the use of this operator.
Unexported objects imported by ':::' calls:
'flowWorkspace:::.mergeGates' 'flowWorkspace:::compact'
'flowWorkspace:::fix_y_axis' 'ggplot2:::+.gg' 'ggplot2:::add_group'
'ggplot2:::as_gg_data_frame' 'ggplot2:::check_aesthetics'
'ggplot2:::hex_binwidth' 'ggplot2:::is.waive'
'ggplot2:::is_calculated_aes' 'ggplot2:::make_labels'
'ggplot2:::make_scale' 'ggplot2:::plot_clone'
'ggplot2:::print.ggplot' 'ggplot2:::scales_add_defaults'
'ggplot2:::scales_list'
See the note in ?`:::` about the use of this operator.
* checking S3 generic/method consistency ... OK
* checking replacement functions ... OK
* checking foreign function calls ... OK
* checking R code for possible problems ... NOTE
.fs2dt: no visible binding for global variable 'name'
add_ggcyto: no visible binding for global variable 'name'
add_ggcyto: no visible global function definition for 'modifyList'
add_ggcyto: no visible binding for global variable 'axis'
add_ggcyto: no visible binding for global variable 'desc'
add_par: no visible global function definition for 'modifyList'
as.ggplot: no visible binding for global variable 'axis'
as.ggplot: no visible binding for global variable 'name'
as.ggplot : <anonymous>: no visible binding for global variable 'axis'
as.ggplot : <anonymous>: no visible binding for global variable 'name'
as.ggplot: no visible binding for global variable 'count'
as.ggplot: no visible global function definition for 'densCols'
as.ggplot: no visible global function definition for 'colorRampPalette'
as.ggplot: no visible binding for global variable 'density'
autoplot.GatingHierarchy : <anonymous>: no visible global function
definition for 'gray'
autoplot.GatingSetList: no visible global function definition for
'getS3method'
autoplot.ncdfFlowList: no visible global function definition for
'getS3method'
density_fr_all : <anonymous>: no visible global function definition for
'gray'
fortify.GatingSetList: no visible global function definition for
'getS3method'
fortify.ncdfFlowList: no visible global function definition for
'getS3method'
fortify_fs.GatingSetList: no visible global function definition for
'getS3method'
getFlowFrame.GatingSetList: no visible global function definition for
'getS3method'
getFlowFrame.ncdfFlowList: no visible global function definition for
'getS3method'
ggcyto.GatingSetList: no visible global function definition for
'getS3method'
ggcyto.flowSet: no visible binding for global variable 'name'
ggcyto.flowSet: no visible binding for global variable 'axis'
ggcyto.ncdfFlowList: no visible global function definition for
'getS3method'
ggcyto_arrange: no visible binding for global variable 'name'
stat_position.filter: no visible global function definition for
'setNames'
Undefined global functions or variables:
axis colorRampPalette count densCols density desc getS3method gray
modifyList name setNames
Consider adding
importFrom("grDevices", "colorRampPalette", "densCols", "gray")
importFrom("graphics", "axis")
importFrom("stats", "density", "setNames")
importFrom("utils", "getS3method", "modifyList")
to your NAMESPACE file.
* checking Rd files ... OK
* checking Rd metadata ... OK
* checking Rd cross-references ... OK
* checking for missing documentation entries ... OK
* checking for code/documentation mismatches ... OK
* checking Rd \usage sections ... OK
* checking Rd contents ... OK
* checking for unstated dependencies in examples ... OK
* checking files in 'vignettes' ... OK
* checking examples ...
** running examples for arch 'i386' ... OK
Examples with CPU (user + system) or elapsed time > 5s
user system elapsed
ggcyto 9.50 0.50 9.98
autoplot 7.77 0.28 8.04
ggcyto_add 6.71 0.22 6.92
** running examples for arch 'x64' ... OK
Examples with CPU (user + system) or elapsed time > 5s
user system elapsed
ggcyto 9.88 0.29 10.16
autoplot 9.29 0.40 9.69
ggcyto_add 7.25 0.10 7.33
* checking for unstated dependencies in 'tests' ... OK
* checking tests ...
** running tests for arch 'i386' ...
Running 'testthat.R'
OK
** running tests for arch 'x64' ...
Running 'testthat.R'
OK
* checking for unstated dependencies in vignettes ... OK
* checking package vignettes in 'inst/doc' ... OK
* checking running R code from vignettes ... SKIPPED
* checking re-building of vignette outputs ... SKIPPED
* checking PDF version of manual ... OK
* DONE
Status: 4 NOTEs
See
'C:/Users/biocbuild/bbs-3.13-bioc/meat/ggcyto.Rcheck/00check.log'
for details.
ggcyto.Rcheck/00install.out
##############################################################################
##############################################################################
###
### Running command:
###
### C:\cygwin\bin\curl.exe -O http://155.52.207.165/BBS/3.13/bioc/src/contrib/ggcyto_1.20.0.tar.gz && rm -rf ggcyto.buildbin-libdir && mkdir ggcyto.buildbin-libdir && C:\Users\biocbuild\bbs-3.13-bioc\R\bin\R.exe CMD INSTALL --merge-multiarch --build --library=ggcyto.buildbin-libdir ggcyto_1.20.0.tar.gz && C:\Users\biocbuild\bbs-3.13-bioc\R\bin\R.exe CMD INSTALL ggcyto_1.20.0.zip && rm ggcyto_1.20.0.tar.gz ggcyto_1.20.0.zip
###
##############################################################################
##############################################################################
% Total % Received % Xferd Average Speed Time Time Time Current
Dload Upload Total Spent Left Speed
0 0 0 0 0 0 0 0 --:--:-- --:--:-- --:--:-- 0
0 14.1M 0 36474 0 0 260k 0 0:00:55 --:--:-- 0:00:55 259k
11 14.1M 11 1646k 0 0 1424k 0 0:00:10 0:00:01 0:00:09 1424k
29 14.1M 29 4288k 0 0 1987k 0 0:00:07 0:00:02 0:00:05 1987k
52 14.1M 52 7613k 0 0 2421k 0 0:00:05 0:00:03 0:00:02 2421k
81 14.1M 81 11.4M 0 0 2839k 0 0:00:05 0:00:04 0:00:01 2839k
100 14.1M 100 14.1M 0 0 3055k 0 0:00:04 0:00:04 --:--:-- 3138k
install for i386
* installing *source* package 'ggcyto' ...
** using staged installation
** R
** inst
** byte-compile and prepare package for lazy loading
** help
*** installing help indices
converting help for package 'ggcyto'
finding HTML links ... done
as.ggplot html
autoplot html
finding level-2 HTML links ... done
axis_x_inverse_trans html
compute_stats html
flowCore_asinht_trans html
fortify.ellipsoidGate html
fortify.filterList html
fortify.flowSet html
fortify.polygonGate html
fortify.rectangleGate html
fortify_fs html
gate_null html
geom_gate html
geom_hvline html
geom_overlay html
geom_stats html
getFlowFrame html
ggcyto html
ggcyto_add html
ggcyto_arrange html
ggcyto_par_default html
ggcyto_par_set html
is.ggcyto html
is.ggcyto_flowSet html
is.ggcyto_par html
labs_cyto html
marginalFilter html
merge.quad.gates html
print.ggcyto html
print.ggcyto_GatingLayout html
replace_data html
scale_x_flowCore_fasinh html
scale_x_logicle html
scales_flowjo_biexp html
REDIRECT:topic Previous alias or file overwritten by alias: C:/Users/biocbuild/bbs-3.13-bioc/meat/ggcyto.buildbin-libdir/00LOCK-ggcyto/00new/ggcyto/help/scale_x_flowJo_biexp.html
REDIRECT:topic Previous alias or file overwritten by alias: C:/Users/biocbuild/bbs-3.13-bioc/meat/ggcyto.buildbin-libdir/00LOCK-ggcyto/00new/ggcyto/help/scale_y_flowJo_biexp.html
scales_flowjo_fasinh html
REDIRECT:topic Previous alias or file overwritten by alias: C:/Users/biocbuild/bbs-3.13-bioc/meat/ggcyto.buildbin-libdir/00LOCK-ggcyto/00new/ggcyto/help/scale_x_flowJo_fasinh.html
REDIRECT:topic Previous alias or file overwritten by alias: C:/Users/biocbuild/bbs-3.13-bioc/meat/ggcyto.buildbin-libdir/00LOCK-ggcyto/00new/ggcyto/help/scale_y_flowJo_fasinh.html
stat_position html
stats_null html
transform-gate html
*** copying figures
** building package indices
** installing vignettes
** testing if installed package can be loaded from temporary location
** testing if installed package can be loaded from final location
** testing if installed package keeps a record of temporary installation path
install for x64
* installing *source* package 'ggcyto' ...
** testing if installed package can be loaded
* MD5 sums
packaged installation of 'ggcyto' as ggcyto_1.20.0.zip
* DONE (ggcyto)
* installing to library 'C:/Users/biocbuild/bbs-3.13-bioc/R/library'
package 'ggcyto' successfully unpacked and MD5 sums checked
|
ggcyto.Rcheck/tests_i386/testthat.Rout
R version 4.1.1 (2021-08-10) -- "Kick Things"
Copyright (C) 2021 The R Foundation for Statistical Computing
Platform: i386-w64-mingw32/i386 (32-bit)
R is free software and comes with ABSOLUTELY NO WARRANTY.
You are welcome to redistribute it under certain conditions.
Type 'license()' or 'licence()' for distribution details.
R is a collaborative project with many contributors.
Type 'contributors()' for more information and
'citation()' on how to cite R or R packages in publications.
Type 'demo()' for some demos, 'help()' for on-line help, or
'help.start()' for an HTML browser interface to help.
Type 'q()' to quit R.
> library(testthat)
> library(ggcyto)
Loading required package: ggplot2
Loading required package: flowCore
Loading required package: ncdfFlow
Loading required package: RcppArmadillo
Loading required package: BH
Loading required package: flowWorkspace
As part of improvements to flowWorkspace, some behavior of
GatingSet objects has changed. For details, please read the section
titled "The cytoframe and cytoset classes" in the package vignette:
vignette("flowWorkspace-Introduction", "flowWorkspace")
> library(vdiffr)
>
> test_check("ggcyto")
Coordinate system already present. Adding new coordinate system, which will replace the existing one.
`stat_bin()` using `bins = 30`. Pick better value with `binwidth`.
== Skipped tests ===============================================================
* On CRAN (6)
[ FAIL 0 | WARN 0 | SKIP 6 | PASS 1 ]
There were 36 warnings (use warnings() to see them)
>
> proc.time()
user system elapsed
10.21 0.78 12.40
|
ggcyto.Rcheck/tests_x64/testthat.Rout
R version 4.1.1 (2021-08-10) -- "Kick Things"
Copyright (C) 2021 The R Foundation for Statistical Computing
Platform: x86_64-w64-mingw32/x64 (64-bit)
R is free software and comes with ABSOLUTELY NO WARRANTY.
You are welcome to redistribute it under certain conditions.
Type 'license()' or 'licence()' for distribution details.
R is a collaborative project with many contributors.
Type 'contributors()' for more information and
'citation()' on how to cite R or R packages in publications.
Type 'demo()' for some demos, 'help()' for on-line help, or
'help.start()' for an HTML browser interface to help.
Type 'q()' to quit R.
> library(testthat)
> library(ggcyto)
Loading required package: ggplot2
Loading required package: flowCore
Loading required package: ncdfFlow
Loading required package: RcppArmadillo
Loading required package: BH
Loading required package: flowWorkspace
As part of improvements to flowWorkspace, some behavior of
GatingSet objects has changed. For details, please read the section
titled "The cytoframe and cytoset classes" in the package vignette:
vignette("flowWorkspace-Introduction", "flowWorkspace")
> library(vdiffr)
>
> test_check("ggcyto")
Coordinate system already present. Adding new coordinate system, which will replace the existing one.
`stat_bin()` using `bins = 30`. Pick better value with `binwidth`.
== Skipped tests ===============================================================
* On CRAN (6)
[ FAIL 0 | WARN 0 | SKIP 6 | PASS 1 ]
There were 36 warnings (use warnings() to see them)
>
> proc.time()
user system elapsed
10.60 0.68 12.81
|
|
ggcyto.Rcheck/examples_i386/ggcyto-Ex.timings
|
ggcyto.Rcheck/examples_x64/ggcyto-Ex.timings
|