| Back to Multiple platform build/check report for BioC 3.13 | 
 | 
This page was generated on 2021-10-15 15:06:06 -0400 (Fri, 15 Oct 2021).
| To the developers/maintainers of the geva package: - Please allow up to 24 hours (and sometimes 48 hours) for your latest push to git@git.bioconductor.org:packages/geva.git to reflect on this report. See How and When does the builder pull? When will my changes propagate? here for more information. - Make sure to use the following settings in order to reproduce any error or warning you see on this page. | 
| Package 762/2041 | Hostname | OS / Arch | INSTALL | BUILD | CHECK | BUILD BIN | ||||||||
| geva 1.0.0  (landing page) Itamar José Guimarães Nunes 
 | nebbiolo1 | Linux (Ubuntu 20.04.2 LTS) / x86_64 | OK | OK | OK |  | ||||||||
| tokay2 | Windows Server 2012 R2 Standard / x64 | OK | OK | OK | OK |  | ||||||||
| machv2 | macOS 10.14.6 Mojave / x86_64 | OK | OK | OK | OK |  | ||||||||
| Package: geva | 
| Version: 1.0.0 | 
| Command: C:\Users\biocbuild\bbs-3.13-bioc\R\bin\R.exe CMD check --force-multiarch --install=check:geva.install-out.txt --library=C:\Users\biocbuild\bbs-3.13-bioc\R\library --no-vignettes --timings geva_1.0.0.tar.gz | 
| StartedAt: 2021-10-14 23:46:15 -0400 (Thu, 14 Oct 2021) | 
| EndedAt: 2021-10-14 23:52:35 -0400 (Thu, 14 Oct 2021) | 
| EllapsedTime: 379.5 seconds | 
| RetCode: 0 | 
| Status: OK | 
| CheckDir: geva.Rcheck | 
| Warnings: 0 | 
##############################################################################
##############################################################################
###
### Running command:
###
###   C:\Users\biocbuild\bbs-3.13-bioc\R\bin\R.exe CMD check --force-multiarch --install=check:geva.install-out.txt --library=C:\Users\biocbuild\bbs-3.13-bioc\R\library --no-vignettes --timings geva_1.0.0.tar.gz
###
##############################################################################
##############################################################################
* using log directory 'C:/Users/biocbuild/bbs-3.13-bioc/meat/geva.Rcheck'
* using R version 4.1.1 (2021-08-10)
* using platform: x86_64-w64-mingw32 (64-bit)
* using session charset: ISO8859-1
* using option '--no-vignettes'
* checking for file 'geva/DESCRIPTION' ... OK
* checking extension type ... Package
* this is package 'geva' version '1.0.0'
* package encoding: UTF-8
* checking package namespace information ... OK
* checking package dependencies ... OK
* checking if this is a source package ... OK
* checking if there is a namespace ... OK
* checking for hidden files and directories ... OK
* checking for portable file names ... OK
* checking whether package 'geva' can be installed ... OK
* checking installed package size ... OK
* checking package directory ... OK
* checking 'build' directory ... OK
* checking DESCRIPTION meta-information ... OK
* checking top-level files ... OK
* checking for left-over files ... OK
* checking index information ... OK
* checking package subdirectories ... OK
* checking R files for non-ASCII characters ... OK
* checking R files for syntax errors ... OK
* loading checks for arch 'i386'
** checking whether the package can be loaded ... OK
** checking whether the package can be loaded with stated dependencies ... OK
** checking whether the package can be unloaded cleanly ... OK
** checking whether the namespace can be loaded with stated dependencies ... OK
** checking whether the namespace can be unloaded cleanly ... OK
* loading checks for arch 'x64'
** checking whether the package can be loaded ... OK
** checking whether the package can be loaded with stated dependencies ... OK
** checking whether the package can be unloaded cleanly ... OK
** checking whether the namespace can be loaded with stated dependencies ... OK
** checking whether the namespace can be unloaded cleanly ... OK
* checking dependencies in R code ... OK
* checking S3 generic/method consistency ... OK
* checking replacement functions ... OK
* checking foreign function calls ... OK
* checking R code for possible problems ... OK
* checking Rd files ... OK
* checking Rd metadata ... OK
* checking Rd cross-references ... OK
* checking for missing documentation entries ... OK
* checking for code/documentation mismatches ... OK
* checking Rd \usage sections ... OK
* checking Rd contents ... OK
* checking for unstated dependencies in examples ... OK
* checking installed files from 'inst/doc' ... OK
* checking files in 'vignettes' ... OK
* checking examples ...
** running examples for arch 'i386' ... OK
Examples with CPU (user + system) or elapsed time > 5s
               user system elapsed
geva.quick    39.77   0.03   39.80
geva.finalize 19.11   0.00   19.11
top.genes     18.26   0.00   18.26
geva.hcluster  7.11   0.02    7.13
geva.cluster   6.47   0.26    6.74
** running examples for arch 'x64' ... OK
Examples with CPU (user + system) or elapsed time > 5s
               user system elapsed
geva.quick    48.74   0.10   48.83
geva.finalize 22.30   0.03   22.33
top.genes     21.41   0.03   21.44
geva.hcluster  6.89   0.03    6.92
geva.cluster   6.45   0.30    6.75
* checking for unstated dependencies in 'tests' ... OK
* checking tests ...
** running tests for arch 'i386' ...
  Running 'testthat.R'
 OK
** running tests for arch 'x64' ...
  Running 'testthat.R'
 OK
* checking for unstated dependencies in vignettes ... OK
* checking package vignettes in 'inst/doc' ... OK
* checking running R code from vignettes ... SKIPPED
* checking re-building of vignette outputs ... SKIPPED
* checking PDF version of manual ... OK
* DONE
Status: OK
geva.Rcheck/00install.out
##############################################################################
##############################################################################
###
### Running command:
###
###   C:\cygwin\bin\curl.exe -O http://155.52.207.165/BBS/3.13/bioc/src/contrib/geva_1.0.0.tar.gz && rm -rf geva.buildbin-libdir && mkdir geva.buildbin-libdir && C:\Users\biocbuild\bbs-3.13-bioc\R\bin\R.exe CMD INSTALL --merge-multiarch --build --library=geva.buildbin-libdir geva_1.0.0.tar.gz && C:\Users\biocbuild\bbs-3.13-bioc\R\bin\R.exe CMD INSTALL geva_1.0.0.zip && rm geva_1.0.0.tar.gz geva_1.0.0.zip
###
##############################################################################
##############################################################################
  % Total    % Received % Xferd  Average Speed   Time    Time     Time  Current
                                 Dload  Upload   Total   Spent    Left  Speed
  0     0    0     0    0     0      0      0 --:--:-- --:--:-- --:--:--     0
 24  409k   24   98k    0     0   497k      0 --:--:-- --:--:-- --:--:--  497k
100  409k  100  409k    0     0  1492k      0 --:--:-- --:--:-- --:--:-- 1492k
install for i386
* installing *source* package 'geva' ...
** using staged installation
** R
** inst
** byte-compile and prepare package for lazy loading
** help
*** installing help indices
  converting help for package 'geva'
    finding HTML links ... done
    GEVACluster-class                       html  
    GEVAGroupSet-class                      html  
    GEVAGroupedSummary-class                html  
    GEVAInput-class                         html  
    GEVAQuantiles-class                     html  
    GEVAQuantilesAdjusted-class             html  
    GEVAResults-class                       html  
    GEVASummary-class                       html  
    SVAttribute-class                       html  
    SVTable-class                           html  
REDIRECT:topic	 Previous alias or file overwritten by alias: C:/Users/biocbuild/bbs-3.13-bioc/meat/geva.buildbin-libdir/00LOCK-geva/00new/geva/help/svtable.html
    TypedList-class                         html  
    generics                                html  
    geva-package                            html  
    geva.cluster                            html  
    geva.dcluster                           html  
    geva.finalize                           html  
    geva.hcluster                           html  
    geva.ideal.example                      html  
    geva.input.correct                      html  
    geva.merge.input                        html  
    geva.quantiles                          html  
    geva.quick                              html  
    geva.summarize                          html  
    top.genes                               html  
** building package indices
** installing vignettes
   'geva.Rmd' using 'UTF-8' 
** testing if installed package can be loaded from temporary location
** testing if installed package can be loaded from final location
** testing if installed package keeps a record of temporary installation path
install for x64
* installing *source* package 'geva' ...
** testing if installed package can be loaded
* MD5 sums
packaged installation of 'geva' as geva_1.0.0.zip
* DONE (geva)
* installing to library 'C:/Users/biocbuild/bbs-3.13-bioc/R/library'
package 'geva' successfully unpacked and MD5 sums checked
| geva.Rcheck/tests_i386/testthat.Rout 
R version 4.1.1 (2021-08-10) -- "Kick Things"
Copyright (C) 2021 The R Foundation for Statistical Computing
Platform: i386-w64-mingw32/i386 (32-bit)
R is free software and comes with ABSOLUTELY NO WARRANTY.
You are welcome to redistribute it under certain conditions.
Type 'license()' or 'licence()' for distribution details.
R is a collaborative project with many contributors.
Type 'contributors()' for more information and
'citation()' on how to cite R or R packages in publications.
Type 'demo()' for some demos, 'help()' for on-line help, or
'help.start()' for an HTML browser interface to help.
Type 'q()' to quit R.
> library(testthat)
> library(geva)
> 
> test_check("geva")
Merging scores...
Searching for dependent factors...
Searching for specific factors...
Found 54 significant genes:
similar: 33
factor-specific: 7
factor-dependent: 14
Input summarized
Calculating hierarchical clustering...
Found 6 clusters
Merging scores...
Searching for dependent factors...
Searching for specific factors...
Found 60 significant genes:
factor-specific: 18
factor-dependent: 39
similar: 3
Testing plot with GEVAResults
Testing with cluster.method = 'hierarchical'
Calculating hierarchical clustering...
Found 6 clusters
Testing with cluster.method = 'density'
Calculating density clustering...
Found 3 clusters
Testing quantiles grouping
Testing with quantile.method = 'range.slice'
Testing with quantile.method = 'proportional'
Testing with quantile.method = 'density'
Testing with quantile.method = 'k.max.sd'
Testing with quantile.method = 'custom'
Testing plot with GEVACluster and GEVAQuantiles
Reading 'gevainputdcc4e695ac8.txt' ...
Reading 'gevainputdcc43ca4125.txt' ...
Reading 'gevainputdcc3edd203f.txt' ...
Reading 'gevainputdcc5edc637e.txt' ...
Reading 'gevainputdcc2e4430f4.txt' ...
Reading 'gevainputdcc289b5afa.txt' ...
Reading 'gevainputdcc4b3e3f62.txt' ...
Reading 'gevainputdcc71d2984.txt' ...
Reading 'gevainputdcc30c3577.txt' ...
Read 9 columns with 10000 probes
Testing with summary.method = 'mean'
Testing with summary.method = 'median'
Testing with variation.method = 'sd'
Testing with variation.method = 'var'
Testing with variation.method = 'mad'
Testing plot with GEVASummary
[ FAIL 0 | WARN 0 | SKIP 0 | PASS 16 ]
> 
> proc.time()
   user  system elapsed 
  50.78    0.51   51.26 
 | geva.Rcheck/tests_x64/testthat.Rout 
R version 4.1.1 (2021-08-10) -- "Kick Things"
Copyright (C) 2021 The R Foundation for Statistical Computing
Platform: x86_64-w64-mingw32/x64 (64-bit)
R is free software and comes with ABSOLUTELY NO WARRANTY.
You are welcome to redistribute it under certain conditions.
Type 'license()' or 'licence()' for distribution details.
R is a collaborative project with many contributors.
Type 'contributors()' for more information and
'citation()' on how to cite R or R packages in publications.
Type 'demo()' for some demos, 'help()' for on-line help, or
'help.start()' for an HTML browser interface to help.
Type 'q()' to quit R.
> library(testthat)
> library(geva)
> 
> test_check("geva")
Merging scores...
Searching for dependent factors...
Searching for specific factors...
Found 54 significant genes:
similar: 33
factor-specific: 7
factor-dependent: 14
Input summarized
Calculating hierarchical clustering...
Found 6 clusters
Merging scores...
Searching for dependent factors...
Searching for specific factors...
Found 60 significant genes:
factor-specific: 18
factor-dependent: 39
similar: 3
Testing plot with GEVAResults
Testing with cluster.method = 'hierarchical'
Calculating hierarchical clustering...
Found 6 clusters
Testing with cluster.method = 'density'
Calculating density clustering...
Found 3 clusters
Testing quantiles grouping
Testing with quantile.method = 'range.slice'
Testing with quantile.method = 'proportional'
Testing with quantile.method = 'density'
Testing with quantile.method = 'k.max.sd'
Testing with quantile.method = 'custom'
Testing plot with GEVACluster and GEVAQuantiles
Reading 'gevainputb5840f188.txt' ...
Reading 'gevainputb584d9653aa.txt' ...
Reading 'gevainputb5827057fba.txt' ...
Reading 'gevainputb5832f35fb2.txt' ...
Reading 'gevainputb58142d6688.txt' ...
Reading 'gevainputb582e64c3.txt' ...
Reading 'gevainputb58217df86.txt' ...
Reading 'gevainputb58403e3131.txt' ...
Reading 'gevainputb5865946bc6.txt' ...
Read 9 columns with 10000 probes
Testing with summary.method = 'mean'
Testing with summary.method = 'median'
Testing with variation.method = 'sd'
Testing with variation.method = 'var'
Testing with variation.method = 'mad'
Testing plot with GEVASummary
[ FAIL 0 | WARN 0 | SKIP 0 | PASS 16 ]
> 
> proc.time()
   user  system elapsed 
  54.96    0.28   55.32 
 | 
| geva.Rcheck/examples_i386/geva-Ex.timings 
 | geva.Rcheck/examples_x64/geva-Ex.timings 
 |