| Back to Multiple platform build/check report for BioC 3.13 |
|
This page was generated on 2021-10-15 15:06:37 -0400 (Fri, 15 Oct 2021).
|
To the developers/maintainers of the genoCN package: - Please allow up to 24 hours (and sometimes 48 hours) for your latest push to git@git.bioconductor.org:packages/genoCN.git to reflect on this report. See How and When does the builder pull? When will my changes propagate? here for more information. - Make sure to use the following settings in order to reproduce any error or warning you see on this page. |
| Package 733/2041 | Hostname | OS / Arch | INSTALL | BUILD | CHECK | BUILD BIN | ||||||||
| genoCN 1.44.0 (landing page) Wei Sun
| nebbiolo1 | Linux (Ubuntu 20.04.2 LTS) / x86_64 | OK | OK | WARNINGS | |||||||||
| tokay2 | Windows Server 2012 R2 Standard / x64 | OK | OK | OK | OK | |||||||||
| machv2 | macOS 10.14.6 Mojave / x86_64 | OK | OK | OK | OK | |||||||||
| Package: genoCN |
| Version: 1.44.0 |
| Command: rm -rf genoCN.buildbin-libdir && mkdir genoCN.buildbin-libdir && /Users/biocbuild/BBS/utils/build-universal.sh genoCN_1.44.0.tar.gz /Library/Frameworks/R.framework/Versions/Current/Resources/bin/R genoCN.buildbin-libdir |
| StartedAt: 2021-10-15 02:32:40 -0400 (Fri, 15 Oct 2021) |
| EndedAt: 2021-10-15 02:33:45 -0400 (Fri, 15 Oct 2021) |
| EllapsedTime: 64.6 seconds |
| RetCode: 0 |
| Status: OK |
| PackageFile: genoCN_1.44.0.tgz |
| PackageFileSize: 949.5 KiB |
##############################################################################
##############################################################################
###
### Running command:
###
### rm -rf genoCN.buildbin-libdir && mkdir genoCN.buildbin-libdir && /Users/biocbuild/BBS/utils/build-universal.sh genoCN_1.44.0.tar.gz /Library/Frameworks/R.framework/Versions/Current/Resources/bin/R genoCN.buildbin-libdir
###
##############################################################################
##############################################################################
>>>>>>>
>>>>>>> INSTALLATION WITH 'R CMD INSTALL --preclean --no-multiarch --library=genoCN.buildbin-libdir genoCN_1.44.0.tar.gz'
>>>>>>>
* installing *source* package ‘genoCN’ ...
** using staged installation
** libs
clang -mmacosx-version-min=10.13 -I"/Library/Frameworks/R.framework/Resources/include" -DNDEBUG -I/usr/local/include -fPIC -Wall -g -O2 -c tnorm_mle.c -o tnorm_mle.o
clang -mmacosx-version-min=10.13 -I"/Library/Frameworks/R.framework/Resources/include" -DNDEBUG -I/usr/local/include -fPIC -Wall -g -O2 -c utility.c -o utility.o
clang -mmacosx-version-min=10.13 -I"/Library/Frameworks/R.framework/Resources/include" -DNDEBUG -I/usr/local/include -fPIC -Wall -g -O2 -c xCNV.c -o xCNV.o
xCNV.c:317:16: warning: unused variable 'K' [-Wunused-variable]
int L, N, M, K, i, z, k, nGtp, contam=*contamR, CNA=*CNAR;
^
xCNV.c:317:25: warning: unused variable 'k' [-Wunused-variable]
int L, N, M, K, i, z, k, nGtp, contam=*contamR, CNA=*CNAR;
^
xCNV.c:787:20: warning: unused variable 'sd_b_tmp' [-Wunused-variable]
double mu_b_tmp, sd_b_tmp;
^
xCNV.c:787:10: warning: unused variable 'mu_b_tmp' [-Wunused-variable]
double mu_b_tmp, sd_b_tmp;
^
4 warnings generated.
clang -mmacosx-version-min=10.13 -dynamiclib -Wl,-headerpad_max_install_names -undefined dynamic_lookup -single_module -multiply_defined suppress -L/Library/Frameworks/R.framework/Resources/lib -L/usr/local/lib -o genoCN.so tnorm_mle.o utility.o xCNV.o -F/Library/Frameworks/R.framework/.. -framework R -Wl,-framework -Wl,CoreFoundation
installing to /Users/biocbuild/bbs-3.13-bioc/meat/genoCN.buildbin-libdir/00LOCK-genoCN/00new/genoCN/libs
** R
** data
** inst
** byte-compile and prepare package for lazy loading
** help
*** installing help indices
** building package indices
** installing vignettes
** testing if installed package can be loaded from temporary location
** checking absolute paths in shared objects and dynamic libraries
** testing if installed package can be loaded from final location
** testing if installed package keeps a record of temporary installation path
* DONE (genoCN)
>>>>>>>
>>>>>>> FIXING LINKS FOR genoCN.buildbin-libdir/genoCN/libs/genoCN.so
>>>>>>>
install_name_tool -change "/usr/local/lib/libgcc_s.1.dylib" "/Library/Frameworks/R.framework/Versions/4.1/Resources/lib/libgcc_s.1.dylib" "genoCN.buildbin-libdir/genoCN/libs/genoCN.so"
install_name_tool -change "/usr/local/lib/libgfortran.5.dylib" "/Library/Frameworks/R.framework/Versions/4.1/Resources/lib/libgfortran.5.dylib" "genoCN.buildbin-libdir/genoCN/libs/genoCN.so"
install_name_tool -change "/usr/local/lib/libquadmath.0.dylib" "/Library/Frameworks/R.framework/Versions/4.1/Resources/lib/libquadmath.0.dylib" "genoCN.buildbin-libdir/genoCN/libs/genoCN.so"