| Back to Multiple platform build/check report for BioC 3.13 |
|
This page was generated on 2021-10-15 15:06:05 -0400 (Fri, 15 Oct 2021).
|
To the developers/maintainers of the geneplast package: - Please allow up to 24 hours (and sometimes 48 hours) for your latest push to git@git.bioconductor.org:packages/geneplast.git to reflect on this report. See How and When does the builder pull? When will my changes propagate? here for more information. - Make sure to use the following settings in order to reproduce any error or warning you see on this page. |
| Package 720/2041 | Hostname | OS / Arch | INSTALL | BUILD | CHECK | BUILD BIN | ||||||||
| geneplast 1.18.0 (landing page) Mauro Castro
| nebbiolo1 | Linux (Ubuntu 20.04.2 LTS) / x86_64 | OK | OK | OK | |||||||||
| tokay2 | Windows Server 2012 R2 Standard / x64 | OK | OK | OK | OK | |||||||||
| machv2 | macOS 10.14.6 Mojave / x86_64 | OK | OK | OK | OK | |||||||||
| Package: geneplast |
| Version: 1.18.0 |
| Command: rm -rf geneplast.buildbin-libdir && mkdir geneplast.buildbin-libdir && C:\Users\biocbuild\bbs-3.13-bioc\R\bin\R.exe CMD INSTALL --merge-multiarch --build --library=geneplast.buildbin-libdir geneplast_1.18.0.tar.gz |
| StartedAt: 2021-10-15 09:30:02 -0400 (Fri, 15 Oct 2021) |
| EndedAt: 2021-10-15 09:31:29 -0400 (Fri, 15 Oct 2021) |
| EllapsedTime: 86.8 seconds |
| RetCode: 0 |
| Status: OK |
| PackageFile: geneplast_1.18.0.zip |
| PackageFileSize: 3.792 MiB |
##############################################################################
##############################################################################
###
### Running command:
###
### rm -rf geneplast.buildbin-libdir && mkdir geneplast.buildbin-libdir && C:\Users\biocbuild\bbs-3.13-bioc\R\bin\R.exe CMD INSTALL --merge-multiarch --build --library=geneplast.buildbin-libdir geneplast_1.18.0.tar.gz
###
##############################################################################
##############################################################################
install for i386
* installing *source* package 'geneplast' ...
** using staged installation
** R
** data
** inst
** byte-compile and prepare package for lazy loading
** help
*** installing help indices
converting help for package 'geneplast'
finding HTML links ... done
OGP-class html
OGR-class html
geneplast-package html
gpdata html
gplast html
gplast.get html
gplast.preprocess html
groot html
groot.get html
groot.plot html
groot.preprocess html
ogr2igraph html
ogr2tni html
ppidata html
** building package indices
** installing vignettes
** testing if installed package can be loaded from temporary location
** testing if installed package can be loaded from final location
** testing if installed package keeps a record of temporary installation path
install for x64
* installing *source* package 'geneplast' ...
** testing if installed package can be loaded
* MD5 sums
packaged installation of 'geneplast' as geneplast_1.18.0.zip
* DONE (geneplast)