| Back to Multiple platform build/check report for BioC 3.13 |
|
This page was generated on 2021-10-15 15:06:06 -0400 (Fri, 15 Oct 2021).
|
To the developers/maintainers of the geneRxCluster package: - Please allow up to 24 hours (and sometimes 48 hours) for your latest push to git@git.bioconductor.org:packages/geneRxCluster.git to reflect on this report. See How and When does the builder pull? When will my changes propagate? here for more information. - Make sure to use the following settings in order to reproduce any error or warning you see on this page. |
| Package 724/2041 | Hostname | OS / Arch | INSTALL | BUILD | CHECK | BUILD BIN | ||||||||
| geneRxCluster 1.28.0 (landing page) Charles Berry
| nebbiolo1 | Linux (Ubuntu 20.04.2 LTS) / x86_64 | OK | OK | OK | |||||||||
| tokay2 | Windows Server 2012 R2 Standard / x64 | OK | OK | OK | OK | |||||||||
| machv2 | macOS 10.14.6 Mojave / x86_64 | OK | OK | OK | OK | |||||||||
| Package: geneRxCluster |
| Version: 1.28.0 |
| Command: C:\cygwin\bin\curl.exe -O http://155.52.207.165/BBS/3.13/bioc/src/contrib/geneRxCluster_1.28.0.tar.gz && rm -rf geneRxCluster.buildbin-libdir && mkdir geneRxCluster.buildbin-libdir && C:\Users\biocbuild\bbs-3.13-bioc\R\bin\R.exe CMD INSTALL --merge-multiarch --build --library=geneRxCluster.buildbin-libdir geneRxCluster_1.28.0.tar.gz && C:\Users\biocbuild\bbs-3.13-bioc\R\bin\R.exe CMD INSTALL geneRxCluster_1.28.0.zip && rm geneRxCluster_1.28.0.tar.gz geneRxCluster_1.28.0.zip |
| StartedAt: 2021-10-14 07:41:46 -0400 (Thu, 14 Oct 2021) |
| EndedAt: 2021-10-14 07:42:44 -0400 (Thu, 14 Oct 2021) |
| EllapsedTime: 57.8 seconds |
| RetCode: 0 |
| Status: OK |
##############################################################################
##############################################################################
###
### Running command:
###
### C:\cygwin\bin\curl.exe -O http://155.52.207.165/BBS/3.13/bioc/src/contrib/geneRxCluster_1.28.0.tar.gz && rm -rf geneRxCluster.buildbin-libdir && mkdir geneRxCluster.buildbin-libdir && C:\Users\biocbuild\bbs-3.13-bioc\R\bin\R.exe CMD INSTALL --merge-multiarch --build --library=geneRxCluster.buildbin-libdir geneRxCluster_1.28.0.tar.gz && C:\Users\biocbuild\bbs-3.13-bioc\R\bin\R.exe CMD INSTALL geneRxCluster_1.28.0.zip && rm geneRxCluster_1.28.0.tar.gz geneRxCluster_1.28.0.zip
###
##############################################################################
##############################################################################
% Total % Received % Xferd Average Speed Time Time Time Current
Dload Upload Total Spent Left Speed
0 0 0 0 0 0 0 0 --:--:-- --:--:-- --:--:-- 0
100 25061 100 25061 0 0 210k 0 --:--:-- --:--:-- --:--:-- 212k
install for i386
* installing *source* package 'geneRxCluster' ...
** using staged installation
** libs
"C:/rtools40/mingw32/bin/"gcc -I"C:/Users/BIOCBU~1/BBS-3~1.13-/R/include" -DNDEBUG -I"c:/extsoft/include" -O2 -Wall -std=gnu99 -mfpmath=sse -msse2 -mstackrealign -c cluster.c -o cluster.o
cluster.c: In function 'cutptClean_new_elt':
cluster.c:80:6: warning: suggest explicit braces to avoid ambiguous 'else' [-Wdangling-else]
if (*pvj!=NOTAIL)
^
cluster.c: In function 'gRxC_cluster':
cluster.c:682:2: warning: 'cutptFunRes' may be used uninitialized in this function [-Wmaybe-uninitialized]
SET_VECTOR_ELT(final,2,cutptFunRes);
^~~~~~~~~~~~~~~~~~~~~~~~~~~~~~~~~~~
C:/rtools40/mingw32/bin/gcc -shared -s -static-libgcc -o geneRxCluster.dll tmp.def cluster.o -Lc:/extsoft/lib/i386 -Lc:/extsoft/lib -LC:/Users/BIOCBU~1/BBS-3~1.13-/R/bin/i386 -lR
installing to C:/Users/biocbuild/bbs-3.13-bioc/meat/geneRxCluster.buildbin-libdir/00LOCK-geneRxCluster/00new/geneRxCluster/libs/i386
** R
** inst
** byte-compile and prepare package for lazy loading
** help
*** installing help indices
converting help for package 'geneRxCluster'
finding HTML links ... done
critVal.alpha html
critVal.power html
critVal.target html
gRxCluster-object html
finding level-2 HTML links ... done
gRxCluster html
gRxPlot html
gRxPlotClumps html
gRxSummary html
geneRxCluster html
noprune html
plot.cutpoints html
prune.loglik html
** building package indices
** installing vignettes
** testing if installed package can be loaded from temporary location
** testing if installed package can be loaded from final location
** testing if installed package keeps a record of temporary installation path
install for x64
* installing *source* package 'geneRxCluster' ...
** libs
"C:/rtools40/mingw64/bin/"gcc -I"C:/Users/BIOCBU~1/BBS-3~1.13-/R/include" -DNDEBUG -I"C:/extsoft/include" -O2 -Wall -std=gnu99 -mfpmath=sse -msse2 -mstackrealign -c cluster.c -o cluster.o
cluster.c: In function 'cutptClean_new_elt':
cluster.c:80:6: warning: suggest explicit braces to avoid ambiguous 'else' [-Wdangling-else]
if (*pvj!=NOTAIL)
^
cluster.c: In function 'gRxC_cluster':
cluster.c:682:2: warning: 'cutptFunRes' may be used uninitialized in this function [-Wmaybe-uninitialized]
SET_VECTOR_ELT(final,2,cutptFunRes);
^~~~~~~~~~~~~~~~~~~~~~~~~~~~~~~~~~~
C:/rtools40/mingw64/bin/gcc -shared -s -static-libgcc -o geneRxCluster.dll tmp.def cluster.o -LC:/extsoft/lib/x64 -LC:/extsoft/lib -LC:/Users/BIOCBU~1/BBS-3~1.13-/R/bin/x64 -lR
installing to C:/Users/biocbuild/bbs-3.13-bioc/meat/geneRxCluster.buildbin-libdir/geneRxCluster/libs/x64
** testing if installed package can be loaded
* MD5 sums
packaged installation of 'geneRxCluster' as geneRxCluster_1.28.0.zip
* DONE (geneRxCluster)
* installing to library 'C:/Users/biocbuild/bbs-3.13-bioc/R/library'
package 'geneRxCluster' successfully unpacked and MD5 sums checked