| Back to Multiple platform build/check report for BioC 3.13 |
|
This page was generated on 2021-10-15 15:06:05 -0400 (Fri, 15 Oct 2021).
|
To the developers/maintainers of the gaga package: - Please allow up to 24 hours (and sometimes 48 hours) for your latest push to git@git.bioconductor.org:packages/gaga.git to reflect on this report. See How and When does the builder pull? When will my changes propagate? here for more information. - Make sure to use the following settings in order to reproduce any error or warning you see on this page. |
| Package 684/2041 | Hostname | OS / Arch | INSTALL | BUILD | CHECK | BUILD BIN | ||||||||
| gaga 2.38.0 (landing page) David Rossell
| nebbiolo1 | Linux (Ubuntu 20.04.2 LTS) / x86_64 | OK | OK | OK | |||||||||
| tokay2 | Windows Server 2012 R2 Standard / x64 | OK | OK | OK | OK | |||||||||
| machv2 | macOS 10.14.6 Mojave / x86_64 | OK | OK | WARNINGS | OK | |||||||||
| Package: gaga |
| Version: 2.38.0 |
| Command: rm -rf gaga.buildbin-libdir && mkdir gaga.buildbin-libdir && C:\Users\biocbuild\bbs-3.13-bioc\R\bin\R.exe CMD INSTALL --merge-multiarch --build --library=gaga.buildbin-libdir gaga_2.38.0.tar.gz |
| StartedAt: 2021-10-15 09:25:02 -0400 (Fri, 15 Oct 2021) |
| EndedAt: 2021-10-15 09:26:20 -0400 (Fri, 15 Oct 2021) |
| EllapsedTime: 77.5 seconds |
| RetCode: 0 |
| Status: OK |
| PackageFile: gaga_2.38.0.zip |
| PackageFileSize: 755 KiB |
##############################################################################
##############################################################################
###
### Running command:
###
### rm -rf gaga.buildbin-libdir && mkdir gaga.buildbin-libdir && C:\Users\biocbuild\bbs-3.13-bioc\R\bin\R.exe CMD INSTALL --merge-multiarch --build --library=gaga.buildbin-libdir gaga_2.38.0.tar.gz
###
##############################################################################
##############################################################################
install for i386
* installing *source* package 'gaga' ...
** using staged installation
** libs
"C:/rtools40/mingw32/bin/"gcc -I"C:/Users/BIOCBU~1/BBS-3~1.13-/R/include" -DNDEBUG -I"c:/extsoft/include" -O2 -Wall -std=gnu99 -mfpmath=sse -msse2 -mstackrealign -c cseqdesma.c -o cseqdesma.o
"C:/rtools40/mingw32/bin/"gcc -I"C:/Users/BIOCBU~1/BBS-3~1.13-/R/include" -DNDEBUG -I"c:/extsoft/include" -O2 -Wall -std=gnu99 -mfpmath=sse -msse2 -mstackrealign -c cstat.c -o cstat.o
cstat.c:22:19: warning: 'css_c_sccs_id' defined but not used [-Wunused-const-variable=]
static const char css_c_sccs_id[] = "@(#)$Workfile: rand.c$ $Revision: 5$";
^~~~~~~~~~~~~
cstat.c:21:19: warning: 'vector_c_sccs_id' defined but not used [-Wunused-const-variable=]
static const char vector_c_sccs_id[] = "%W%";
^~~~~~~~~~~~~~~~
cstat.c:20:19: warning: 'nrutil_c_sccs_id' defined but not used [-Wunused-const-variable=]
static const char nrutil_c_sccs_id[] = "%W%";
^~~~~~~~~~~~~~~~
cstat.c:19:19: warning: 'mess_c_sccs_id' defined but not used [-Wunused-const-variable=]
static const char mess_c_sccs_id[] = "%W%";
^~~~~~~~~~~~~~
cstat.c:18:19: warning: 'interface_c_sccs_id' defined but not used [-Wunused-const-variable=]
static const char interface_c_sccs_id[] = "%W%";
^~~~~~~~~~~~~~~~~~~
C:/rtools40/mingw32/bin/gcc -shared -s -static-libgcc -o gaga.dll tmp.def cseqdesma.o cstat.o -Lc:/extsoft/lib/i386 -Lc:/extsoft/lib -LC:/Users/BIOCBU~1/BBS-3~1.13-/R/bin/i386 -lR
installing to C:/Users/biocbuild/bbs-3.13-bioc/meat/gaga.buildbin-libdir/00LOCK-gaga/00new/gaga/libs/i386
** R
** inst
** byte-compile and prepare package for lazy loading
** help
*** installing help indices
converting help for package 'gaga'
finding HTML links ... done
buildPatterns html
checkfit html
classpred html
dcgamma html
findgenes html
fitGG html
forwsimDiffExpr html
geneclus html
getpar html
parest html
plotForwSim html
posmeansGG html
powclasspred html
powfindgenes html
print.gagaclus html
print.gagafit html
print.gagahyp html
seqBoundariesGrid html
simGG html
simnewsamples html
** building package indices
** installing vignettes
** testing if installed package can be loaded from temporary location
** testing if installed package can be loaded from final location
** testing if installed package keeps a record of temporary installation path
install for x64
* installing *source* package 'gaga' ...
** libs
"C:/rtools40/mingw64/bin/"gcc -I"C:/Users/BIOCBU~1/BBS-3~1.13-/R/include" -DNDEBUG -I"C:/extsoft/include" -O2 -Wall -std=gnu99 -mfpmath=sse -msse2 -mstackrealign -c cseqdesma.c -o cseqdesma.o
"C:/rtools40/mingw64/bin/"gcc -I"C:/Users/BIOCBU~1/BBS-3~1.13-/R/include" -DNDEBUG -I"C:/extsoft/include" -O2 -Wall -std=gnu99 -mfpmath=sse -msse2 -mstackrealign -c cstat.c -o cstat.o
cstat.c:22:19: warning: 'css_c_sccs_id' defined but not used [-Wunused-const-variable=]
static const char css_c_sccs_id[] = "@(#)$Workfile: rand.c$ $Revision: 5$";
^~~~~~~~~~~~~
cstat.c:21:19: warning: 'vector_c_sccs_id' defined but not used [-Wunused-const-variable=]
static const char vector_c_sccs_id[] = "%W%";
^~~~~~~~~~~~~~~~
cstat.c:20:19: warning: 'nrutil_c_sccs_id' defined but not used [-Wunused-const-variable=]
static const char nrutil_c_sccs_id[] = "%W%";
^~~~~~~~~~~~~~~~
cstat.c:19:19: warning: 'mess_c_sccs_id' defined but not used [-Wunused-const-variable=]
static const char mess_c_sccs_id[] = "%W%";
^~~~~~~~~~~~~~
cstat.c:18:19: warning: 'interface_c_sccs_id' defined but not used [-Wunused-const-variable=]
static const char interface_c_sccs_id[] = "%W%";
^~~~~~~~~~~~~~~~~~~
C:/rtools40/mingw64/bin/gcc -shared -s -static-libgcc -o gaga.dll tmp.def cseqdesma.o cstat.o -LC:/extsoft/lib/x64 -LC:/extsoft/lib -LC:/Users/BIOCBU~1/BBS-3~1.13-/R/bin/x64 -lR
installing to C:/Users/biocbuild/bbs-3.13-bioc/meat/gaga.buildbin-libdir/gaga/libs/x64
** testing if installed package can be loaded
* MD5 sums
packaged installation of 'gaga' as gaga_2.38.0.zip
* DONE (gaga)