| Back to Multiple platform build/check report for BioC 3.13 |
|
This page was generated on 2021-10-15 15:06:05 -0400 (Fri, 15 Oct 2021).
|
To the developers/maintainers of the flowPlots package: - Please allow up to 24 hours (and sometimes 48 hours) for your latest push to git@git.bioconductor.org:packages/flowPlots.git to reflect on this report. See How and When does the builder pull? When will my changes propagate? here for more information. - Make sure to use the following settings in order to reproduce any error or warning you see on this page. |
| Package 659/2041 | Hostname | OS / Arch | INSTALL | BUILD | CHECK | BUILD BIN | ||||||||
| flowPlots 1.40.0 (landing page) N. Hawkins
| nebbiolo1 | Linux (Ubuntu 20.04.2 LTS) / x86_64 | OK | OK | OK | |||||||||
| tokay2 | Windows Server 2012 R2 Standard / x64 | OK | OK | OK | OK | |||||||||
| machv2 | macOS 10.14.6 Mojave / x86_64 | OK | OK | OK | OK | |||||||||
| Package: flowPlots |
| Version: 1.40.0 |
| Command: C:\cygwin\bin\curl.exe -O http://155.52.207.165/BBS/3.13/bioc/src/contrib/flowPlots_1.40.0.tar.gz && rm -rf flowPlots.buildbin-libdir && mkdir flowPlots.buildbin-libdir && C:\Users\biocbuild\bbs-3.13-bioc\R\bin\R.exe CMD INSTALL --merge-multiarch --build --library=flowPlots.buildbin-libdir flowPlots_1.40.0.tar.gz && C:\Users\biocbuild\bbs-3.13-bioc\R\bin\R.exe CMD INSTALL flowPlots_1.40.0.zip && rm flowPlots_1.40.0.tar.gz flowPlots_1.40.0.zip |
| StartedAt: 2021-10-14 06:56:44 -0400 (Thu, 14 Oct 2021) |
| EndedAt: 2021-10-14 06:57:47 -0400 (Thu, 14 Oct 2021) |
| EllapsedTime: 62.9 seconds |
| RetCode: 0 |
| Status: OK |
##############################################################################
##############################################################################
###
### Running command:
###
### C:\cygwin\bin\curl.exe -O http://155.52.207.165/BBS/3.13/bioc/src/contrib/flowPlots_1.40.0.tar.gz && rm -rf flowPlots.buildbin-libdir && mkdir flowPlots.buildbin-libdir && C:\Users\biocbuild\bbs-3.13-bioc\R\bin\R.exe CMD INSTALL --merge-multiarch --build --library=flowPlots.buildbin-libdir flowPlots_1.40.0.tar.gz && C:\Users\biocbuild\bbs-3.13-bioc\R\bin\R.exe CMD INSTALL flowPlots_1.40.0.zip && rm flowPlots_1.40.0.tar.gz flowPlots_1.40.0.zip
###
##############################################################################
##############################################################################
% Total % Received % Xferd Average Speed Time Time Time Current
Dload Upload Total Spent Left Speed
0 0 0 0 0 0 0 0 --:--:-- --:--:-- --:--:-- 0
100 189k 100 189k 0 0 834k 0 --:--:-- --:--:-- --:--:-- 838k
install for i386
* installing *source* package 'flowPlots' ...
** using staged installation
** R
** data
*** moving datasets to lazyload DB
** inst
** byte-compile and prepare package for lazy loading
** help
*** installing help indices
converting help for package 'flowPlots'
finding HTML links ... done
GroupListBoxplot html
StackedData-class html
adultsNeonates html
computeMarginalData-methods html
computeMarkers-methods html
computePFDData-methods html
computePFDGroupStatsList html
computePFDPartsData-methods html
computeProfileData-methods html
legendPFDStatsGroupNames html
makeBarplotData html
makeDataList html
makeTernaryData html
marginalDF html
marginalData-methods html
markerMatrix html
markers-methods html
pfdDF html
pfdData-methods html
pfdPartsData-methods html
pfdPartsList html
profileDF html
profileData-methods html
readStackedData-methods html
stackedData-methods html
REDIRECT:topic Previous alias or file overwritten by alias: C:/Users/biocbuild/bbs-3.13-bioc/meat/flowPlots.buildbin-libdir/00LOCK-flowPlots/00new/flowPlots/help/stackedData.html
** building package indices
** installing vignettes
** testing if installed package can be loaded from temporary location
** testing if installed package can be loaded from final location
** testing if installed package keeps a record of temporary installation path
install for x64
* installing *source* package 'flowPlots' ...
** testing if installed package can be loaded
* MD5 sums
packaged installation of 'flowPlots' as flowPlots_1.40.0.zip
* DONE (flowPlots)
* installing to library 'C:/Users/biocbuild/bbs-3.13-bioc/R/library'
package 'flowPlots' successfully unpacked and MD5 sums checked