| Back to Multiple platform build/check report for BioC 3.13 | 
 | 
This page was generated on 2021-10-15 15:06:04 -0400 (Fri, 15 Oct 2021).
| To the developers/maintainers of the flowBeads package: - Please allow up to 24 hours (and sometimes 48 hours) for your latest push to git@git.bioconductor.org:packages/flowBeads.git to reflect on this report. See How and When does the builder pull? When will my changes propagate? here for more information. - Make sure to use the following settings in order to reproduce any error or warning you see on this page. | 
| Package 640/2041 | Hostname | OS / Arch | INSTALL | BUILD | CHECK | BUILD BIN | ||||||||
| flowBeads 1.30.0  (landing page) Nikolas Pontikos 
 | nebbiolo1 | Linux (Ubuntu 20.04.2 LTS) / x86_64 | OK | OK | WARNINGS |  | ||||||||
| tokay2 | Windows Server 2012 R2 Standard / x64 | OK | OK | WARNINGS | OK |  | ||||||||
| machv2 | macOS 10.14.6 Mojave / x86_64 | OK | OK | WARNINGS | OK |  | ||||||||
| Package: flowBeads | 
| Version: 1.30.0 | 
| Command: C:\cygwin\bin\curl.exe -O http://155.52.207.165/BBS/3.13/bioc/src/contrib/flowBeads_1.30.0.tar.gz && rm -rf flowBeads.buildbin-libdir && mkdir flowBeads.buildbin-libdir && C:\Users\biocbuild\bbs-3.13-bioc\R\bin\R.exe CMD INSTALL --merge-multiarch --build --library=flowBeads.buildbin-libdir flowBeads_1.30.0.tar.gz && C:\Users\biocbuild\bbs-3.13-bioc\R\bin\R.exe CMD INSTALL flowBeads_1.30.0.zip && rm flowBeads_1.30.0.tar.gz flowBeads_1.30.0.zip | 
| StartedAt: 2021-10-14 08:36:53 -0400 (Thu, 14 Oct 2021) | 
| EndedAt: 2021-10-14 08:37:59 -0400 (Thu, 14 Oct 2021) | 
| EllapsedTime: 65.5 seconds | 
| RetCode: 0 | 
| Status: OK | 
##############################################################################
##############################################################################
###
### Running command:
###
###   C:\cygwin\bin\curl.exe -O http://155.52.207.165/BBS/3.13/bioc/src/contrib/flowBeads_1.30.0.tar.gz && rm -rf flowBeads.buildbin-libdir && mkdir flowBeads.buildbin-libdir && C:\Users\biocbuild\bbs-3.13-bioc\R\bin\R.exe CMD INSTALL --merge-multiarch --build --library=flowBeads.buildbin-libdir flowBeads_1.30.0.tar.gz && C:\Users\biocbuild\bbs-3.13-bioc\R\bin\R.exe CMD INSTALL flowBeads_1.30.0.zip && rm flowBeads_1.30.0.tar.gz flowBeads_1.30.0.zip
###
##############################################################################
##############################################################################
  % Total    % Received % Xferd  Average Speed   Time    Time     Time  Current
                                 Dload  Upload   Total   Spent    Left  Speed
  0     0    0     0    0     0      0      0 --:--:-- --:--:-- --:--:--     0
100  589k  100  589k    0     0  1208k      0 --:--:-- --:--:-- --:--:-- 1211k
install for i386
* installing *source* package 'flowBeads' ...
** using staged installation
** R
** data
** inst
** byte-compile and prepare package for lazy loading
** help
*** installing help indices
  converting help for package 'flowBeads'
    finding HTML links ... done
    BeadFlowFrame-class                     html  
    finding level-2 HTML links ... done
    GatedBeadFlowFrame-class                html  
    absoluteNormalise-methods               html  
    beads1                                  html  
    beads2                                  html  
    cytocalmef                              html  
    dakomef                                 html  
    flowBeads-package                       html  
    gateBeads-methods                       html  
    generateReport-methods                  html  
    getClusteringStats-methods              html  
    getDate-methods                         html  
    getMEFparams-methods                    html  
    getMEFtransform-methods                 html  
    getParams-methods                       html  
    getTransformFunction-methods            html  
    hasMEF-methods                          html  
    length-methods                          html  
    mefTransform                            html  
    plot-methods                            html  
    relativeNormalise-methods               html  
    show-methods                            html  
    toMEF-methods                           html  
** building package indices
** installing vignettes
** testing if installed package can be loaded from temporary location
** testing if installed package can be loaded from final location
** testing if installed package keeps a record of temporary installation path
install for x64
* installing *source* package 'flowBeads' ...
** testing if installed package can be loaded
* MD5 sums
packaged installation of 'flowBeads' as flowBeads_1.30.0.zip
* DONE (flowBeads)
* installing to library 'C:/Users/biocbuild/bbs-3.13-bioc/R/library'
package 'flowBeads' successfully unpacked and MD5 sums checked