| Back to Multiple platform build/check report for BioC 3.13 |
|
This page was generated on 2021-10-15 15:06:35 -0400 (Fri, 15 Oct 2021).
|
To the developers/maintainers of the fgsea package: - Please allow up to 24 hours (and sometimes 48 hours) for your latest push to git@git.bioconductor.org:packages/fgsea.git to reflect on this report. See How and When does the builder pull? When will my changes propagate? here for more information. - Make sure to use the following settings in order to reproduce any error or warning you see on this page. |
| Package 632/2041 | Hostname | OS / Arch | INSTALL | BUILD | CHECK | BUILD BIN | ||||||||
| fgsea 1.18.0 (landing page) Alexey Sergushichev
| nebbiolo1 | Linux (Ubuntu 20.04.2 LTS) / x86_64 | OK | OK | OK | |||||||||
| tokay2 | Windows Server 2012 R2 Standard / x64 | OK | OK | OK | OK | |||||||||
| machv2 | macOS 10.14.6 Mojave / x86_64 | OK | OK | OK | OK | |||||||||
| Package: fgsea |
| Version: 1.18.0 |
| Command: /Library/Frameworks/R.framework/Versions/Current/Resources/bin/R CMD check --install=check:fgsea.install-out.txt --library=/Library/Frameworks/R.framework/Versions/Current/Resources/library --no-vignettes --timings fgsea_1.18.0.tar.gz |
| StartedAt: 2021-10-14 19:03:06 -0400 (Thu, 14 Oct 2021) |
| EndedAt: 2021-10-14 19:05:59 -0400 (Thu, 14 Oct 2021) |
| EllapsedTime: 173.0 seconds |
| RetCode: 0 |
| Status: OK |
| CheckDir: fgsea.Rcheck |
| Warnings: 0 |
##############################################################################
##############################################################################
###
### Running command:
###
### /Library/Frameworks/R.framework/Versions/Current/Resources/bin/R CMD check --install=check:fgsea.install-out.txt --library=/Library/Frameworks/R.framework/Versions/Current/Resources/library --no-vignettes --timings fgsea_1.18.0.tar.gz
###
##############################################################################
##############################################################################
* using log directory ‘/Users/biocbuild/bbs-3.13-bioc/meat/fgsea.Rcheck’
* using R version 4.1.1 (2021-08-10)
* using platform: x86_64-apple-darwin17.0 (64-bit)
* using session charset: UTF-8
* using option ‘--no-vignettes’
* checking for file ‘fgsea/DESCRIPTION’ ... OK
* this is package ‘fgsea’ version ‘1.18.0’
* package encoding: UTF-8
* checking package namespace information ... OK
* checking package dependencies ... OK
* checking if this is a source package ... OK
* checking if there is a namespace ... OK
* checking for hidden files and directories ... NOTE
Found the following hidden files and directories:
.git_fetch_output.txt
.git_merge_output.txt
These were most likely included in error. See section ‘Package
structure’ in the ‘Writing R Extensions’ manual.
* checking for portable file names ... OK
* checking for sufficient/correct file permissions ... OK
* checking whether package ‘fgsea’ can be installed ... OK
* checking installed package size ... OK
* checking package directory ... OK
* checking ‘build’ directory ... OK
* checking DESCRIPTION meta-information ... OK
* checking top-level files ... OK
* checking for left-over files ... OK
* checking index information ... OK
* checking package subdirectories ... OK
* checking R files for non-ASCII characters ... OK
* checking R files for syntax errors ... OK
* checking whether the package can be loaded ... OK
* checking whether the package can be loaded with stated dependencies ... OK
* checking whether the package can be unloaded cleanly ... OK
* checking whether the namespace can be loaded with stated dependencies ... OK
* checking whether the namespace can be unloaded cleanly ... OK
* checking dependencies in R code ... OK
* checking S3 generic/method consistency ... OK
* checking replacement functions ... OK
* checking foreign function calls ... OK
* checking R code for possible problems ... NOTE
collapsePathways: no visible binding for global variable ‘pathway’
collapsePathways: no visible binding for global variable ‘ES’
fgseaMultilevel: no visible binding for global variable ‘modeFraction’
fgseaMultilevel: no visible binding for global variable ‘denomProb’
fora: no visible binding for global variable ‘pval’
Undefined global functions or variables:
ES denomProb modeFraction pathway pval
* checking Rd files ... OK
* checking Rd metadata ... OK
* checking Rd cross-references ... OK
* checking for missing documentation entries ... OK
* checking for code/documentation mismatches ... OK
* checking Rd \usage sections ... OK
* checking Rd contents ... OK
* checking for unstated dependencies in examples ... OK
* checking contents of ‘data’ directory ... OK
* checking data for non-ASCII characters ... OK
* checking LazyData ... OK
* checking data for ASCII and uncompressed saves ... OK
* checking line endings in C/C++/Fortran sources/headers ... OK
* checking compiled code ... NOTE
Note: information on .o files is not available
* checking files in ‘vignettes’ ... OK
* checking examples ... OK
Examples with CPU (user + system) or elapsed time > 5s
user system elapsed
collapsePathways 12.328 0.759 7.707
fgseaSimple 10.649 1.842 4.074
mapIdsList 11.454 0.658 8.146
fgsea 8.973 0.552 3.936
fgseaMultilevel 8.795 0.702 3.653
* checking for unstated dependencies in ‘tests’ ... OK
* checking tests ...
Running ‘testthat.R’
OK
* checking for unstated dependencies in vignettes ... OK
* checking package vignettes in ‘inst/doc’ ... OK
* checking running R code from vignettes ... SKIPPED
* checking re-building of vignette outputs ... SKIPPED
* checking PDF version of manual ... OK
* DONE
Status: 3 NOTEs
See
‘/Users/biocbuild/bbs-3.13-bioc/meat/fgsea.Rcheck/00check.log’
for details.
fgsea.Rcheck/00install.out
##############################################################################
##############################################################################
###
### Running command:
###
### /Library/Frameworks/R.framework/Versions/Current/Resources/bin/R CMD INSTALL fgsea
###
##############################################################################
##############################################################################
* installing to library ‘/Library/Frameworks/R.framework/Versions/4.1/Resources/library’
* installing *source* package ‘fgsea’ ...
** using staged installation
** libs
clang++ -mmacosx-version-min=10.13 -std=gnu++11 -I"/Library/Frameworks/R.framework/Resources/include" -DNDEBUG -I'/Library/Frameworks/R.framework/Versions/4.1/Resources/library/Rcpp/include' -I'/Library/Frameworks/R.framework/Versions/4.1/Resources/library/BH/include' -I/usr/local/include -fPIC -Wall -g -O2 -c RcppExports.cpp -o RcppExports.o
clang++ -mmacosx-version-min=10.13 -std=gnu++11 -I"/Library/Frameworks/R.framework/Resources/include" -DNDEBUG -I'/Library/Frameworks/R.framework/Versions/4.1/Resources/library/Rcpp/include' -I'/Library/Frameworks/R.framework/Versions/4.1/Resources/library/BH/include' -I/usr/local/include -fPIC -Wall -g -O2 -c esCalculation.cpp -o esCalculation.o
clang++ -mmacosx-version-min=10.13 -std=gnu++11 -I"/Library/Frameworks/R.framework/Resources/include" -DNDEBUG -I'/Library/Frameworks/R.framework/Versions/4.1/Resources/library/Rcpp/include' -I'/Library/Frameworks/R.framework/Versions/4.1/Resources/library/BH/include' -I/usr/local/include -fPIC -Wall -g -O2 -c fastGSEA.cpp -o fastGSEA.o
clang++ -mmacosx-version-min=10.13 -std=gnu++11 -I"/Library/Frameworks/R.framework/Resources/include" -DNDEBUG -I'/Library/Frameworks/R.framework/Versions/4.1/Resources/library/Rcpp/include' -I'/Library/Frameworks/R.framework/Versions/4.1/Resources/library/BH/include' -I/usr/local/include -fPIC -Wall -g -O2 -c fgseaMultilevel.cpp -o fgseaMultilevel.o
clang++ -mmacosx-version-min=10.13 -std=gnu++11 -I"/Library/Frameworks/R.framework/Resources/include" -DNDEBUG -I'/Library/Frameworks/R.framework/Versions/4.1/Resources/library/Rcpp/include' -I'/Library/Frameworks/R.framework/Versions/4.1/Resources/library/BH/include' -I/usr/local/include -fPIC -Wall -g -O2 -c fgseaMultilevelSupplement.cpp -o fgseaMultilevelSupplement.o
fgseaMultilevelSupplement.cpp:81:16: warning: unused variable 'currentES' [-Wunused-variable]
double currentES = calcES(ranks, currentSamples[sampleId]);
^
fgseaMultilevelSupplement.cpp:264:14: warning: unused variable 'fl' [-Wunused-variable]
bool fl = false;
^
2 warnings generated.
clang++ -mmacosx-version-min=10.13 -std=gnu++11 -I"/Library/Frameworks/R.framework/Resources/include" -DNDEBUG -I'/Library/Frameworks/R.framework/Versions/4.1/Resources/library/Rcpp/include' -I'/Library/Frameworks/R.framework/Versions/4.1/Resources/library/BH/include' -I/usr/local/include -fPIC -Wall -g -O2 -c util.cpp -o util.o
clang++ -mmacosx-version-min=10.13 -std=gnu++11 -dynamiclib -Wl,-headerpad_max_install_names -undefined dynamic_lookup -single_module -multiply_defined suppress -L/Library/Frameworks/R.framework/Resources/lib -L/usr/local/lib -o fgsea.so RcppExports.o esCalculation.o fastGSEA.o fgseaMultilevel.o fgseaMultilevelSupplement.o util.o -F/Library/Frameworks/R.framework/.. -framework R -Wl,-framework -Wl,CoreFoundation
installing to /Library/Frameworks/R.framework/Versions/4.1/Resources/library/00LOCK-fgsea/00new/fgsea/libs
** R
** data
*** moving datasets to lazyload DB
** inst
** byte-compile and prepare package for lazy loading
** help
*** installing help indices
** building package indices
** installing vignettes
** testing if installed package can be loaded from temporary location
** checking absolute paths in shared objects and dynamic libraries
** testing if installed package can be loaded from final location
** testing if installed package keeps a record of temporary installation path
* DONE (fgsea)
fgsea.Rcheck/tests/testthat.Rout
R version 4.1.1 (2021-08-10) -- "Kick Things"
Copyright (C) 2021 The R Foundation for Statistical Computing
Platform: x86_64-apple-darwin17.0 (64-bit)
R is free software and comes with ABSOLUTELY NO WARRANTY.
You are welcome to redistribute it under certain conditions.
Type 'license()' or 'licence()' for distribution details.
R is a collaborative project with many contributors.
Type 'contributors()' for more information and
'citation()' on how to cite R or R packages in publications.
Type 'demo()' for some demos, 'help()' for on-line help, or
'help.start()' for an HTML browser interface to help.
Type 'q()' to quit R.
> # setting R_TESTS to empty string because of
> # https://github.com/hadley/testthat/issues/144
> # revert this when that issue in R is fixed.
> Sys.setenv("R_TESTS" = "")
>
> library(testthat)
> library(fgsea)
>
> test_check("fgsea")
══ Skipped tests ═══════════════════════════════════════════════════════════════
• On Bioconductor (1)
• On Mac (1)
[ FAIL 0 | WARN 0 | SKIP 2 | PASS 97 ]
>
> proc.time()
user system elapsed
78.463 8.050 62.131
fgsea.Rcheck/fgsea-Ex.timings
| name | user | system | elapsed | |
| calcGseaStat | 0.039 | 0.006 | 0.044 | |
| collapsePathways | 12.328 | 0.759 | 7.707 | |
| collapsePathwaysORA | 0.192 | 0.011 | 0.204 | |
| fgsea | 8.973 | 0.552 | 3.936 | |
| fgseaLabel | 0 | 0 | 0 | |
| fgseaMultilevel | 8.795 | 0.702 | 3.653 | |
| fgseaSimple | 10.649 | 1.842 | 4.074 | |
| fora | 0.144 | 0.019 | 0.164 | |
| gmtPathways | 0.202 | 0.008 | 0.211 | |
| mapIdsList | 11.454 | 0.658 | 8.146 | |
| multilevelError | 0.000 | 0.000 | 0.001 | |
| plotEnrichment | 0.003 | 0.004 | 0.008 | |
| plotGseaTable | 0.816 | 0.084 | 0.900 | |
| reactomePathways | 2.609 | 0.078 | 2.690 | |
| writeGmtPathways | 0.041 | 0.002 | 0.043 | |