| Back to Multiple platform build/check report for BioC 3.13 |
|
This page was generated on 2021-10-15 15:05:40 -0400 (Fri, 15 Oct 2021).
|
To the developers/maintainers of the exomePeak2 package: - Please allow up to 24 hours (and sometimes 48 hours) for your latest push to git@git.bioconductor.org:packages/exomePeak2.git to reflect on this report. See How and When does the builder pull? When will my changes propagate? here for more information. - Make sure to use the following settings in order to reproduce any error or warning you see on this page. |
| Package 605/2041 | Hostname | OS / Arch | INSTALL | BUILD | CHECK | BUILD BIN | ||||||||
| exomePeak2 1.4.2 (landing page) Zhen Wei
| nebbiolo1 | Linux (Ubuntu 20.04.2 LTS) / x86_64 | OK | OK | OK | |||||||||
| tokay2 | Windows Server 2012 R2 Standard / x64 | OK | OK | OK | OK | |||||||||
| machv2 | macOS 10.14.6 Mojave / x86_64 | OK | OK | OK | OK | |||||||||
| Package: exomePeak2 |
| Version: 1.4.2 |
| Command: /home/biocbuild/bbs-3.13-bioc/R/bin/R CMD check --install=check:exomePeak2.install-out.txt --library=/home/biocbuild/bbs-3.13-bioc/R/library --no-vignettes --timings exomePeak2_1.4.2.tar.gz |
| StartedAt: 2021-10-14 09:48:11 -0400 (Thu, 14 Oct 2021) |
| EndedAt: 2021-10-14 09:54:41 -0400 (Thu, 14 Oct 2021) |
| EllapsedTime: 390.6 seconds |
| RetCode: 0 |
| Status: OK |
| CheckDir: exomePeak2.Rcheck |
| Warnings: 0 |
##############################################################################
##############################################################################
###
### Running command:
###
### /home/biocbuild/bbs-3.13-bioc/R/bin/R CMD check --install=check:exomePeak2.install-out.txt --library=/home/biocbuild/bbs-3.13-bioc/R/library --no-vignettes --timings exomePeak2_1.4.2.tar.gz
###
##############################################################################
##############################################################################
* using log directory ‘/home/biocbuild/bbs-3.13-bioc/meat/exomePeak2.Rcheck’
* using R version 4.1.1 (2021-08-10)
* using platform: x86_64-pc-linux-gnu (64-bit)
* using session charset: UTF-8
* using option ‘--no-vignettes’
* checking for file ‘exomePeak2/DESCRIPTION’ ... OK
* checking extension type ... Package
* this is package ‘exomePeak2’ version ‘1.4.2’
* package encoding: UTF-8
* checking package namespace information ... OK
* checking package dependencies ... OK
* checking if this is a source package ... OK
* checking if there is a namespace ... OK
* checking for hidden files and directories ... OK
* checking for portable file names ... OK
* checking for sufficient/correct file permissions ... OK
* checking whether package ‘exomePeak2’ can be installed ... OK
* checking installed package size ... OK
* checking package directory ... OK
* checking ‘build’ directory ... OK
* checking DESCRIPTION meta-information ... OK
* checking top-level files ... OK
* checking for left-over files ... OK
* checking index information ... OK
* checking package subdirectories ... OK
* checking R files for non-ASCII characters ... OK
* checking R files for syntax errors ... OK
* checking whether the package can be loaded ... OK
* checking whether the package can be loaded with stated dependencies ... OK
* checking whether the package can be unloaded cleanly ... OK
* checking whether the namespace can be loaded with stated dependencies ... OK
* checking whether the namespace can be unloaded cleanly ... OK
* checking dependencies in R code ... OK
* checking S3 generic/method consistency ... OK
* checking replacement functions ... OK
* checking foreign function calls ... OK
* checking R code for possible problems ... NOTE
GLM_inference : <anonymous>: no visible global function definition for
‘median’
Results,SummarizedExomePeak: no visible global function definition for
‘glm_M’
estimateSeqDepth,SummarizedExomePeak : <anonymous>: no visible global
function definition for ‘median’
exomePeakCalling,MeripBamFileList: no visible global function
definition for ‘metadata’
exomePeakCalling,MeripBamFileList: no visible global function
definition for ‘%over%’
plotLfcGC,SummarizedExomePeak: no visible binding for global variable
‘GC_idx’
plotLfcGC,SummarizedExomePeak: no visible binding for global variable
‘Log2FC’
plotLfcGC,SummarizedExomePeak: no visible binding for global variable
‘Label’
plotReadsGC,SummarizedExomePeak: no visible binding for global variable
‘GC_cont’
plotReadsGC,SummarizedExomePeak: no visible binding for global variable
‘value’
plotSizeFactors,SummarizedExomePeak: no visible binding for global
variable ‘samples’
plotSizeFactors,SummarizedExomePeak: no visible binding for global
variable ‘size_factors’
plotSizeFactors,SummarizedExomePeak: no visible binding for global
variable ‘Estimation_Methods’
Undefined global functions or variables:
%over% Estimation_Methods GC_cont GC_idx Label Log2FC glm_M median
metadata samples size_factors value
Consider adding
importFrom("stats", "median")
to your NAMESPACE file.
* checking Rd files ... OK
* checking Rd metadata ... OK
* checking Rd cross-references ... OK
* checking for missing documentation entries ... OK
* checking for code/documentation mismatches ... OK
* checking Rd \usage sections ... OK
* checking Rd contents ... OK
* checking for unstated dependencies in examples ... OK
* checking files in ‘vignettes’ ... OK
* checking examples ... OK
Examples with CPU (user + system) or elapsed time > 5s
user system elapsed
exomePeak2 67.327 0.608 67.944
exomePeakCalling-methods 39.545 0.124 39.674
SummarizedExomePeak-class 25.330 1.326 26.667
* checking for unstated dependencies in vignettes ... OK
* checking package vignettes in ‘inst/doc’ ... OK
* checking running R code from vignettes ... SKIPPED
* checking re-building of vignette outputs ... SKIPPED
* checking PDF version of manual ... OK
* DONE
Status: 1 NOTE
See
‘/home/biocbuild/bbs-3.13-bioc/meat/exomePeak2.Rcheck/00check.log’
for details.
exomePeak2.Rcheck/00install.out
############################################################################## ############################################################################## ### ### Running command: ### ### /home/biocbuild/bbs-3.13-bioc/R/bin/R CMD INSTALL exomePeak2 ### ############################################################################## ############################################################################## * installing to library ‘/home/biocbuild/bbs-3.13-bioc/R/library’ * installing *source* package ‘exomePeak2’ ... ** using staged installation ** R ** inst ** byte-compile and prepare package for lazy loading ** help *** installing help indices ** building package indices ** installing vignettes ** testing if installed package can be loaded from temporary location ** testing if installed package can be loaded from final location ** testing if installed package keeps a record of temporary installation path * DONE (exomePeak2)
exomePeak2.Rcheck/exomePeak2-Ex.timings
| name | user | system | elapsed | |
| GCsizeFactors-methods | 0.046 | 0.000 | 0.047 | |
| LibraryType-methods | 0.173 | 0.016 | 0.189 | |
| MeripBamFileList-class | 0.202 | 0.024 | 0.226 | |
| Parameter-methods | 0.078 | 0.024 | 0.103 | |
| Results-methods | 0.874 | 0.120 | 0.995 | |
| SummarizedExomePeak-class | 25.330 | 1.326 | 26.667 | |
| estimateSeqDepth-methods | 0.128 | 0.000 | 0.129 | |
| exomePeak2 | 67.327 | 0.608 | 67.944 | |
| exomePeak2Results-methods | 0.009 | 0.000 | 0.009 | |
| exomePeakCalling-methods | 39.545 | 0.124 | 39.674 | |
| exportResults-methods | 1.099 | 0.000 | 1.098 | |
| glmDM-methods | 4.377 | 0.000 | 4.378 | |
| glmM-methods | 4.897 | 0.008 | 4.904 | |
| normalizeGC-methods | 0.113 | 0.004 | 0.117 | |
| plotExonLength-methods | 0.896 | 0.004 | 0.900 | |
| plotLfcGC-methods | 0.172 | 0.000 | 0.171 | |
| plotReadsGC-methods | 0.884 | 0.004 | 0.888 | |
| plotSizeFactors-methods | 0.355 | 0.004 | 0.360 | |
| scanMeripBAM | 0.201 | 0.000 | 0.201 | |