| Back to Multiple platform build/check report for BioC 3.13 |
|
This page was generated on 2021-10-15 15:06:04 -0400 (Fri, 15 Oct 2021).
|
To the developers/maintainers of the esetVis package: - Please allow up to 24 hours (and sometimes 48 hours) for your latest push to git@git.bioconductor.org:packages/esetVis.git to reflect on this report. See How and When does the builder pull? When will my changes propagate? here for more information. - Make sure to use the following settings in order to reproduce any error or warning you see on this page. |
| Package 597/2041 | Hostname | OS / Arch | INSTALL | BUILD | CHECK | BUILD BIN | ||||||||
| esetVis 1.18.0 (landing page) Laure Cougnaud
| nebbiolo1 | Linux (Ubuntu 20.04.2 LTS) / x86_64 | OK | OK | OK | |||||||||
| tokay2 | Windows Server 2012 R2 Standard / x64 | OK | OK | OK | OK | |||||||||
| machv2 | macOS 10.14.6 Mojave / x86_64 | OK | OK | OK | OK | |||||||||
| Package: esetVis |
| Version: 1.18.0 |
| Command: rm -rf esetVis.buildbin-libdir && mkdir esetVis.buildbin-libdir && C:\Users\biocbuild\bbs-3.13-bioc\R\bin\R.exe CMD INSTALL --merge-multiarch --build --library=esetVis.buildbin-libdir esetVis_1.18.0.tar.gz |
| StartedAt: 2021-10-15 09:12:31 -0400 (Fri, 15 Oct 2021) |
| EndedAt: 2021-10-15 09:13:38 -0400 (Fri, 15 Oct 2021) |
| EllapsedTime: 67.4 seconds |
| RetCode: 0 |
| Status: OK |
| PackageFile: esetVis_1.18.0.zip |
| PackageFileSize: 1.786 MiB |
##############################################################################
##############################################################################
###
### Running command:
###
### rm -rf esetVis.buildbin-libdir && mkdir esetVis.buildbin-libdir && C:\Users\biocbuild\bbs-3.13-bioc\R\bin\R.exe CMD INSTALL --merge-multiarch --build --library=esetVis.buildbin-libdir esetVis_1.18.0.tar.gz
###
##############################################################################
##############################################################################
install for i386
* installing *source* package 'esetVis' ...
** using staged installation
** R
** inst
** byte-compile and prepare package for lazy loading
** help
*** installing help indices
converting help for package 'esetVis'
finding HTML links ... done
characterORexpressionOrCall-class html
esetLda html
finding level-2 HTML links ... done
esetPlot-class html
esetPlotInteractive-class html
esetPlotWrapper html
esetSpectralMap html
esetTsne html
formatManualScale html
formatOutput html
getAxesLimits-methods html
getCoordGeneSets html
getDataPlotSamplesWithAnnotation-methods
html
getGeneSetsForPlot html
getMethodsInputObjectEsetVis html
ggPlotEset html
ggplotEsetPlot-class html
ggvisEsetPlot-class html
ggvisPlotEset html
plotEset-methods html
plotTopElements html
rbokehEsetPlot-class html
rbokehPlotEset html
setFixElement html
setManualScale html
simpleCap html
** building package indices
** installing vignettes
** testing if installed package can be loaded from temporary location
** testing if installed package can be loaded from final location
** testing if installed package keeps a record of temporary installation path
install for x64
* installing *source* package 'esetVis' ...
** testing if installed package can be loaded
* MD5 sums
packaged installation of 'esetVis' as esetVis_1.18.0.zip
* DONE (esetVis)