| Back to Multiple platform build/check report for BioC 3.13 |
|
This page was generated on 2021-10-15 15:06:03 -0400 (Fri, 15 Oct 2021).
|
To the developers/maintainers of the ecolitk package: - Please allow up to 24 hours (and sometimes 48 hours) for your latest push to git@git.bioconductor.org:packages/ecolitk.git to reflect on this report. See How and When does the builder pull? When will my changes propagate? here for more information. - Make sure to use the following settings in order to reproduce any error or warning you see on this page. |
| Package 553/2041 | Hostname | OS / Arch | INSTALL | BUILD | CHECK | BUILD BIN | ||||||||
| ecolitk 1.64.0 (landing page) Laurent Gautier
| nebbiolo1 | Linux (Ubuntu 20.04.2 LTS) / x86_64 | OK | OK | WARNINGS | |||||||||
| tokay2 | Windows Server 2012 R2 Standard / x64 | OK | OK | WARNINGS | OK | |||||||||
| machv2 | macOS 10.14.6 Mojave / x86_64 | OK | OK | WARNINGS | OK | |||||||||
| Package: ecolitk |
| Version: 1.64.0 |
| Command: rm -rf ecolitk.buildbin-libdir && mkdir ecolitk.buildbin-libdir && C:\Users\biocbuild\bbs-3.13-bioc\R\bin\R.exe CMD INSTALL --merge-multiarch --build --library=ecolitk.buildbin-libdir ecolitk_1.64.0.tar.gz |
| StartedAt: 2021-10-15 09:06:24 -0400 (Fri, 15 Oct 2021) |
| EndedAt: 2021-10-15 09:08:00 -0400 (Fri, 15 Oct 2021) |
| EllapsedTime: 96.3 seconds |
| RetCode: 0 |
| Status: OK |
| PackageFile: ecolitk_1.64.0.zip |
| PackageFileSize: 1.788 MiB |
##############################################################################
##############################################################################
###
### Running command:
###
### rm -rf ecolitk.buildbin-libdir && mkdir ecolitk.buildbin-libdir && C:\Users\biocbuild\bbs-3.13-bioc\R\bin\R.exe CMD INSTALL --merge-multiarch --build --library=ecolitk.buildbin-libdir ecolitk_1.64.0.tar.gz
###
##############################################################################
##############################################################################
install for i386
* installing *source* package 'ecolitk' ...
** using staged installation
** R
** data
** inst
** byte-compile and prepare package for lazy loading
Note: possible error in 'strsplit(line, "\t", ': unused argument (extended = TRUE)
** help
*** installing help indices
converting help for package 'ecolitk'
finding HTML links ... done
ecoli.data html
ecoligenome.operon html
ecoligenomeBNUM html
ecoligenomeBNUM2MULTIFUN html
gccontent html
linkedmultiget html
multiFun html
pointsCircle html
polar2xy html
polygonChrom html
wstringapply html
** building package indices
** installing vignettes
** testing if installed package can be loaded from temporary location
** testing if installed package can be loaded from final location
** testing if installed package keeps a record of temporary installation path
install for x64
* installing *source* package 'ecolitk' ...
** testing if installed package can be loaded
* MD5 sums
packaged installation of 'ecolitk' as ecolitk_1.64.0.zip
* DONE (ecolitk)