| Back to Multiple platform build/check report for BioC 3.13 | 
 | 
This page was generated on 2021-10-15 15:06:03 -0400 (Fri, 15 Oct 2021).
| To the developers/maintainers of the drugTargetInteractions package: - Please allow up to 24 hours (and sometimes 48 hours) for your latest push to git@git.bioconductor.org:packages/drugTargetInteractions.git to reflect on this report. See How and When does the builder pull? When will my changes propagate? here for more information. - Make sure to use the following settings in order to reproduce any error or warning you see on this page. | 
| Package 535/2041 | Hostname | OS / Arch | INSTALL | BUILD | CHECK | BUILD BIN | ||||||||
| drugTargetInteractions 1.0.2  (landing page) Thomas Girke 
 | nebbiolo1 | Linux (Ubuntu 20.04.2 LTS) / x86_64 | OK | OK | OK |  | ||||||||
| tokay2 | Windows Server 2012 R2 Standard / x64 | OK | OK | OK | OK |  | ||||||||
| machv2 | macOS 10.14.6 Mojave / x86_64 | OK | OK | OK | OK |  | ||||||||
| Package: drugTargetInteractions | 
| Version: 1.0.2 | 
| Command: rm -rf drugTargetInteractions.buildbin-libdir && mkdir drugTargetInteractions.buildbin-libdir && C:\Users\biocbuild\bbs-3.13-bioc\R\bin\R.exe CMD INSTALL --merge-multiarch --build --library=drugTargetInteractions.buildbin-libdir drugTargetInteractions_1.0.2.tar.gz | 
| StartedAt: 2021-10-15 09:04:11 -0400 (Fri, 15 Oct 2021) | 
| EndedAt: 2021-10-15 09:05:23 -0400 (Fri, 15 Oct 2021) | 
| EllapsedTime: 71.7 seconds | 
| RetCode: 0 | 
| Status: OK | 
| PackageFile: drugTargetInteractions_1.0.2.zip | 
| PackageFileSize: 1019 KiB | 
##############################################################################
##############################################################################
###
### Running command:
###
###   rm -rf drugTargetInteractions.buildbin-libdir && mkdir drugTargetInteractions.buildbin-libdir && C:\Users\biocbuild\bbs-3.13-bioc\R\bin\R.exe CMD INSTALL --merge-multiarch --build --library=drugTargetInteractions.buildbin-libdir drugTargetInteractions_1.0.2.tar.gz
###
##############################################################################
##############################################################################
install for i386
* installing *source* package 'drugTargetInteractions' ...
** using staged installation
** R
** inst
** byte-compile and prepare package for lazy loading
** help
*** installing help indices
  converting help for package 'drugTargetInteractions'
    finding HTML links ... done
    cmpIdMapping                            html  
    downloadChemblDb                        html  
    downloadUniChem                         html  
    drugTargetAnnot                         html  
    drugTargetAnnotTable                    html  
    drugTargetBioactivity                   html  
    drugTargetInteraction-package           html  
    genConfig                               html  
    getDrugTarget                           html  
    getParalogs                             html  
    getSymEnsUp                             html  
    getUniprotIDs                           html  
    finding level-2 HTML links ... done
    processDrugage                          html  
    runDrugTarget_Annot_Bioassay            html  
    transformTTD                            html  
** building package indices
** installing vignettes
** testing if installed package can be loaded from temporary location
** testing if installed package can be loaded from final location
** testing if installed package keeps a record of temporary installation path
install for x64
* installing *source* package 'drugTargetInteractions' ...
** testing if installed package can be loaded
* MD5 sums
packaged installation of 'drugTargetInteractions' as drugTargetInteractions_1.0.2.zip
* DONE (drugTargetInteractions)