| Back to Multiple platform build/check report for BioC 3.13 |
|
This page was generated on 2021-10-15 15:06:03 -0400 (Fri, 15 Oct 2021).
|
To the developers/maintainers of the doppelgangR package: - Please allow up to 24 hours (and sometimes 48 hours) for your latest push to git@git.bioconductor.org:packages/doppelgangR.git to reflect on this report. See How and When does the builder pull? When will my changes propagate? here for more information. - Make sure to use the following settings in order to reproduce any error or warning you see on this page. |
| Package 526/2041 | Hostname | OS / Arch | INSTALL | BUILD | CHECK | BUILD BIN | ||||||||
| doppelgangR 1.20.0 (landing page) Levi Waldron
| nebbiolo1 | Linux (Ubuntu 20.04.2 LTS) / x86_64 | OK | OK | OK | |||||||||
| tokay2 | Windows Server 2012 R2 Standard / x64 | OK | OK | OK | OK | |||||||||
| machv2 | macOS 10.14.6 Mojave / x86_64 | OK | OK | OK | OK | |||||||||
| Package: doppelgangR |
| Version: 1.20.0 |
| Command: rm -rf doppelgangR.buildbin-libdir && mkdir doppelgangR.buildbin-libdir && C:\Users\biocbuild\bbs-3.13-bioc\R\bin\R.exe CMD INSTALL --merge-multiarch --build --library=doppelgangR.buildbin-libdir doppelgangR_1.20.0.tar.gz |
| StartedAt: 2021-10-15 09:02:48 -0400 (Fri, 15 Oct 2021) |
| EndedAt: 2021-10-15 09:04:03 -0400 (Fri, 15 Oct 2021) |
| EllapsedTime: 74.7 seconds |
| RetCode: 0 |
| Status: OK |
| PackageFile: doppelgangR_1.20.0.zip |
| PackageFileSize: 836 KiB |
##############################################################################
##############################################################################
###
### Running command:
###
### rm -rf doppelgangR.buildbin-libdir && mkdir doppelgangR.buildbin-libdir && C:\Users\biocbuild\bbs-3.13-bioc\R\bin\R.exe CMD INSTALL --merge-multiarch --build --library=doppelgangR.buildbin-libdir doppelgangR_1.20.0.tar.gz
###
##############################################################################
##############################################################################
install for i386
* installing *source* package 'doppelgangR' ...
** using staged installation
** R
** inst
** byte-compile and prepare package for lazy loading
** help
*** installing help indices
converting help for package 'doppelgangR'
finding HTML links ... done
DoppelGang-class html
colFinder html
corFinder html
doppelgangR-package html
doppelgangR html
dst html
mst.mle html
outlierFinder html
phenoDist html
phenoFinder html
plot-methods html
smokingGunFinder html
vectorHammingDist html
vectorWeightedDist html
** building package indices
** installing vignettes
** testing if installed package can be loaded from temporary location
** testing if installed package can be loaded from final location
** testing if installed package keeps a record of temporary installation path
install for x64
* installing *source* package 'doppelgangR' ...
** testing if installed package can be loaded
* MD5 sums
packaged installation of 'doppelgangR' as doppelgangR_1.20.0.zip
* DONE (doppelgangR)