| Back to Multiple platform build/check report for BioC 3.13 |
|
This page was generated on 2021-10-15 15:06:03 -0400 (Fri, 15 Oct 2021).
|
To the developers/maintainers of the diffuStats package: - Please allow up to 24 hours (and sometimes 48 hours) for your latest push to git@git.bioconductor.org:packages/diffuStats.git to reflect on this report. See How and When does the builder pull? When will my changes propagate? here for more information. - Make sure to use the following settings in order to reproduce any error or warning you see on this page. |
| Package 502/2041 | Hostname | OS / Arch | INSTALL | BUILD | CHECK | BUILD BIN | ||||||||
| diffuStats 1.12.0 (landing page) Sergio Picart-Armada
| nebbiolo1 | Linux (Ubuntu 20.04.2 LTS) / x86_64 | OK | OK | OK | |||||||||
| tokay2 | Windows Server 2012 R2 Standard / x64 | OK | OK | OK | OK | |||||||||
| machv2 | macOS 10.14.6 Mojave / x86_64 | OK | OK | OK | OK | |||||||||
| Package: diffuStats |
| Version: 1.12.0 |
| Command: rm -rf diffuStats.buildbin-libdir && mkdir diffuStats.buildbin-libdir && C:\Users\biocbuild\bbs-3.13-bioc\R\bin\R.exe CMD INSTALL --merge-multiarch --build --library=diffuStats.buildbin-libdir diffuStats_1.12.0.tar.gz |
| StartedAt: 2021-10-15 08:59:34 -0400 (Fri, 15 Oct 2021) |
| EndedAt: 2021-10-15 09:00:42 -0400 (Fri, 15 Oct 2021) |
| EllapsedTime: 67.6 seconds |
| RetCode: 0 |
| Status: OK |
| PackageFile: diffuStats_1.12.0.zip |
| PackageFileSize: 1.704 MiB |
##############################################################################
##############################################################################
###
### Running command:
###
### rm -rf diffuStats.buildbin-libdir && mkdir diffuStats.buildbin-libdir && C:\Users\biocbuild\bbs-3.13-bioc\R\bin\R.exe CMD INSTALL --merge-multiarch --build --library=diffuStats.buildbin-libdir diffuStats_1.12.0.tar.gz
###
##############################################################################
##############################################################################
install for i386
* installing *source* package 'diffuStats' ...
** using staged installation
** libs
"C:/rtools40/mingw32/bin/"g++ -std=gnu++11 -I"C:/Users/BIOCBU~1/BBS-3~1.13-/R/include" -DNDEBUG -I'C:/Users/biocbuild/bbs-3.13-bioc/R/library/Rcpp/include' -I'C:/Users/biocbuild/bbs-3.13-bioc/R/library/RcppArmadillo/include' -I'C:/Users/biocbuild/bbs-3.13-bioc/R/library/RcppParallel/include' -I"c:/extsoft/include" -DRCPP_PARALLEL_USE_TBB=1 -O2 -Wall -mfpmath=sse -msse2 -mstackrealign -c RcppExports.cpp -o RcppExports.o
"C:/rtools40/mingw32/bin/"g++ -std=gnu++11 -I"C:/Users/BIOCBU~1/BBS-3~1.13-/R/include" -DNDEBUG -I'C:/Users/biocbuild/bbs-3.13-bioc/R/library/Rcpp/include' -I'C:/Users/biocbuild/bbs-3.13-bioc/R/library/RcppArmadillo/include' -I'C:/Users/biocbuild/bbs-3.13-bioc/R/library/RcppParallel/include' -I"c:/extsoft/include" -DRCPP_PARALLEL_USE_TBB=1 -O2 -Wall -mfpmath=sse -msse2 -mstackrealign -c diffuse_parallel.cpp -o diffuse_parallel.o
diffuse_parallel.cpp: In function 'arma::sp_mat sparsify2(const mat&, int, const sp_mat&)':
diffuse_parallel.cpp:54:21: warning: comparison of integer expressions of different signedness: 'int' and 'arma::uword' {aka 'unsigned int'} [-Wsign-compare]
for (int i = 0; i < pos.size(); ++i) {
~~^~~~~~~~~~~~
"C:/rtools40/mingw32/bin/"gcc -I"C:/Users/BIOCBU~1/BBS-3~1.13-/R/include" -DNDEBUG -I'C:/Users/biocbuild/bbs-3.13-bioc/R/library/Rcpp/include' -I'C:/Users/biocbuild/bbs-3.13-bioc/R/library/RcppArmadillo/include' -I'C:/Users/biocbuild/bbs-3.13-bioc/R/library/RcppParallel/include' -I"c:/extsoft/include" -O2 -Wall -std=gnu99 -mfpmath=sse -msse2 -mstackrealign -c init.c -o init.o
C:/rtools40/mingw32/bin/g++ -shared -s -static-libgcc -o diffuStats.dll tmp.def RcppExports.o diffuse_parallel.o init.o -LC:/Users/biocbuild/bbs-3.13-bioc/R/library/RcppParallel/lib/i386 -ltbb -ltbbmalloc -Lc:/extsoft/lib/i386 -Lc:/extsoft/lib -LC:/Users/BIOCBU~1/BBS-3~1.13-/R/bin/i386 -lR
installing to C:/Users/biocbuild/bbs-3.13-bioc/meat/diffuStats.buildbin-libdir/00LOCK-diffuStats/00new/diffuStats/libs/i386
** R
** data
*** moving datasets to lazyload DB
** inst
** byte-compile and prepare package for lazy loading
** help
*** installing help indices
converting help for package 'diffuStats'
finding HTML links ... done
ParallelHeatrank html
checks html
connect_undirected_graph html
convertSparse html
default_graph_param html
diffuStats html
diffuse html
diffuse_mc html
diffuse_raw html
generate_graph html
generate_input html
graph_toy html
is_kernel html
kernels html
largest_cc html
metric_auc html
moments html
named.list html
perf html
perf_eval html
perf_wilcox html
scores2colours html
scores2shapes html
serialHeatrank html
sparsify2 html
to_list html
to_x_from_list html
which_format html
** building package indices
** installing vignettes
** testing if installed package can be loaded from temporary location
** testing if installed package can be loaded from final location
** testing if installed package keeps a record of temporary installation path
install for x64
* installing *source* package 'diffuStats' ...
** libs
"C:/rtools40/mingw64/bin/"g++ -std=gnu++11 -I"C:/Users/BIOCBU~1/BBS-3~1.13-/R/include" -DNDEBUG -I'C:/Users/biocbuild/bbs-3.13-bioc/R/library/Rcpp/include' -I'C:/Users/biocbuild/bbs-3.13-bioc/R/library/RcppArmadillo/include' -I'C:/Users/biocbuild/bbs-3.13-bioc/R/library/RcppParallel/include' -I"C:/extsoft/include" -DRCPP_PARALLEL_USE_TBB=1 -O2 -Wall -mfpmath=sse -msse2 -mstackrealign -c RcppExports.cpp -o RcppExports.o
"C:/rtools40/mingw64/bin/"g++ -std=gnu++11 -I"C:/Users/BIOCBU~1/BBS-3~1.13-/R/include" -DNDEBUG -I'C:/Users/biocbuild/bbs-3.13-bioc/R/library/Rcpp/include' -I'C:/Users/biocbuild/bbs-3.13-bioc/R/library/RcppArmadillo/include' -I'C:/Users/biocbuild/bbs-3.13-bioc/R/library/RcppParallel/include' -I"C:/extsoft/include" -DRCPP_PARALLEL_USE_TBB=1 -O2 -Wall -mfpmath=sse -msse2 -mstackrealign -c diffuse_parallel.cpp -o diffuse_parallel.o
diffuse_parallel.cpp: In function 'arma::sp_mat sparsify2(const mat&, int, const sp_mat&)':
diffuse_parallel.cpp:54:21: warning: comparison of integer expressions of different signedness: 'int' and 'arma::uword' {aka 'unsigned int'} [-Wsign-compare]
for (int i = 0; i < pos.size(); ++i) {
~~^~~~~~~~~~~~
"C:/rtools40/mingw64/bin/"gcc -I"C:/Users/BIOCBU~1/BBS-3~1.13-/R/include" -DNDEBUG -I'C:/Users/biocbuild/bbs-3.13-bioc/R/library/Rcpp/include' -I'C:/Users/biocbuild/bbs-3.13-bioc/R/library/RcppArmadillo/include' -I'C:/Users/biocbuild/bbs-3.13-bioc/R/library/RcppParallel/include' -I"C:/extsoft/include" -O2 -Wall -std=gnu99 -mfpmath=sse -msse2 -mstackrealign -c init.c -o init.o
C:/rtools40/mingw64/bin/g++ -shared -s -static-libgcc -o diffuStats.dll tmp.def RcppExports.o diffuse_parallel.o init.o -LC:/Users/biocbuild/bbs-3.13-bioc/R/library/RcppParallel/lib/x64 -ltbb -ltbbmalloc -LC:/extsoft/lib/x64 -LC:/extsoft/lib -LC:/Users/BIOCBU~1/BBS-3~1.13-/R/bin/x64 -lR
installing to C:/Users/biocbuild/bbs-3.13-bioc/meat/diffuStats.buildbin-libdir/diffuStats/libs/x64
** testing if installed package can be loaded
* MD5 sums
packaged installation of 'diffuStats' as diffuStats_1.12.0.zip
* DONE (diffuStats)