| Back to Multiple platform build/check report for BioC 3.13 |
|
This page was generated on 2021-10-15 15:06:02 -0400 (Fri, 15 Oct 2021).
|
To the developers/maintainers of the densvis package: - Please allow up to 24 hours (and sometimes 48 hours) for your latest push to git@git.bioconductor.org:packages/densvis.git to reflect on this report. See How and When does the builder pull? When will my changes propagate? here for more information. - Make sure to use the following settings in order to reproduce any error or warning you see on this page. |
| Package 477/2041 | Hostname | OS / Arch | INSTALL | BUILD | CHECK | BUILD BIN | ||||||||
| densvis 1.2.0 (landing page) Alan O'Callaghan
| nebbiolo1 | Linux (Ubuntu 20.04.2 LTS) / x86_64 | OK | OK | OK | |||||||||
| tokay2 | Windows Server 2012 R2 Standard / x64 | OK | OK | OK | OK | |||||||||
| machv2 | macOS 10.14.6 Mojave / x86_64 | OK | OK | OK | OK | |||||||||
| Package: densvis |
| Version: 1.2.0 |
| Command: C:\Users\biocbuild\bbs-3.13-bioc\R\bin\R.exe --arch x64 CMD INSTALL --no-multiarch densvis |
| StartedAt: 2021-10-14 07:20:19 -0400 (Thu, 14 Oct 2021) |
| EndedAt: 2021-10-14 07:22:12 -0400 (Thu, 14 Oct 2021) |
| EllapsedTime: 113.2 seconds |
| RetCode: 0 |
| Status: OK |
##############################################################################
##############################################################################
###
### Running command:
###
### C:\Users\biocbuild\bbs-3.13-bioc\R\bin\R.exe --arch x64 CMD INSTALL --no-multiarch densvis
###
##############################################################################
##############################################################################
* installing to library 'C:/Users/biocbuild/bbs-3.13-bioc/R/library'
* installing *source* package 'densvis' ...
** using non-staged installation via StagedInstall field
** libs
"C:/rtools40/mingw64/bin/"g++ -std=gnu++14 -I"C:/Users/biocbuild/bbs-3.13-bioc/R/include" -DNDEBUG -I'C:/Users/biocbuild/bbs-3.13-bioc/R/library/Rcpp/include' -I"C:/extsoft/include" -fopenmp -O2 -Wall -mfpmath=sse -msse2 -mstackrealign -c RcppExports.cpp -o RcppExports.o
"C:/rtools40/mingw64/bin/"g++ -std=gnu++14 -I"C:/Users/biocbuild/bbs-3.13-bioc/R/include" -DNDEBUG -I'C:/Users/biocbuild/bbs-3.13-bioc/R/library/Rcpp/include' -I"C:/extsoft/include" -fopenmp -O2 -Wall -mfpmath=sse -msse2 -mstackrealign -c densne.cpp -o densne.o
"C:/rtools40/mingw64/bin/"g++ -std=gnu++14 -I"C:/Users/biocbuild/bbs-3.13-bioc/R/include" -DNDEBUG -I'C:/Users/biocbuild/bbs-3.13-bioc/R/library/Rcpp/include' -I"C:/extsoft/include" -fopenmp -O2 -Wall -mfpmath=sse -msse2 -mstackrealign -c densvis.cpp -o densvis.o
"C:/rtools40/mingw64/bin/"g++ -std=gnu++14 -I"C:/Users/biocbuild/bbs-3.13-bioc/R/include" -DNDEBUG -I'C:/Users/biocbuild/bbs-3.13-bioc/R/library/Rcpp/include' -I"C:/extsoft/include" -fopenmp -O2 -Wall -mfpmath=sse -msse2 -mstackrealign -c sptree.cpp -o sptree.o
C:/rtools40/mingw64/bin/g++ -shared -s -static-libgcc -o densvis.dll tmp.def RcppExports.o densne.o densvis.o sptree.o -LC:/Users/biocbuild/bbs-3.13-bioc/R/bin/x64 -lRlapack -LC:/Users/biocbuild/bbs-3.13-bioc/R/bin/x64 -lRblas -lgfortran -lm -lquadmath -fopenmp -LC:/extsoft/lib/x64 -LC:/extsoft/lib -LC:/Users/biocbuild/bbs-3.13-bioc/R/bin/x64 -lR
installing to C:/Users/biocbuild/bbs-3.13-bioc/R/library/densvis/libs/x64
** R
** inst
** byte-compile and prepare package for lazy loading
** help
*** installing help indices
converting help for package 'densvis'
finding HTML links ... done
densmap html
densne html
** building package indices
** installing vignettes
** testing if installed package can be loaded
* DONE (densvis)
Making 'packages.html' ... done