| Back to Multiple platform build/check report for BioC 3.13 |
|
This page was generated on 2021-10-15 15:06:02 -0400 (Fri, 15 Oct 2021).
|
To the developers/maintainers of the dcanr package: - Please allow up to 24 hours (and sometimes 48 hours) for your latest push to git@git.bioconductor.org:packages/dcanr.git to reflect on this report. See How and When does the builder pull? When will my changes propagate? here for more information. - Make sure to use the following settings in order to reproduce any error or warning you see on this page. |
| Package 446/2041 | Hostname | OS / Arch | INSTALL | BUILD | CHECK | BUILD BIN | ||||||||
| dcanr 1.8.0 (landing page) Dharmesh D. Bhuva
| nebbiolo1 | Linux (Ubuntu 20.04.2 LTS) / x86_64 | OK | OK | OK | |||||||||
| tokay2 | Windows Server 2012 R2 Standard / x64 | OK | OK | OK | OK | |||||||||
| machv2 | macOS 10.14.6 Mojave / x86_64 | OK | OK | OK | OK | |||||||||
| Package: dcanr |
| Version: 1.8.0 |
| Command: rm -rf dcanr.buildbin-libdir && mkdir dcanr.buildbin-libdir && C:\Users\biocbuild\bbs-3.13-bioc\R\bin\R.exe CMD INSTALL --merge-multiarch --build --library=dcanr.buildbin-libdir dcanr_1.8.0.tar.gz |
| StartedAt: 2021-10-15 08:51:56 -0400 (Fri, 15 Oct 2021) |
| EndedAt: 2021-10-15 08:52:48 -0400 (Fri, 15 Oct 2021) |
| EllapsedTime: 51.2 seconds |
| RetCode: 0 |
| Status: OK |
| PackageFile: dcanr_1.8.0.zip |
| PackageFileSize: 1.296 MiB |
##############################################################################
##############################################################################
###
### Running command:
###
### rm -rf dcanr.buildbin-libdir && mkdir dcanr.buildbin-libdir && C:\Users\biocbuild\bbs-3.13-bioc\R\bin\R.exe CMD INSTALL --merge-multiarch --build --library=dcanr.buildbin-libdir dcanr_1.8.0.tar.gz
###
##############################################################################
##############################################################################
install for i386
* installing *source* package 'dcanr' ...
** using staged installation
It is recommended to use 'given' instead of 'middle'.
** R
** data
** inst
** byte-compile and prepare package for lazy loading
in method for 'dcScore' with signature '"Matrix","ANY","ANY"': no definition for class "Matrix"
in method for 'dcScore' with signature '"ExpressionSet","ANY","ANY"': no definition for class "ExpressionSet"
in method for 'dcScore' with signature '"SummarizedExperiment","ANY","ANY"': no definition for class "SummarizedExperiment"
in method for 'dcScore' with signature '"DGEList","ANY","ANY"': no definition for class "DGEList"
** help
*** installing help indices
converting help for package 'dcanr'
finding HTML links ... done
cor.pairs html
dcAdjust html
dcEvaluate html
dcMethods html
dcNetwork html
dcPipeline html
dcScore html
REDIRECT:topic Previous alias or file overwritten by alias: C:/Users/biocbuild/bbs-3.13-bioc/meat/dcanr.buildbin-libdir/00LOCK-dcanr/00new/dcanr/help/dcScore+2CMatrix-method.html
dcTest html
dcanr-package html
getSimData html
mi.ap html
perfMethods html
performanceMeasure html
plotSimNetwork html
sim102 html
** building package indices
** installing vignettes
** testing if installed package can be loaded from temporary location
** testing if installed package can be loaded from final location
** testing if installed package keeps a record of temporary installation path
install for x64
* installing *source* package 'dcanr' ...
** testing if installed package can be loaded
* MD5 sums
packaged installation of 'dcanr' as dcanr_1.8.0.zip
* DONE (dcanr)