| Back to Multiple platform build/check report for BioC 3.13 |
|
This page was generated on 2021-10-15 15:06:02 -0400 (Fri, 15 Oct 2021).
|
To the developers/maintainers of the dagLogo package: - Please allow up to 24 hours (and sometimes 48 hours) for your latest push to git@git.bioconductor.org:packages/dagLogo.git to reflect on this report. See How and When does the builder pull? When will my changes propagate? here for more information. - Make sure to use the following settings in order to reproduce any error or warning you see on this page. |
| Package 438/2041 | Hostname | OS / Arch | INSTALL | BUILD | CHECK | BUILD BIN | ||||||||
| dagLogo 1.30.0 (landing page) Jianhong Ou
| nebbiolo1 | Linux (Ubuntu 20.04.2 LTS) / x86_64 | OK | OK | OK | |||||||||
| tokay2 | Windows Server 2012 R2 Standard / x64 | OK | OK | OK | OK | |||||||||
| machv2 | macOS 10.14.6 Mojave / x86_64 | OK | OK | OK | OK | |||||||||
| Package: dagLogo |
| Version: 1.30.0 |
| Command: C:\cygwin\bin\curl.exe -O http://155.52.207.165/BBS/3.13/bioc/src/contrib/dagLogo_1.30.0.tar.gz && rm -rf dagLogo.buildbin-libdir && mkdir dagLogo.buildbin-libdir && C:\Users\biocbuild\bbs-3.13-bioc\R\bin\R.exe CMD INSTALL --merge-multiarch --build --library=dagLogo.buildbin-libdir dagLogo_1.30.0.tar.gz && C:\Users\biocbuild\bbs-3.13-bioc\R\bin\R.exe CMD INSTALL dagLogo_1.30.0.zip && rm dagLogo_1.30.0.tar.gz dagLogo_1.30.0.zip |
| StartedAt: 2021-10-14 08:29:01 -0400 (Thu, 14 Oct 2021) |
| EndedAt: 2021-10-14 08:29:52 -0400 (Thu, 14 Oct 2021) |
| EllapsedTime: 51.0 seconds |
| RetCode: 0 |
| Status: OK |
##############################################################################
##############################################################################
###
### Running command:
###
### C:\cygwin\bin\curl.exe -O http://155.52.207.165/BBS/3.13/bioc/src/contrib/dagLogo_1.30.0.tar.gz && rm -rf dagLogo.buildbin-libdir && mkdir dagLogo.buildbin-libdir && C:\Users\biocbuild\bbs-3.13-bioc\R\bin\R.exe CMD INSTALL --merge-multiarch --build --library=dagLogo.buildbin-libdir dagLogo_1.30.0.tar.gz && C:\Users\biocbuild\bbs-3.13-bioc\R\bin\R.exe CMD INSTALL dagLogo_1.30.0.zip && rm dagLogo_1.30.0.tar.gz dagLogo_1.30.0.zip
###
##############################################################################
##############################################################################
% Total % Received % Xferd Average Speed Time Time Time Current
Dload Upload Total Spent Left Speed
0 0 0 0 0 0 0 0 --:--:-- --:--:-- --:--:-- 0
46 2034k 46 951k 0 0 1531k 0 0:00:01 --:--:-- 0:00:01 1532k
100 2034k 100 2034k 0 0 2011k 0 0:00:01 0:00:01 --:--:-- 2014k
install for i386
* installing *source* package 'dagLogo' ...
** using staged installation
** R
** data
*** moving datasets to lazyload DB
** inst
** byte-compile and prepare package for lazy loading
** help
*** installing help indices
converting help for package 'dagLogo'
finding HTML links ... done
Proteome-class html
addScheme html
availableSchemes html
buildBackgroundModel html
buildZTestBackgroundModel html
cleanPeptides html
colorsets html
colorsets2 html
dagBackground-class html
dagHeatmap html
dagLogo-package html
dagLogo html
dagPeptides-class html
ecoli.proteome html
fetchSequence html
formatSequence html
getData html
getGroupingSymbol html
initiateBackgroundModel html
nameHash html
prepareProteome html
finding level-2 HTML links ... done
prepareProteomeByFTP html
prepareProteomeByUniProtWS html
proteome.example html
seq.example html
testDAU html
testDAUresults-class html
** building package indices
** installing vignettes
** testing if installed package can be loaded from temporary location
** testing if installed package can be loaded from final location
** testing if installed package keeps a record of temporary installation path
install for x64
* installing *source* package 'dagLogo' ...
** testing if installed package can be loaded
* MD5 sums
packaged installation of 'dagLogo' as dagLogo_1.30.0.zip
* DONE (dagLogo)
* installing to library 'C:/Users/biocbuild/bbs-3.13-bioc/R/library'
package 'dagLogo' successfully unpacked and MD5 sums checked