| Back to Multiple platform build/check report for BioC 3.13 |
|
This page was generated on 2021-10-15 15:06:02 -0400 (Fri, 15 Oct 2021).
|
To the developers/maintainers of the daMA package: - Please allow up to 24 hours (and sometimes 48 hours) for your latest push to git@git.bioconductor.org:packages/daMA.git to reflect on this report. See How and When does the builder pull? When will my changes propagate? here for more information. - Make sure to use the following settings in order to reproduce any error or warning you see on this page. |
| Package 439/2041 | Hostname | OS / Arch | INSTALL | BUILD | CHECK | BUILD BIN | ||||||||
| daMA 1.64.0 (landing page) Jobst Landgrebe
| nebbiolo1 | Linux (Ubuntu 20.04.2 LTS) / x86_64 | OK | OK | OK | |||||||||
| tokay2 | Windows Server 2012 R2 Standard / x64 | OK | OK | OK | OK | |||||||||
| machv2 | macOS 10.14.6 Mojave / x86_64 | OK | OK | OK | OK | |||||||||
| Package: daMA |
| Version: 1.64.0 |
| Command: rm -rf daMA.buildbin-libdir && mkdir daMA.buildbin-libdir && C:\Users\biocbuild\bbs-3.13-bioc\R\bin\R.exe CMD INSTALL --merge-multiarch --build --library=daMA.buildbin-libdir daMA_1.64.0.tar.gz |
| StartedAt: 2021-10-15 08:51:05 -0400 (Fri, 15 Oct 2021) |
| EndedAt: 2021-10-15 08:51:47 -0400 (Fri, 15 Oct 2021) |
| EllapsedTime: 42.4 seconds |
| RetCode: 0 |
| Status: OK |
| PackageFile: daMA_1.64.0.zip |
| PackageFileSize: 4.077 MiB |
##############################################################################
##############################################################################
###
### Running command:
###
### rm -rf daMA.buildbin-libdir && mkdir daMA.buildbin-libdir && C:\Users\biocbuild\bbs-3.13-bioc\R\bin\R.exe CMD INSTALL --merge-multiarch --build --library=daMA.buildbin-libdir daMA_1.64.0.tar.gz
###
##############################################################################
##############################################################################
install for i386
* installing *source* package 'daMA' ...
** using staged installation
** R
** data
** byte-compile and prepare package for lazy loading
** help
*** installing help indices
converting help for package 'daMA'
finding HTML links ... done
analyseMA html
cinfo html
cinfoB.AB html
cmat html
cmatB.AB html
core html
data.3x2 html
designMA html
designs.basic html
designs.composite html
id.3x2 html
** building package indices
** testing if installed package can be loaded from temporary location
** testing if installed package can be loaded from final location
** testing if installed package keeps a record of temporary installation path
install for x64
* installing *source* package 'daMA' ...
** testing if installed package can be loaded
* MD5 sums
packaged installation of 'daMA' as daMA_1.64.0.zip
* DONE (daMA)