| Back to Multiple platform build/check report for BioC 3.13 |
|
This page was generated on 2021-10-15 15:06:02 -0400 (Fri, 15 Oct 2021).
|
To the developers/maintainers of the cytofast package: - Please allow up to 24 hours (and sometimes 48 hours) for your latest push to git@git.bioconductor.org:packages/cytofast.git to reflect on this report. See How and When does the builder pull? When will my changes propagate? here for more information. - Make sure to use the following settings in order to reproduce any error or warning you see on this page. |
| Package 431/2041 | Hostname | OS / Arch | INSTALL | BUILD | CHECK | BUILD BIN | ||||||||
K.A. Stam
| nebbiolo1 | Linux (Ubuntu 20.04.2 LTS) / x86_64 | OK | OK | ERROR | |||||||||
| tokay2 | Windows Server 2012 R2 Standard / x64 | OK | OK | ERROR | OK | |||||||||
| machv2 | macOS 10.14.6 Mojave / x86_64 | OK | OK | ERROR | OK | |||||||||
| Package: cytofast |
| Version: 1.8.0 |
| Command: rm -rf cytofast.buildbin-libdir && mkdir cytofast.buildbin-libdir && C:\Users\biocbuild\bbs-3.13-bioc\R\bin\R.exe CMD INSTALL --merge-multiarch --build --library=cytofast.buildbin-libdir cytofast_1.8.0.tar.gz |
| StartedAt: 2021-10-15 08:49:59 -0400 (Fri, 15 Oct 2021) |
| EndedAt: 2021-10-15 08:51:13 -0400 (Fri, 15 Oct 2021) |
| EllapsedTime: 73.9 seconds |
| RetCode: 0 |
| Status: OK |
| PackageFile: cytofast_1.8.0.zip |
| PackageFileSize: 1.499 MiB |
##############################################################################
##############################################################################
###
### Running command:
###
### rm -rf cytofast.buildbin-libdir && mkdir cytofast.buildbin-libdir && C:\Users\biocbuild\bbs-3.13-bioc\R\bin\R.exe CMD INSTALL --merge-multiarch --build --library=cytofast.buildbin-libdir cytofast_1.8.0.tar.gz
###
##############################################################################
##############################################################################
install for i386
* installing *source* package 'cytofast' ...
** using staged installation
** R
** data
*** moving datasets to lazyload DB
** inst
** byte-compile and prepare package for lazy loading
Creating a new generic function for 'expr' in package 'cytofast'
** help
*** installing help indices
converting help for package 'cytofast'
finding HTML links ... done
cellCounts html
cfList-class html
cytoBoxplots html
cytoHeatmaps html
cytottest html
drawTree html
msiPlot html
readCytosploreFCS html
spitzer html
sub-cfList-ANY-method html
** building package indices
** installing vignettes
** testing if installed package can be loaded from temporary location
Warning: Package 'cytofast' is deprecated and will be removed from Bioconductor
version 3.14
** testing if installed package can be loaded from final location
Warning: Package 'cytofast' is deprecated and will be removed from Bioconductor
version 3.14
** testing if installed package keeps a record of temporary installation path
install for x64
* installing *source* package 'cytofast' ...
** testing if installed package can be loaded
Warning: Package 'cytofast' is deprecated and will be removed from Bioconductor
version 3.14
* MD5 sums
packaged installation of 'cytofast' as cytofast_1.8.0.zip
* DONE (cytofast)