| Back to Multiple platform build/check report for BioC 3.13 |
|
This page was generated on 2021-10-15 15:06:01 -0400 (Fri, 15 Oct 2021).
|
To the developers/maintainers of the consensusSeekeR package: - Please allow up to 24 hours (and sometimes 48 hours) for your latest push to git@git.bioconductor.org:packages/consensusSeekeR.git to reflect on this report. See How and When does the builder pull? When will my changes propagate? here for more information. - Make sure to use the following settings in order to reproduce any error or warning you see on this page. |
| Package 381/2041 | Hostname | OS / Arch | INSTALL | BUILD | CHECK | BUILD BIN | ||||||||
| consensusSeekeR 1.20.0 (landing page) Astrid Deschenes
| nebbiolo1 | Linux (Ubuntu 20.04.2 LTS) / x86_64 | OK | OK | OK | |||||||||
| tokay2 | Windows Server 2012 R2 Standard / x64 | OK | OK | OK | OK | |||||||||
| machv2 | macOS 10.14.6 Mojave / x86_64 | OK | OK | OK | OK | |||||||||
| Package: consensusSeekeR |
| Version: 1.20.0 |
| Command: C:\cygwin\bin\curl.exe -O http://155.52.207.165/BBS/3.13/bioc/src/contrib/consensusSeekeR_1.20.0.tar.gz && rm -rf consensusSeekeR.buildbin-libdir && mkdir consensusSeekeR.buildbin-libdir && C:\Users\biocbuild\bbs-3.13-bioc\R\bin\R.exe CMD INSTALL --merge-multiarch --build --library=consensusSeekeR.buildbin-libdir consensusSeekeR_1.20.0.tar.gz && C:\Users\biocbuild\bbs-3.13-bioc\R\bin\R.exe CMD INSTALL consensusSeekeR_1.20.0.zip && rm consensusSeekeR_1.20.0.tar.gz consensusSeekeR_1.20.0.zip |
| StartedAt: 2021-10-14 10:12:15 -0400 (Thu, 14 Oct 2021) |
| EndedAt: 2021-10-14 10:13:22 -0400 (Thu, 14 Oct 2021) |
| EllapsedTime: 66.2 seconds |
| RetCode: 0 |
| Status: OK |
##############################################################################
##############################################################################
###
### Running command:
###
### C:\cygwin\bin\curl.exe -O http://155.52.207.165/BBS/3.13/bioc/src/contrib/consensusSeekeR_1.20.0.tar.gz && rm -rf consensusSeekeR.buildbin-libdir && mkdir consensusSeekeR.buildbin-libdir && C:\Users\biocbuild\bbs-3.13-bioc\R\bin\R.exe CMD INSTALL --merge-multiarch --build --library=consensusSeekeR.buildbin-libdir consensusSeekeR_1.20.0.tar.gz && C:\Users\biocbuild\bbs-3.13-bioc\R\bin\R.exe CMD INSTALL consensusSeekeR_1.20.0.zip && rm consensusSeekeR_1.20.0.tar.gz consensusSeekeR_1.20.0.zip
###
##############################################################################
##############################################################################
% Total % Received % Xferd Average Speed Time Time Time Current
Dload Upload Total Spent Left Speed
0 0 0 0 0 0 0 0 --:--:-- --:--:-- --:--:-- 0
78 285k 78 223k 0 0 837k 0 --:--:-- --:--:-- --:--:-- 838k
100 285k 100 285k 0 0 1055k 0 --:--:-- --:--:-- --:--:-- 1055k
install for i386
* installing *source* package 'consensusSeekeR' ...
** using staged installation
** R
** data
** inst
** byte-compile and prepare package for lazy loading
** help
*** installing help indices
converting help for package 'consensusSeekeR'
finding HTML links ... done
A549_CTCF_MYJ_NarrowPeaks_partial html
A549_CTCF_MYJ_Peaks_partial html
A549_CTCF_MYN_NarrowPeaks_partial html
A549_CTCF_MYN_Peaks_partial html
A549_FOSL2_01_NarrowPeaks_partial html
A549_FOSL2_01_Peaks_partial html
A549_FOXA1_01_NarrowPeaks_partial html
A549_FOXA1_01_Peaks_partial html
A549_NR3C1_CFQ_NarrowPeaks_partial html
A549_NR3C1_CFQ_Peaks_partial html
A549_NR3C1_CFR_NarrowPeaks_partial html
A549_NR3C1_CFR_Peaks_partial html
A549_NR3C1_CFS_NarrowPeaks_partial html
A549_NR3C1_CFS_Peaks_partial html
NOrMAL_nucleosome_positions html
NOrMAL_nucleosome_ranges html
NucPosSimulator_nucleosome_positions html
NucPosSimulator_nucleosome_ranges html
PING_nucleosome_positions html
PING_nucleosome_ranges html
consensusSeekeR-package html
findConsensusPeakRegions html
findConsensusPeakRegionsForOneChrom html
findConsensusPeakRegionsValidation html
isInteger html
readNarrowPeakFile html
refineRegion html
** building package indices
** installing vignettes
** testing if installed package can be loaded from temporary location
** testing if installed package can be loaded from final location
** testing if installed package keeps a record of temporary installation path
install for x64
* installing *source* package 'consensusSeekeR' ...
** testing if installed package can be loaded
* MD5 sums
packaged installation of 'consensusSeekeR' as consensusSeekeR_1.20.0.zip
* DONE (consensusSeekeR)
* installing to library 'C:/Users/biocbuild/bbs-3.13-bioc/R/library'
package 'consensusSeekeR' successfully unpacked and MD5 sums checked