| Back to Multiple platform build/check report for BioC 3.13 |
|
This page was generated on 2021-10-15 15:05:37 -0400 (Fri, 15 Oct 2021).
|
To the developers/maintainers of the cn.mops package: - Please allow up to 24 hours (and sometimes 48 hours) for your latest push to git@git.bioconductor.org:packages/cn.mops.git to reflect on this report. See How and When does the builder pull? When will my changes propagate? here for more information. - Make sure to use the following settings in order to reproduce any error or warning you see on this page. |
| Package 340/2041 | Hostname | OS / Arch | INSTALL | BUILD | CHECK | BUILD BIN | ||||||||
| cn.mops 1.38.0 (landing page) Gundula Povysil
| nebbiolo1 | Linux (Ubuntu 20.04.2 LTS) / x86_64 | OK | OK | OK | |||||||||
| tokay2 | Windows Server 2012 R2 Standard / x64 | OK | OK | OK | OK | |||||||||
| machv2 | macOS 10.14.6 Mojave / x86_64 | OK | OK | OK | OK | |||||||||
| Package: cn.mops |
| Version: 1.38.0 |
| Command: /home/biocbuild/bbs-3.13-bioc/R/bin/R CMD check --install=check:cn.mops.install-out.txt --library=/home/biocbuild/bbs-3.13-bioc/R/library --no-vignettes --timings cn.mops_1.38.0.tar.gz |
| StartedAt: 2021-10-14 09:18:13 -0400 (Thu, 14 Oct 2021) |
| EndedAt: 2021-10-14 09:21:03 -0400 (Thu, 14 Oct 2021) |
| EllapsedTime: 170.1 seconds |
| RetCode: 0 |
| Status: OK |
| CheckDir: cn.mops.Rcheck |
| Warnings: 0 |
##############################################################################
##############################################################################
###
### Running command:
###
### /home/biocbuild/bbs-3.13-bioc/R/bin/R CMD check --install=check:cn.mops.install-out.txt --library=/home/biocbuild/bbs-3.13-bioc/R/library --no-vignettes --timings cn.mops_1.38.0.tar.gz
###
##############################################################################
##############################################################################
* using log directory ‘/home/biocbuild/bbs-3.13-bioc/meat/cn.mops.Rcheck’
* using R version 4.1.1 (2021-08-10)
* using platform: x86_64-pc-linux-gnu (64-bit)
* using session charset: UTF-8
* using option ‘--no-vignettes’
* checking for file ‘cn.mops/DESCRIPTION’ ... OK
* checking extension type ... Package
* this is package ‘cn.mops’ version ‘1.38.0’
* checking package namespace information ... OK
* checking package dependencies ... OK
* checking if this is a source package ... OK
* checking if there is a namespace ... OK
* checking for hidden files and directories ... OK
* checking for portable file names ... OK
* checking for sufficient/correct file permissions ... OK
* checking whether package ‘cn.mops’ can be installed ... OK
* checking installed package size ... OK
* checking package directory ... OK
* checking ‘build’ directory ... OK
* checking DESCRIPTION meta-information ... OK
* checking top-level files ... OK
* checking for left-over files ... OK
* checking index information ... OK
* checking package subdirectories ... OK
* checking R files for non-ASCII characters ... OK
* checking R files for syntax errors ... OK
* checking whether the package can be loaded ... OK
* checking whether the package can be loaded with stated dependencies ... OK
* checking whether the package can be unloaded cleanly ... OK
* checking whether the namespace can be loaded with stated dependencies ... OK
* checking whether the namespace can be unloaded cleanly ... OK
* checking dependencies in R code ... OK
* checking S3 generic/method consistency ... OK
* checking replacement functions ... OK
* checking foreign function calls ... OK
* checking R code for possible problems ... OK
* checking Rd files ... OK
* checking Rd metadata ... OK
* checking Rd cross-references ... OK
* checking for missing documentation entries ... OK
* checking for code/documentation mismatches ... OK
* checking Rd \usage sections ... OK
* checking Rd contents ... OK
* checking for unstated dependencies in examples ... OK
* checking contents of ‘data’ directory ... OK
* checking data for non-ASCII characters ... OK
* checking data for ASCII and uncompressed saves ... OK
* checking line endings in C/C++/Fortran sources/headers ... OK
* checking compiled code ... NOTE
Note: information on .o files is not available
* checking files in ‘vignettes’ ... OK
* checking examples ... OK
Examples with CPU (user + system) or elapsed time > 5s
user system elapsed
referencecn.mops 6.732 0.042 16.289
cn.mops 5.458 0.094 16.556
calcFractionalCopyNumbers-CNVDetectionResult-method 5.217 0.048 5.265
calcFractionalCopyNumbers 5.068 0.044 5.112
haplocn.mops 1.146 0.012 10.337
* checking for unstated dependencies in vignettes ... OK
* checking package vignettes in ‘inst/doc’ ... OK
* checking running R code from vignettes ... SKIPPED
* checking re-building of vignette outputs ... SKIPPED
* checking PDF version of manual ... OK
* DONE
Status: 1 NOTE
See
‘/home/biocbuild/bbs-3.13-bioc/meat/cn.mops.Rcheck/00check.log’
for details.
cn.mops.Rcheck/00install.out
##############################################################################
##############################################################################
###
### Running command:
###
### /home/biocbuild/bbs-3.13-bioc/R/bin/R CMD INSTALL cn.mops
###
##############################################################################
##############################################################################
* installing to library ‘/home/biocbuild/bbs-3.13-bioc/R/library’
* installing *source* package ‘cn.mops’ ...
** using staged installation
** libs
gcc -I"/home/biocbuild/bbs-3.13-bioc/R/include" -DNDEBUG -I/usr/local/include -fpic -g -O2 -Wall -c R_init_cnmops.c -o R_init_cnmops.o
g++ -std=gnu++14 -I"/home/biocbuild/bbs-3.13-bioc/R/include" -DNDEBUG -I/usr/local/include -fpic -g -O2 -Wall -c cnmops.cpp -o cnmops.o
g++ -std=gnu++14 -I"/home/biocbuild/bbs-3.13-bioc/R/include" -DNDEBUG -I/usr/local/include -fpic -g -O2 -Wall -c segment.cpp -o segment.o
segment.cpp: In function ‘SEXPREC* segment(SEXP, SEXP, SEXP, SEXP, SEXP, SEXP)’:
segment.cpp:59:20: warning: variable ‘globalSd’ set but not used [-Wunused-but-set-variable]
59 | double globalMean,globalSd,diff,M2,globalVariance;
| ^~~~~~~~
segment.cpp:60:9: warning: variable ‘oldStatistic’ set but not used [-Wunused-but-set-variable]
60 | double oldStatistic, meanLeft,meanRight,varLeft,varRight;
| ^~~~~~~~~~~~
segment.cpp:61:31: warning: variable ‘maxStatistic’ set but not used [-Wunused-but-set-variable]
61 | double newStatistic,meanDiff,maxStatistic,DOF,a,b,eps1;
| ^~~~~~~~~~~~
segment.cpp:62:40: warning: variable ‘maxIdx’ set but not used [-Wunused-but-set-variable]
62 | double newPValue, maxPValue,oldPValue,maxIdx;
| ^~~~~~
In file included from segment.cpp:10:
/home/biocbuild/bbs-3.13-bioc/R/include/Rmath.h:212:15: warning: unused variable ‘Rf_beta’ [-Wunused-variable]
212 | #define beta Rf_beta
| ^~~~~~~
segment.cpp:64:9: note: in expansion of macro ‘beta’
64 | double beta,nn;
| ^~~~
g++ -std=gnu++14 -shared -L/home/biocbuild/bbs-3.13-bioc/R/lib -L/usr/local/lib -o cn.mops.so R_init_cnmops.o cnmops.o segment.o -L/home/biocbuild/bbs-3.13-bioc/R/lib -lR
installing to /home/biocbuild/bbs-3.13-bioc/R/library/00LOCK-cn.mops/00new/cn.mops/libs
** R
** data
** inst
** byte-compile and prepare package for lazy loading
** help
*** installing help indices
** building package indices
** installing vignettes
** testing if installed package can be loaded from temporary location
** checking absolute paths in shared objects and dynamic libraries
** testing if installed package can be loaded from final location
** testing if installed package keeps a record of temporary installation path
* DONE (cn.mops)
cn.mops.Rcheck/cn.mops-Ex.timings
| name | user | system | elapsed | |
| CNVDetectionResult | 0.001 | 0.000 | 0.002 | |
| calcFractionalCopyNumbers-CNVDetectionResult-method | 5.217 | 0.048 | 5.265 | |
| calcFractionalCopyNumbers | 5.068 | 0.044 | 5.112 | |
| calcIntegerCopyNumbers-CNVDetectionResult-method | 0.567 | 0.003 | 0.571 | |
| calcIntegerCopyNumbers | 0.494 | 0.005 | 0.498 | |
| cn.mops | 5.458 | 0.094 | 16.556 | |
| cnvr-CNVDetectionResult-method | 0.234 | 0.004 | 0.238 | |
| cnvr | 0.216 | 0.008 | 0.225 | |
| cnvs-CNVDetectionResult-method | 0.227 | 0.004 | 0.231 | |
| cnvs | 0.217 | 0.012 | 0.230 | |
| exomecn.mops | 2.006 | 0.016 | 2.023 | |
| getReadCountsFromBAM | 0.523 | 0.004 | 4.918 | |
| getSegmentReadCountsFromBAM | 0.323 | 0.008 | 4.446 | |
| gr-CNVDetectionResult-method | 0.246 | 0.008 | 0.254 | |
| gr | 0.245 | 0.000 | 0.245 | |
| haplocn.mops | 1.146 | 0.012 | 10.337 | |
| individualCall-CNVDetectionResult-method | 0.224 | 0.004 | 0.228 | |
| individualCall | 0.265 | 0.004 | 0.270 | |
| iniCall-CNVDetectionResult-method | 0.269 | 0.012 | 0.281 | |
| iniCall | 0.25 | 0.00 | 0.25 | |
| integerCopyNumber-CNVDetectionResult-method | 0.242 | 0.000 | 0.243 | |
| integerCopyNumber | 0.253 | 0.008 | 0.261 | |
| localAssessments-CNVDetectionResult-method | 0.823 | 0.020 | 0.843 | |
| localAssessments | 0.249 | 0.008 | 0.257 | |
| makeRobustCNVR | 0.472 | 0.008 | 0.480 | |
| normalizeChromosomes | 0.136 | 0.004 | 0.140 | |
| normalizeGenome | 0.157 | 0.008 | 0.165 | |
| normalizedData-CNVDetectionResult-method | 0.256 | 0.008 | 0.264 | |
| normalizedData | 0.239 | 0.004 | 0.243 | |
| params-CNVDetectionResult-method | 0.219 | 0.012 | 0.231 | |
| params | 0.22 | 0.02 | 0.24 | |
| posteriorProbs-CNVDetectionResult-method | 0.216 | 0.000 | 0.216 | |
| posteriorProbs | 0.219 | 0.008 | 0.227 | |
| referencecn.mops | 6.732 | 0.042 | 16.289 | |
| sampleNames-CNVDetectionResult-method | 0.277 | 0.011 | 0.289 | |
| sampleNames | 0.230 | 0.009 | 0.239 | |
| segment | 0.016 | 0.004 | 0.019 | |
| segmentation-CNVDetectionResult-method | 0.241 | 0.004 | 0.245 | |
| segmentation | 0.245 | 0.000 | 0.246 | |
| segplot-CNVDetectionResult-method | 0.864 | 0.007 | 0.872 | |
| segplot | 0.887 | 0.008 | 0.894 | |
| singlecn.mops | 0.603 | 0.005 | 0.607 | |