| Back to Multiple platform build/check report for BioC 3.13 |
|
This page was generated on 2021-10-15 15:06:00 -0400 (Fri, 15 Oct 2021).
|
To the developers/maintainers of the circRNAprofiler package: - Please allow up to 24 hours (and sometimes 48 hours) for your latest push to git@git.bioconductor.org:packages/circRNAprofiler.git to reflect on this report. See How and When does the builder pull? When will my changes propagate? here for more information. - Make sure to use the following settings in order to reproduce any error or warning you see on this page. |
| Package 314/2041 | Hostname | OS / Arch | INSTALL | BUILD | CHECK | BUILD BIN | ||||||||
| circRNAprofiler 1.6.0 (landing page) Simona Aufiero
| nebbiolo1 | Linux (Ubuntu 20.04.2 LTS) / x86_64 | OK | OK | OK | |||||||||
| tokay2 | Windows Server 2012 R2 Standard / x64 | OK | OK | OK | OK | |||||||||
| machv2 | macOS 10.14.6 Mojave / x86_64 | OK | OK | OK | OK | |||||||||
| Package: circRNAprofiler |
| Version: 1.6.0 |
| Command: C:\cygwin\bin\curl.exe -O http://155.52.207.165/BBS/3.13/bioc/src/contrib/circRNAprofiler_1.6.0.tar.gz && rm -rf circRNAprofiler.buildbin-libdir && mkdir circRNAprofiler.buildbin-libdir && C:\Users\biocbuild\bbs-3.13-bioc\R\bin\R.exe CMD INSTALL --merge-multiarch --build --library=circRNAprofiler.buildbin-libdir circRNAprofiler_1.6.0.tar.gz && C:\Users\biocbuild\bbs-3.13-bioc\R\bin\R.exe CMD INSTALL circRNAprofiler_1.6.0.zip && rm circRNAprofiler_1.6.0.tar.gz circRNAprofiler_1.6.0.zip |
| StartedAt: 2021-10-14 10:33:57 -0400 (Thu, 14 Oct 2021) |
| EndedAt: 2021-10-14 10:35:34 -0400 (Thu, 14 Oct 2021) |
| EllapsedTime: 96.9 seconds |
| RetCode: 0 |
| Status: OK |
##############################################################################
##############################################################################
###
### Running command:
###
### C:\cygwin\bin\curl.exe -O http://155.52.207.165/BBS/3.13/bioc/src/contrib/circRNAprofiler_1.6.0.tar.gz && rm -rf circRNAprofiler.buildbin-libdir && mkdir circRNAprofiler.buildbin-libdir && C:\Users\biocbuild\bbs-3.13-bioc\R\bin\R.exe CMD INSTALL --merge-multiarch --build --library=circRNAprofiler.buildbin-libdir circRNAprofiler_1.6.0.tar.gz && C:\Users\biocbuild\bbs-3.13-bioc\R\bin\R.exe CMD INSTALL circRNAprofiler_1.6.0.zip && rm circRNAprofiler_1.6.0.tar.gz circRNAprofiler_1.6.0.zip
###
##############################################################################
##############################################################################
% Total % Received % Xferd Average Speed Time Time Time Current
Dload Upload Total Spent Left Speed
0 0 0 0 0 0 0 0 --:--:-- --:--:-- --:--:-- 0
39 3619k 39 1433k 0 0 2546k 0 0:00:01 --:--:-- 0:00:01 2545k
100 3619k 100 3619k 0 0 3452k 0 0:00:01 0:00:01 --:--:-- 3456k
install for i386
* installing *source* package 'circRNAprofiler' ...
** using staged installation
** R
** data
** inst
** byte-compile and prepare package for lazy loading
** help
*** installing help indices
converting help for package 'circRNAprofiler'
finding HTML links ... done
ahChainFiles html
ahRepeatMasker html
annotateBSJs html
annotateRepeats html
finding level-2 HTML links ... done
annotateSNPsGWAS html
attractSpecies html
backSplicedJunctions html
checkProjectFolder html
filterCirc html
formatGTF html
getBackSplicedJunctions html
getCircSeqs html
getDeseqRes html
getDetectionTools html
getEdgerRes html
getMiRsites html
getMotifs html
getRandomBSJunctions html
getRegexPattern html
getSeqsAcrossBSJs html
getSeqsFromGRs html
gtf html
gwasTraits html
importCircExplorer2 html
importCircMarker html
importKnife html
importMapSplice html
importNCLscan html
importOther html
importUroborus html
initCircRNAprofiler html
iupac html
liftBSJcoords html
memeDB html
mergeBSJunctions html
mergeMotifs html
mergedBSJunctions html
miRspeciesCodes html
plotExBetweenBSEs html
plotExPosition html
plotHostGenes html
plotLenBSEs html
plotLenIntrons html
plotMiR html
plotMotifs html
plotTotExons html
rearrangeMiRres html
volcanoPlot html
** building package indices
** installing vignettes
** testing if installed package can be loaded from temporary location
** testing if installed package can be loaded from final location
** testing if installed package keeps a record of temporary installation path
install for x64
* installing *source* package 'circRNAprofiler' ...
** testing if installed package can be loaded
* MD5 sums
packaged installation of 'circRNAprofiler' as circRNAprofiler_1.6.0.zip
* DONE (circRNAprofiler)
* installing to library 'C:/Users/biocbuild/bbs-3.13-bioc/R/library'
package 'circRNAprofiler' successfully unpacked and MD5 sums checked