| Back to Multiple platform build/check report for BioC 3.13 |
|
This page was generated on 2021-10-15 15:06:00 -0400 (Fri, 15 Oct 2021).
|
To the developers/maintainers of the chromstaR package: - Please allow up to 24 hours (and sometimes 48 hours) for your latest push to git@git.bioconductor.org:packages/chromstaR.git to reflect on this report. See How and When does the builder pull? When will my changes propagate? here for more information. - Make sure to use the following settings in order to reproduce any error or warning you see on this page. |
| Package 307/2041 | Hostname | OS / Arch | INSTALL | BUILD | CHECK | BUILD BIN | ||||||||
| chromstaR 1.18.0 (landing page) Aaron Taudt
| nebbiolo1 | Linux (Ubuntu 20.04.2 LTS) / x86_64 | OK | ERROR | skipped | |||||||||
| tokay2 | Windows Server 2012 R2 Standard / x64 | OK | ERROR | skipped | skipped | |||||||||
| machv2 | macOS 10.14.6 Mojave / x86_64 | OK | ERROR | skipped | skipped | |||||||||
| Package: chromstaR |
| Version: 1.18.0 |
| Command: C:\cygwin\bin\curl.exe -O http://155.52.207.165/BBS/3.13/bioc/src/contrib/chromstaR_1.18.0.tar.gz && rm -rf chromstaR.buildbin-libdir && mkdir chromstaR.buildbin-libdir && C:\Users\biocbuild\bbs-3.13-bioc\R\bin\R.exe CMD INSTALL --merge-multiarch --build --library=chromstaR.buildbin-libdir chromstaR_1.18.0.tar.gz && C:\Users\biocbuild\bbs-3.13-bioc\R\bin\R.exe CMD INSTALL chromstaR_1.18.0.zip && rm chromstaR_1.18.0.tar.gz chromstaR_1.18.0.zip |
| StartedAt: 2021-10-14 09:11:42 -0400 (Thu, 14 Oct 2021) |
| EndedAt: 2021-10-14 09:16:00 -0400 (Thu, 14 Oct 2021) |
| EllapsedTime: 257.9 seconds |
| RetCode: 0 |
| Status: OK |
##############################################################################
##############################################################################
###
### Running command:
###
### C:\cygwin\bin\curl.exe -O http://155.52.207.165/BBS/3.13/bioc/src/contrib/chromstaR_1.18.0.tar.gz && rm -rf chromstaR.buildbin-libdir && mkdir chromstaR.buildbin-libdir && C:\Users\biocbuild\bbs-3.13-bioc\R\bin\R.exe CMD INSTALL --merge-multiarch --build --library=chromstaR.buildbin-libdir chromstaR_1.18.0.tar.gz && C:\Users\biocbuild\bbs-3.13-bioc\R\bin\R.exe CMD INSTALL chromstaR_1.18.0.zip && rm chromstaR_1.18.0.tar.gz chromstaR_1.18.0.zip
###
##############################################################################
##############################################################################
% Total % Received % Xferd Average Speed Time Time Time Current
Dload Upload Total Spent Left Speed
0 0 0 0 0 0 0 0 --:--:-- --:--:-- --:--:-- 0
2 6686k 2 160k 0 0 209k 0 0:00:31 --:--:-- 0:00:31 209k
57 6686k 57 3855k 0 0 2180k 0 0:00:03 0:00:01 0:00:02 2180k
100 6686k 100 6686k 0 0 2790k 0 0:00:02 0:00:02 --:--:-- 2792k
install for i386
* installing *source* package 'chromstaR' ...
** using staged installation
** libs
"C:/rtools40/mingw32/bin/"g++ -std=gnu++11 -I"C:/Users/BIOCBU~1/BBS-3~1.13-/R/include" -DNDEBUG -I"c:/extsoft/include" -fopenmp -O2 -Wall -mfpmath=sse -msse2 -mstackrealign -c R_interface.cpp -o R_interface.o
"C:/rtools40/mingw32/bin/"g++ -std=gnu++11 -I"C:/Users/BIOCBU~1/BBS-3~1.13-/R/include" -DNDEBUG -I"c:/extsoft/include" -fopenmp -O2 -Wall -mfpmath=sse -msse2 -mstackrealign -c densities.cpp -o densities.o
"C:/rtools40/mingw32/bin/"g++ -std=gnu++11 -I"C:/Users/BIOCBU~1/BBS-3~1.13-/R/include" -DNDEBUG -I"c:/extsoft/include" -fopenmp -O2 -Wall -mfpmath=sse -msse2 -mstackrealign -c init.cpp -o init.o
"C:/rtools40/mingw32/bin/"g++ -std=gnu++11 -I"C:/Users/BIOCBU~1/BBS-3~1.13-/R/include" -DNDEBUG -I"c:/extsoft/include" -fopenmp -O2 -Wall -mfpmath=sse -msse2 -mstackrealign -c scalehmm.cpp -o scalehmm.o
"C:/rtools40/mingw32/bin/"g++ -std=gnu++11 -I"C:/Users/BIOCBU~1/BBS-3~1.13-/R/include" -DNDEBUG -I"c:/extsoft/include" -fopenmp -O2 -Wall -mfpmath=sse -msse2 -mstackrealign -c utility.cpp -o utility.o
C:/rtools40/mingw32/bin/g++ -std=gnu++11 -shared -s -static-libgcc -o chromstaR.dll tmp.def R_interface.o densities.o init.o scalehmm.o utility.o -fopenmp -Lc:/extsoft/lib/i386 -Lc:/extsoft/lib -LC:/Users/BIOCBU~1/BBS-3~1.13-/R/bin/i386 -lR
installing to C:/Users/biocbuild/bbs-3.13-bioc/meat/chromstaR.buildbin-libdir/00LOCK-chromstaR/00new/chromstaR/libs/i386
** R
** data
** inst
** byte-compile and prepare package for lazy loading
** help
*** installing help indices
converting help for package 'chromstaR'
finding HTML links ... done
Chromstar html
binReads html
finding level-2 HTML links ... done
binned.data html
callPeaksMultivariate html
callPeaksReplicates html
callPeaksUnivariate html
callPeaksUnivariateAllChr html
changeMaxPostCutoff html
changePostCutoff html
chromstaR-objects html
chromstaR-package html
REDIRECT:topic Previous alias or file overwritten by alias: C:/Users/biocbuild/bbs-3.13-bioc/meat/chromstaR.buildbin-libdir/00LOCK-chromstaR/00new/chromstaR/help/chromstaR.html
collapseBins html
combinatorialStates html
combineMultivariates html
combinedMultiHMM html
conversion html
enrichmentAtAnnotation html
enrichment_analysis html
experiment.table html
exportFiles html
exportGRangesAsBedFile html
fixedWidthBins html
genes_rn4 html
genomicFrequencies html
getCombinations html
getDistinctColors html
getStateColors html
heatmapCombinations html
heatmapCountCorrelation html
heatmapTransitionProbs html
loadHmmsFromFiles html
mergeChroms html
model.combined html
model.multivariate html
model.univariate html
multiHMM html
multivariateSegmentation html
plotExpression html
plotGenomeBrowser html
plotHistogram html
plotHistograms html
plotting html
print.combinedMultiHMM html
print.multiHMM html
print.uniHMM html
readBamFileAsGRanges html
readBedFileAsGRanges html
readConfig html
readCustomBedFile html
removeCondition html
scanBinsizes html
scores html
simulateMultivariate html
simulateReadsFromCounts html
simulateUnivariate html
state.brewer html
stateBrewer html
subsample html
transitionFrequencies html
uniHMM html
unis2pseudomulti html
variableWidthBins html
writeConfig html
zinbinom html
** building package indices
** installing vignettes
** testing if installed package can be loaded from temporary location
** testing if installed package can be loaded from final location
** testing if installed package keeps a record of temporary installation path
install for x64
* installing *source* package 'chromstaR' ...
** libs
"C:/rtools40/mingw64/bin/"g++ -std=gnu++11 -I"C:/Users/BIOCBU~1/BBS-3~1.13-/R/include" -DNDEBUG -I"C:/extsoft/include" -fopenmp -O2 -Wall -mfpmath=sse -msse2 -mstackrealign -c R_interface.cpp -o R_interface.o
"C:/rtools40/mingw64/bin/"g++ -std=gnu++11 -I"C:/Users/BIOCBU~1/BBS-3~1.13-/R/include" -DNDEBUG -I"C:/extsoft/include" -fopenmp -O2 -Wall -mfpmath=sse -msse2 -mstackrealign -c densities.cpp -o densities.o
"C:/rtools40/mingw64/bin/"g++ -std=gnu++11 -I"C:/Users/BIOCBU~1/BBS-3~1.13-/R/include" -DNDEBUG -I"C:/extsoft/include" -fopenmp -O2 -Wall -mfpmath=sse -msse2 -mstackrealign -c init.cpp -o init.o
"C:/rtools40/mingw64/bin/"g++ -std=gnu++11 -I"C:/Users/BIOCBU~1/BBS-3~1.13-/R/include" -DNDEBUG -I"C:/extsoft/include" -fopenmp -O2 -Wall -mfpmath=sse -msse2 -mstackrealign -c scalehmm.cpp -o scalehmm.o
"C:/rtools40/mingw64/bin/"g++ -std=gnu++11 -I"C:/Users/BIOCBU~1/BBS-3~1.13-/R/include" -DNDEBUG -I"C:/extsoft/include" -fopenmp -O2 -Wall -mfpmath=sse -msse2 -mstackrealign -c utility.cpp -o utility.o
C:/rtools40/mingw64/bin/g++ -std=gnu++11 -shared -s -static-libgcc -o chromstaR.dll tmp.def R_interface.o densities.o init.o scalehmm.o utility.o -fopenmp -LC:/extsoft/lib/x64 -LC:/extsoft/lib -LC:/Users/BIOCBU~1/BBS-3~1.13-/R/bin/x64 -lR
installing to C:/Users/biocbuild/bbs-3.13-bioc/meat/chromstaR.buildbin-libdir/chromstaR/libs/x64
** testing if installed package can be loaded
* MD5 sums
packaged installation of 'chromstaR' as chromstaR_1.18.0.zip
* DONE (chromstaR)
* installing to library 'C:/Users/biocbuild/bbs-3.13-bioc/R/library'
package 'chromstaR' successfully unpacked and MD5 sums checked