| Back to Multiple platform build/check report for BioC 3.13 |
|
This page was generated on 2021-10-15 15:06:00 -0400 (Fri, 15 Oct 2021).
|
To the developers/maintainers of the cghMCR package: - Please allow up to 24 hours (and sometimes 48 hours) for your latest push to git@git.bioconductor.org:packages/cghMCR.git to reflect on this report. See How and When does the builder pull? When will my changes propagate? here for more information. - Make sure to use the following settings in order to reproduce any error or warning you see on this page. |
| Package 280/2041 | Hostname | OS / Arch | INSTALL | BUILD | CHECK | BUILD BIN | ||||||||
| cghMCR 1.50.0 (landing page) J. Zhang
| nebbiolo1 | Linux (Ubuntu 20.04.2 LTS) / x86_64 | OK | OK | WARNINGS | |||||||||
| tokay2 | Windows Server 2012 R2 Standard / x64 | OK | OK | WARNINGS | OK | |||||||||
| machv2 | macOS 10.14.6 Mojave / x86_64 | OK | OK | WARNINGS | OK | |||||||||
| Package: cghMCR |
| Version: 1.50.0 |
| Command: C:\cygwin\bin\curl.exe -O http://155.52.207.165/BBS/3.13/bioc/src/contrib/cghMCR_1.50.0.tar.gz && rm -rf cghMCR.buildbin-libdir && mkdir cghMCR.buildbin-libdir && C:\Users\biocbuild\bbs-3.13-bioc\R\bin\R.exe CMD INSTALL --merge-multiarch --build --library=cghMCR.buildbin-libdir cghMCR_1.50.0.tar.gz && C:\Users\biocbuild\bbs-3.13-bioc\R\bin\R.exe CMD INSTALL cghMCR_1.50.0.zip && rm cghMCR_1.50.0.tar.gz cghMCR_1.50.0.zip |
| StartedAt: 2021-10-14 09:16:53 -0400 (Thu, 14 Oct 2021) |
| EndedAt: 2021-10-14 09:18:47 -0400 (Thu, 14 Oct 2021) |
| EllapsedTime: 113.9 seconds |
| RetCode: 0 |
| Status: OK |
##############################################################################
##############################################################################
###
### Running command:
###
### C:\cygwin\bin\curl.exe -O http://155.52.207.165/BBS/3.13/bioc/src/contrib/cghMCR_1.50.0.tar.gz && rm -rf cghMCR.buildbin-libdir && mkdir cghMCR.buildbin-libdir && C:\Users\biocbuild\bbs-3.13-bioc\R\bin\R.exe CMD INSTALL --merge-multiarch --build --library=cghMCR.buildbin-libdir cghMCR_1.50.0.tar.gz && C:\Users\biocbuild\bbs-3.13-bioc\R\bin\R.exe CMD INSTALL cghMCR_1.50.0.zip && rm cghMCR_1.50.0.tar.gz cghMCR_1.50.0.zip
###
##############################################################################
##############################################################################
% Total % Received % Xferd Average Speed Time Time Time Current
Dload Upload Total Spent Left Speed
0 0 0 0 0 0 0 0 --:--:-- --:--:-- --:--:-- 0
6 36.5M 6 2537k 0 0 2977k 0 0:00:12 --:--:-- 0:00:12 2978k
18 36.5M 18 7087k 0 0 3840k 0 0:00:09 0:00:01 0:00:08 3841k
21 36.5M 21 8186k 0 0 2870k 0 0:00:13 0:00:02 0:00:11 2870k
36 36.5M 36 13.2M 0 0 3529k 0 0:00:10 0:00:03 0:00:07 3529k
53 36.5M 53 19.4M 0 0 4125k 0 0:00:09 0:00:04 0:00:05 4125k
73 36.5M 73 26.7M 0 0 4693k 0 0:00:07 0:00:05 0:00:02 4986k
95 36.5M 95 34.8M 0 0 5222k 0 0:00:07 0:00:06 0:00:01 5732k
100 36.5M 100 36.5M 0 0 5322k 0 0:00:07 0:00:07 --:--:-- 6998k
install for i386
* installing *source* package 'cghMCR' ...
** using staged installation
** R
** data
** inst
** byte-compile and prepare package for lazy loading
** help
*** installing help indices
converting help for package 'cghMCR'
finding HTML links ... done
SGOL-class html
cghMCR-class html
cghMCR html
mergeMCRProbes html
methods html
plot.DNAcopy html
** building package indices
** installing vignettes
** testing if installed package can be loaded from temporary location
** testing if installed package can be loaded from final location
** testing if installed package keeps a record of temporary installation path
install for x64
* installing *source* package 'cghMCR' ...
** testing if installed package can be loaded
* MD5 sums
packaged installation of 'cghMCR' as cghMCR_1.50.0.zip
* DONE (cghMCR)
* installing to library 'C:/Users/biocbuild/bbs-3.13-bioc/R/library'
package 'cghMCR' successfully unpacked and MD5 sums checked