| Back to Multiple platform build/check report for BioC 3.13 |
|
This page was generated on 2021-10-15 15:06:00 -0400 (Fri, 15 Oct 2021).
|
To the developers/maintainers of the censcyt package: - Please allow up to 24 hours (and sometimes 48 hours) for your latest push to git@git.bioconductor.org:packages/censcyt.git to reflect on this report. See How and When does the builder pull? When will my changes propagate? here for more information. - Make sure to use the following settings in order to reproduce any error or warning you see on this page. |
| Package 272/2041 | Hostname | OS / Arch | INSTALL | BUILD | CHECK | BUILD BIN | ||||||||
| censcyt 1.0.0 (landing page) Reto Gerber
| nebbiolo1 | Linux (Ubuntu 20.04.2 LTS) / x86_64 | OK | OK | OK | |||||||||
| tokay2 | Windows Server 2012 R2 Standard / x64 | OK | OK | OK | OK | |||||||||
| machv2 | macOS 10.14.6 Mojave / x86_64 | OK | OK | OK | OK | |||||||||
| Package: censcyt |
| Version: 1.0.0 |
| Command: C:\cygwin\bin\curl.exe -O http://155.52.207.165/BBS/3.13/bioc/src/contrib/censcyt_1.0.0.tar.gz && rm -rf censcyt.buildbin-libdir && mkdir censcyt.buildbin-libdir && C:\Users\biocbuild\bbs-3.13-bioc\R\bin\R.exe CMD INSTALL --merge-multiarch --build --library=censcyt.buildbin-libdir censcyt_1.0.0.tar.gz && C:\Users\biocbuild\bbs-3.13-bioc\R\bin\R.exe CMD INSTALL censcyt_1.0.0.zip && rm censcyt_1.0.0.tar.gz censcyt_1.0.0.zip |
| StartedAt: 2021-10-14 11:26:29 -0400 (Thu, 14 Oct 2021) |
| EndedAt: 2021-10-14 11:27:12 -0400 (Thu, 14 Oct 2021) |
| EllapsedTime: 42.9 seconds |
| RetCode: 0 |
| Status: OK |
##############################################################################
##############################################################################
###
### Running command:
###
### C:\cygwin\bin\curl.exe -O http://155.52.207.165/BBS/3.13/bioc/src/contrib/censcyt_1.0.0.tar.gz && rm -rf censcyt.buildbin-libdir && mkdir censcyt.buildbin-libdir && C:\Users\biocbuild\bbs-3.13-bioc\R\bin\R.exe CMD INSTALL --merge-multiarch --build --library=censcyt.buildbin-libdir censcyt_1.0.0.tar.gz && C:\Users\biocbuild\bbs-3.13-bioc\R\bin\R.exe CMD INSTALL censcyt_1.0.0.zip && rm censcyt_1.0.0.tar.gz censcyt_1.0.0.zip
###
##############################################################################
##############################################################################
% Total % Received % Xferd Average Speed Time Time Time Current
Dload Upload Total Spent Left Speed
0 0 0 0 0 0 0 0 --:--:-- --:--:-- --:--:-- 0
100 59276 100 59276 0 0 258k 0 --:--:-- --:--:-- --:--:-- 259k
install for i386
* installing *source* package 'censcyt' ...
** using staged installation
** R
** inst
** byte-compile and prepare package for lazy loading
** help
*** installing help indices
converting help for package 'censcyt'
finding HTML links ... done
censcyt html
finding level-2 HTML links ... done
conditional_multiple_imputation html
createFormula html
simulate_multicluster html
simulate_singlecluster html
testDA_censoredGLMM html
** building package indices
** installing vignettes
** testing if installed package can be loaded from temporary location
** testing if installed package can be loaded from final location
** testing if installed package keeps a record of temporary installation path
install for x64
* installing *source* package 'censcyt' ...
** testing if installed package can be loaded
* MD5 sums
packaged installation of 'censcyt' as censcyt_1.0.0.zip
* DONE (censcyt)
* installing to library 'C:/Users/biocbuild/bbs-3.13-bioc/R/library'
package 'censcyt' successfully unpacked and MD5 sums checked