| Back to Multiple platform build/check report for BioC 3.13 |
|
This page was generated on 2021-10-15 15:05:37 -0400 (Fri, 15 Oct 2021).
|
To the developers/maintainers of the cellmigRation package: - Please allow up to 24 hours (and sometimes 48 hours) for your latest push to git@git.bioconductor.org:packages/cellmigRation.git to reflect on this report. See How and When does the builder pull? When will my changes propagate? here for more information. - Make sure to use the following settings in order to reproduce any error or warning you see on this page. |
| Package 264/2041 | Hostname | OS / Arch | INSTALL | BUILD | CHECK | BUILD BIN | ||||||||
| cellmigRation 1.0.0 (landing page) Waldir Leoncio
| nebbiolo1 | Linux (Ubuntu 20.04.2 LTS) / x86_64 | OK | OK | OK | |||||||||
| tokay2 | Windows Server 2012 R2 Standard / x64 | OK | OK | OK | OK | |||||||||
| machv2 | macOS 10.14.6 Mojave / x86_64 | OK | OK | OK | OK | |||||||||
| Package: cellmigRation |
| Version: 1.0.0 |
| Command: /home/biocbuild/bbs-3.13-bioc/R/bin/R CMD check --install=check:cellmigRation.install-out.txt --library=/home/biocbuild/bbs-3.13-bioc/R/library --no-vignettes --timings cellmigRation_1.0.0.tar.gz |
| StartedAt: 2021-10-14 09:11:41 -0400 (Thu, 14 Oct 2021) |
| EndedAt: 2021-10-14 09:13:28 -0400 (Thu, 14 Oct 2021) |
| EllapsedTime: 106.8 seconds |
| RetCode: 0 |
| Status: OK |
| CheckDir: cellmigRation.Rcheck |
| Warnings: 0 |
############################################################################## ############################################################################## ### ### Running command: ### ### /home/biocbuild/bbs-3.13-bioc/R/bin/R CMD check --install=check:cellmigRation.install-out.txt --library=/home/biocbuild/bbs-3.13-bioc/R/library --no-vignettes --timings cellmigRation_1.0.0.tar.gz ### ############################################################################## ############################################################################## * using log directory ‘/home/biocbuild/bbs-3.13-bioc/meat/cellmigRation.Rcheck’ * using R version 4.1.1 (2021-08-10) * using platform: x86_64-pc-linux-gnu (64-bit) * using session charset: UTF-8 * using option ‘--no-vignettes’ * checking for file ‘cellmigRation/DESCRIPTION’ ... OK * checking extension type ... Package * this is package ‘cellmigRation’ version ‘1.0.0’ * package encoding: UTF-8 * checking package namespace information ... OK * checking package dependencies ... OK * checking if this is a source package ... OK * checking if there is a namespace ... OK * checking for hidden files and directories ... OK * checking for portable file names ... OK * checking for sufficient/correct file permissions ... OK * checking whether package ‘cellmigRation’ can be installed ... OK * checking installed package size ... OK * checking package directory ... OK * checking ‘build’ directory ... OK * checking DESCRIPTION meta-information ... OK * checking top-level files ... OK * checking for left-over files ... OK * checking index information ... OK * checking package subdirectories ... OK * checking R files for non-ASCII characters ... OK * checking R files for syntax errors ... OK * checking whether the package can be loaded ... OK * checking whether the package can be loaded with stated dependencies ... OK * checking whether the package can be unloaded cleanly ... OK * checking whether the namespace can be loaded with stated dependencies ... OK * checking whether the namespace can be unloaded cleanly ... OK * checking dependencies in R code ... OK * checking S3 generic/method consistency ... OK * checking replacement functions ... OK * checking foreign function calls ... OK * checking R code for possible problems ... OK * checking Rd files ... OK * checking Rd metadata ... OK * checking Rd cross-references ... OK * checking for missing documentation entries ... OK * checking for code/documentation mismatches ... OK * checking Rd \usage sections ... OK * checking Rd contents ... OK * checking for unstated dependencies in examples ... OK * checking contents of ‘data’ directory ... OK * checking data for non-ASCII characters ... OK * checking data for ASCII and uncompressed saves ... OK * checking files in ‘vignettes’ ... OK * checking examples ... OK * checking for unstated dependencies in ‘tests’ ... OK * checking tests ... Running ‘runTests.R’ OK * checking for unstated dependencies in vignettes ... OK * checking package vignettes in ‘inst/doc’ ... OK * checking running R code from vignettes ... SKIPPED * checking re-building of vignette outputs ... SKIPPED * checking PDF version of manual ... OK * DONE Status: OK
cellmigRation.Rcheck/00install.out
############################################################################## ############################################################################## ### ### Running command: ### ### /home/biocbuild/bbs-3.13-bioc/R/bin/R CMD INSTALL cellmigRation ### ############################################################################## ############################################################################## * installing to library ‘/home/biocbuild/bbs-3.13-bioc/R/library’ * installing *source* package ‘cellmigRation’ ... ** using staged installation ** R ** data ** inst ** byte-compile and prepare package for lazy loading ** help *** installing help indices ** building package indices ** installing vignettes ** testing if installed package can be loaded from temporary location ** testing if installed package can be loaded from final location ** testing if installed package keeps a record of temporary installation path * DONE (cellmigRation)
cellmigRation.Rcheck/tests/runTests.Rout
R version 4.1.1 (2021-08-10) -- "Kick Things"
Copyright (C) 2021 The R Foundation for Statistical Computing
Platform: x86_64-pc-linux-gnu (64-bit)
R is free software and comes with ABSOLUTELY NO WARRANTY.
You are welcome to redistribute it under certain conditions.
Type 'license()' or 'licence()' for distribution details.
R is a collaborative project with many contributors.
Type 'contributors()' for more information and
'citation()' on how to cite R or R packages in publications.
Type 'demo()' for some demos, 'help()' for on-line help, or
'help.start()' for an HTML browser interface to help.
Type 'q()' to quit R.
> BiocGenerics:::testPackage("cellmigRation")
RUNIT TEST PROTOCOL -- Thu Oct 14 09:13:24 2021
***********************************************
Number of test functions: 7
Number of errors: 0
Number of failures: 0
1 Test Suite :
cellmigRation RUnit Tests - 7 test functions, 0 errors, 0 failures
Number of test functions: 7
Number of errors: 0
Number of failures: 0
>
> proc.time()
user system elapsed
2.735 0.191 2.911
cellmigRation.Rcheck/cellmigRation-Ex.timings
| name | user | system | elapsed | |
| AddDimension | 0.003 | 0.000 | 0.003 | |
| CellMig-class | 0.029 | 0.000 | 0.028 | |
| CellMigPCA | 1.297 | 0.064 | 1.361 | |
| CellMigPCAclust | 0.008 | 0.000 | 0.008 | |
| CellMigPCAclustALL | 0.607 | 0.004 | 0.611 | |
| CellTracker | 0.019 | 0.000 | 0.020 | |
| CellTrackerMainLoop | 0.010 | 0.001 | 0.032 | |
| CentroidArray | 0.020 | 0.004 | 0.025 | |
| CentroidValidation | 0.452 | 0.008 | 0.459 | |
| ComputeTracksStats | 0.021 | 0.007 | 0.027 | |
| DetectRadii | 0.002 | 0.000 | 0.003 | |
| DiAutoCor | 1.250 | 0.004 | 1.254 | |
| DiRatio | 0.015 | 0.000 | 0.016 | |
| DiRatioPlot | 0.032 | 0.000 | 0.033 | |
| EstimateDiameterRange | 0.017 | 0.004 | 0.021 | |
| FMI | 0.417 | 0.000 | 0.418 | |
| FianlizeOptiParams | 0.001 | 0.000 | 0.000 | |
| FilterTrackedCells | 0.003 | 0.000 | 0.003 | |
| FinRes | 0.612 | 0.004 | 0.617 | |
| ForwardMigration | 0.892 | 0.000 | 0.892 | |
| GenAllCombos | 0.003 | 0.000 | 0.003 | |
| LinearConv2 | 0.014 | 0.004 | 0.018 | |
| LoadTiff | 0.001 | 0.000 | 0.001 | |
| MSD | 1.423 | 0.015 | 1.444 | |
| MakeHypercube | 0.002 | 0.000 | 0.002 | |
| MigrationStats | 0.000 | 0.002 | 0.001 | |
| NextOdd | 0.000 | 0.001 | 0.000 | |
| NonParallel4OptimizeParams | 0.000 | 0.001 | 0.001 | |
| NonParallelTrackLoop | 0 | 0 | 0 | |
| OptimizeParams | 0.011 | 0.006 | 0.018 | |
| OptimizeParamsMainLoop | 0.008 | 0.002 | 0.028 | |
| Parallel4OptimizeParams | 0.000 | 0.000 | 0.001 | |
| ParallelTrackLoop | 0.001 | 0.000 | 0.001 | |
| PerAndSpeed | 0.335 | 0.020 | 0.361 | |
| PlotTracksSeparately | 0.005 | 0.004 | 0.009 | |
| PostProcessTracking | 0.001 | 0.000 | 0.000 | |
| Prep4OptimizeParams | 0.092 | 0.004 | 0.096 | |
| ThreeConditions | 0.013 | 0.004 | 0.017 | |
| TrackCellsDataset | 0.017 | 0.000 | 0.016 | |
| TrajectoryDataset | 0.023 | 0.000 | 0.022 | |
| ValidateTrackingArgs | 0.000 | 0.000 | 0.001 | |
| VeAutoCor | 1.023 | 0.004 | 1.028 | |
| VisualizeCntr | 0.003 | 0.000 | 0.003 | |
| VisualizeImg | 0.005 | 0.000 | 0.005 | |
| VisualizeStackCentroids | 0.061 | 0.004 | 0.065 | |
| WSADataset | 0.007 | 0.000 | 0.007 | |
| aggregateFR | 0.612 | 0.000 | 0.612 | |
| aggregateTrackedCells | 0.020 | 0.004 | 0.024 | |
| bpass | 0.055 | 0.000 | 0.055 | |
| circshift | 0.001 | 0.000 | 0.001 | |
| cntrd | 0.640 | 0.008 | 0.649 | |
| fixDA | 0.001 | 0.000 | 0.001 | |
| fixExpName | 0.001 | 0.000 | 0.001 | |
| fixFM1 | 0.000 | 0.001 | 0.001 | |
| fixFM2 | 0.000 | 0.001 | 0.001 | |
| fixFM3 | 0.000 | 0.001 | 0.001 | |
| fixFM4 | 0.000 | 0.001 | 0.001 | |
| fixFM5 | 0.000 | 0.001 | 0.001 | |
| fixFM6 | 0.000 | 0.000 | 0.001 | |
| fixID1 | 0.000 | 0.001 | 0.001 | |
| fixMSD | 0.000 | 0.001 | 0.001 | |
| fixPER1 | 0.000 | 0.000 | 0.001 | |
| fixPER2 | 0.001 | 0.000 | 0.001 | |
| fixPER3 | 0.001 | 0.000 | 0.001 | |
| getAvailableAggrMetrics | 0.860 | 0.013 | 0.874 | |
| getCellImages | 0.332 | 1.139 | 1.471 | |
| getCellMigSlot | 0.294 | 0.731 | 1.026 | |
| getCellTrackMeta | 0.017 | 0.001 | 0.017 | |
| getCellTrackStats | 0.014 | 0.007 | 0.021 | |
| getCellTracks | 0.017 | 0.002 | 0.019 | |
| getCellsMeta | 0.016 | 0.002 | 0.018 | |
| getCellsStats | 0.017 | 0.002 | 0.021 | |
| getDACtable | 1.997 | 0.005 | 2.001 | |
| getDiRatio | 0.015 | 0.002 | 0.017 | |
| getFMItable | 0.422 | 0.005 | 0.428 | |
| getForMigtable | 0.491 | 0.003 | 0.494 | |
| getImageCentroids | 0.015 | 0.008 | 0.023 | |
| getImageStacks | 0.059 | 0.004 | 0.062 | |
| getMSDtable | 3.117 | 0.028 | 3.146 | |
| getOptimizedParameters | 0.016 | 0.000 | 0.016 | |
| getOptimizedParams | 0.014 | 0.004 | 0.018 | |
| getPerAndSpeed | 0.264 | 0.000 | 0.263 | |
| getPopulationStats | 0.014 | 0.004 | 0.018 | |
| getProcessedImages | 0.288 | 1.211 | 1.500 | |
| getProcessingStatus | 0.013 | 0.004 | 0.017 | |
| getResults | 0.630 | 0.003 | 0.635 | |
| getTracks | 0.011 | 0.008 | 0.019 | |
| getVACtable | 1.060 | 0.004 | 1.064 | |
| initializeTrackParams | 0 | 0 | 0 | |
| innerBondRaster | 0.000 | 0.002 | 0.002 | |
| internalPermutation | 0.001 | 0.000 | 0.002 | |
| matfix | 0.001 | 0.000 | 0.002 | |
| nontrivialBondTracking | 0.002 | 0.000 | 0.002 | |
| pkfnd | 0.696 | 0.207 | 0.904 | |
| plot3DAllTracks | 0.142 | 0.051 | 0.194 | |
| plot3DTracks | 0.006 | 0.003 | 0.009 | |
| plotAllTracks | 0.019 | 0.000 | 0.020 | |
| plotSampleTracks | 0.016 | 0.000 | 0.016 | |
| preProcCellMig | 0.008 | 0.000 | 0.008 | |
| rmPreProcessing | 0.077 | 0.003 | 0.081 | |
| runTrackingPermutation | 0.001 | 0.000 | 0.002 | |
| setAnalyticParams | 0.012 | 0.004 | 0.017 | |
| setCellMigSlot | 0.022 | 0.000 | 0.023 | |
| setCellTracks | 0.012 | 0.004 | 0.017 | |
| setCellsMeta | 0.013 | 0.003 | 0.016 | |
| setExpName | 0.017 | 0.004 | 0.021 | |
| setOptimizedParams | 0.012 | 0.004 | 0.016 | |
| setProcessedImages | 0.012 | 0.004 | 0.016 | |
| setProcessingStatus | 0.013 | 0.003 | 0.016 | |
| setTrackedCellsMeta | 0.025 | 0.001 | 0.026 | |
| setTrackedCentroids | 0.009 | 0.007 | 0.017 | |
| setTrackedPositions | 0.013 | 0.004 | 0.017 | |
| setTrackingStats | 0.017 | 0.001 | 0.016 | |
| sinkAway | 0.001 | 0.000 | 0.001 | |
| subNetworkTracking | 0.002 | 0.000 | 0.001 | |
| track | 0.01 | 0.00 | 0.01 | |
| trackHypercubeBuild | 0.000 | 0.000 | 0.001 | |
| trackSlideProcessing | 0.000 | 0.001 | 0.001 | |
| trackSlideWrapUp | 0.000 | 0.001 | 0.001 | |
| trivialBondRaster | 0.002 | 0.001 | 0.001 | |
| trivialBondTracking | 0.000 | 0.000 | 0.001 | |
| visualizeCellTracks | 0.066 | 0.000 | 0.066 | |
| visualizeTrcks | 0.020 | 0.003 | 0.025 | |
| warnMessage | 0.000 | 0.001 | 0.001 | |
| wsaPreProcessing | 0.047 | 0.000 | 0.047 | |