| Back to Multiple platform build/check report for BioC 3.13 |
|
This page was generated on 2021-10-15 15:06:00 -0400 (Fri, 15 Oct 2021).
|
To the developers/maintainers of the ceRNAnetsim package: - Please allow up to 24 hours (and sometimes 48 hours) for your latest push to git@git.bioconductor.org:packages/ceRNAnetsim.git to reflect on this report. See How and When does the builder pull? When will my changes propagate? here for more information. - Make sure to use the following settings in order to reproduce any error or warning you see on this page. |
| Package 273/2041 | Hostname | OS / Arch | INSTALL | BUILD | CHECK | BUILD BIN | ||||||||
| ceRNAnetsim 1.4.0 (landing page) Selcen Ari Yuka
| nebbiolo1 | Linux (Ubuntu 20.04.2 LTS) / x86_64 | OK | OK | OK | |||||||||
| tokay2 | Windows Server 2012 R2 Standard / x64 | OK | OK | OK | OK | |||||||||
| machv2 | macOS 10.14.6 Mojave / x86_64 | OK | OK | OK | OK | |||||||||
| Package: ceRNAnetsim |
| Version: 1.4.0 |
| Command: rm -rf ceRNAnetsim.buildbin-libdir && mkdir ceRNAnetsim.buildbin-libdir && C:\Users\biocbuild\bbs-3.13-bioc\R\bin\R.exe CMD INSTALL --merge-multiarch --build --library=ceRNAnetsim.buildbin-libdir ceRNAnetsim_1.4.0.tar.gz |
| StartedAt: 2021-10-15 08:29:11 -0400 (Fri, 15 Oct 2021) |
| EndedAt: 2021-10-15 08:30:49 -0400 (Fri, 15 Oct 2021) |
| EllapsedTime: 97.9 seconds |
| RetCode: 0 |
| Status: OK |
| PackageFile: ceRNAnetsim_1.4.0.zip |
| PackageFileSize: 2.38 MiB |
##############################################################################
##############################################################################
###
### Running command:
###
### rm -rf ceRNAnetsim.buildbin-libdir && mkdir ceRNAnetsim.buildbin-libdir && C:\Users\biocbuild\bbs-3.13-bioc\R\bin\R.exe CMD INSTALL --merge-multiarch --build --library=ceRNAnetsim.buildbin-libdir ceRNAnetsim_1.4.0.tar.gz
###
##############################################################################
##############################################################################
install for i386
* installing *source* package 'ceRNAnetsim' ...
** using staged installation
** R
** data
** inst
** byte-compile and prepare package for lazy loading
** help
*** installing help indices
converting help for package 'ceRNAnetsim'
finding HTML links ... done
TCGA_E9_A1N5_mirnanormal html
TCGA_E9_A1N5_mirnatumor html
TCGA_E9_A1N5_normal html
TCGA_E9_A1N5_tumor html
calc_perturbation html
find_iteration html
find_node_perturbation html
gene_knockdown html
huge_example html
midsamp html
midsamp_new_counts html
minsamp html
mirtarbasegene html
new_counts html
normalize html
prepare_rhs html
prepare_rhs_once html
priming_graph html
simulate html
simulate_vis html
update_how html
update_nodes html
update_variables html
vis_graph html
** building package indices
** installing vignettes
** testing if installed package can be loaded from temporary location
** testing if installed package can be loaded from final location
** testing if installed package keeps a record of temporary installation path
install for x64
* installing *source* package 'ceRNAnetsim' ...
** testing if installed package can be loaded
* MD5 sums
packaged installation of 'ceRNAnetsim' as ceRNAnetsim_1.4.0.zip
* DONE (ceRNAnetsim)