| Back to Multiple platform build/check report for BioC 3.13 |
|
This page was generated on 2021-10-15 15:05:59 -0400 (Fri, 15 Oct 2021).
|
To the developers/maintainers of the cbpManager package: - Please allow up to 24 hours (and sometimes 48 hours) for your latest push to git@git.bioconductor.org:packages/cbpManager.git to reflect on this report. See How and When does the builder pull? When will my changes propagate? here for more information. - Make sure to use the following settings in order to reproduce any error or warning you see on this page. |
| Package 250/2041 | Hostname | OS / Arch | INSTALL | BUILD | CHECK | BUILD BIN | ||||||||
| cbpManager 1.0.2 (landing page) Arsenij Ustjanzew
| nebbiolo1 | Linux (Ubuntu 20.04.2 LTS) / x86_64 | OK | OK | OK | |||||||||
| tokay2 | Windows Server 2012 R2 Standard / x64 | OK | OK | OK | OK | |||||||||
| machv2 | macOS 10.14.6 Mojave / x86_64 | OK | OK | OK | OK | |||||||||
| Package: cbpManager |
| Version: 1.0.2 |
| Command: C:\Users\biocbuild\bbs-3.13-bioc\R\bin\R.exe --arch x64 CMD check --no-multiarch --install=check:cbpManager.install-out.txt --library=C:\Users\biocbuild\bbs-3.13-bioc\R\library --no-vignettes --timings cbpManager_1.0.2.tar.gz |
| StartedAt: 2021-10-14 20:40:44 -0400 (Thu, 14 Oct 2021) |
| EndedAt: 2021-10-14 20:42:16 -0400 (Thu, 14 Oct 2021) |
| EllapsedTime: 92.3 seconds |
| RetCode: 0 |
| Status: OK |
| CheckDir: cbpManager.Rcheck |
| Warnings: 0 |
##############################################################################
##############################################################################
###
### Running command:
###
### C:\Users\biocbuild\bbs-3.13-bioc\R\bin\R.exe --arch x64 CMD check --no-multiarch --install=check:cbpManager.install-out.txt --library=C:\Users\biocbuild\bbs-3.13-bioc\R\library --no-vignettes --timings cbpManager_1.0.2.tar.gz
###
##############################################################################
##############################################################################
* using log directory 'C:/Users/biocbuild/bbs-3.13-bioc/meat/cbpManager.Rcheck'
* using R version 4.1.1 (2021-08-10)
* using platform: x86_64-w64-mingw32 (64-bit)
* using session charset: ISO8859-1
* using option '--no-vignettes'
* checking for file 'cbpManager/DESCRIPTION' ... OK
* checking extension type ... Package
* this is package 'cbpManager' version '1.0.2'
* package encoding: UTF-8
* checking package namespace information ... OK
* checking package dependencies ... OK
* checking if this is a source package ... OK
* checking if there is a namespace ... OK
* checking for hidden files and directories ... OK
* checking for portable file names ... OK
* checking whether package 'cbpManager' can be installed ... NOTE
Found the following notes/warnings:
Non-staged installation was used
See 'C:/Users/biocbuild/bbs-3.13-bioc/meat/cbpManager.Rcheck/00install.out' for details.
* checking installed package size ... OK
* checking package directory ... OK
* checking 'build' directory ... OK
* checking DESCRIPTION meta-information ... OK
* checking top-level files ... OK
* checking for left-over files ... OK
* checking index information ... OK
* checking package subdirectories ... OK
* checking R files for non-ASCII characters ... OK
* checking R files for syntax errors ... OK
* checking whether the package can be loaded ... OK
* checking whether the package can be loaded with stated dependencies ... OK
* checking whether the package can be unloaded cleanly ... OK
* checking whether the namespace can be loaded with stated dependencies ... OK
* checking whether the namespace can be unloaded cleanly ... OK
* checking dependencies in R code ... OK
* checking S3 generic/method consistency ... OK
* checking replacement functions ... OK
* checking foreign function calls ... OK
* checking R code for possible problems ... NOTE
cbpManager: no visible binding for '<<-' assignment to
'cbpManager.options'
shinyAppServer: no visible binding for '<<-' assignment to 'study_dir'
shinyAppServer: no visible binding for '<<-' assignment to 'logDir'
shinyAppServer: no visible binding for '<<-' assignment to 'oncotree'
shinyAppServer: no visible binding for '<<-' assignment to
'tumor_tissue_site'
shinyAppServer: no visible binding for '<<-' assignment to
'cancer_type'
shinyAppServer: no visible binding for '<<-' assignment to
'oncotree_code'
shinyAppServer: no visible binding for '<<-' assignment to
'cancer_type_detailed'
* checking Rd files ... OK
* checking Rd metadata ... OK
* checking Rd cross-references ... OK
* checking for missing documentation entries ... OK
* checking for code/documentation mismatches ... OK
* checking Rd \usage sections ... OK
* checking Rd contents ... OK
* checking for unstated dependencies in examples ... OK
* checking line endings in shell scripts ... OK
* checking files in 'vignettes' ... OK
* checking examples ... OK
Examples with CPU (user + system) or elapsed time > 5s
user system elapsed
setupConda_cbpManager 0.13 0.14 8.13
* checking for unstated dependencies in 'tests' ... OK
* checking tests ...
Running 'testthat.R'
OK
* checking for unstated dependencies in vignettes ... OK
* checking package vignettes in 'inst/doc' ... OK
* checking running R code from vignettes ... SKIPPED
* checking re-building of vignette outputs ... SKIPPED
* checking PDF version of manual ... OK
* DONE
Status: 2 NOTEs
See
'C:/Users/biocbuild/bbs-3.13-bioc/meat/cbpManager.Rcheck/00check.log'
for details.
cbpManager.Rcheck/00install.out
##############################################################################
##############################################################################
###
### Running command:
###
### C:\Users\biocbuild\bbs-3.13-bioc\R\bin\R.exe --arch x64 CMD INSTALL --no-multiarch cbpManager
###
##############################################################################
##############################################################################
* installing to library 'C:/Users/biocbuild/bbs-3.13-bioc/R/library'
* installing *source* package 'cbpManager' ...
** using non-staged installation via StagedInstall field
** R
** inst
** byte-compile and prepare package for lazy loading
** help
*** installing help indices
converting help for package 'cbpManager'
finding HTML links ... done
IsDate html
ValidationDependencies html
addColumn_Server html
addColumn_UI html
addRowRc_Server html
addRowRc_UI html
addRow_Server html
addRow_UI html
cBioPortalToDataFrame html
cbpManager-pkg html
cbpManager html
check_input_dates html
convertDataFrame html
create_name html
deleteColumn_Server html
deleteColumn_UI html
deleteRowRc_Server html
deleteRowRc_UI html
deleteRow_Server html
deleteRow_UI html
editRowRc_Server html
editRowRc_UI html
editRow_Server html
editRow_UI html
fncols html
generateOncotreeUIwidgets html
generateUIwidgets html
getSampleIDs html
importPatientData html
saveResource_Server html
saveResource_UI html
saveTimeline_Server html
saveTimeline_UI html
setupConda_cbpManager html
shinyAppServer html
shinyAppUI html
updateOncotreeUIwidgets html
validateResourceDefinition html
validateResourcePatient html
validateResourceSample html
validateResourceStudy html
writeLogfile html
** building package indices
** installing vignettes
** testing if installed package can be loaded
* DONE (cbpManager)
Making 'packages.html' ... done
cbpManager.Rcheck/tests/testthat.Rout
R version 4.1.1 (2021-08-10) -- "Kick Things"
Copyright (C) 2021 The R Foundation for Statistical Computing
Platform: x86_64-w64-mingw32/x64 (64-bit)
R is free software and comes with ABSOLUTELY NO WARRANTY.
You are welcome to redistribute it under certain conditions.
Type 'license()' or 'licence()' for distribution details.
R is a collaborative project with many contributors.
Type 'contributors()' for more information and
'citation()' on how to cite R or R packages in publications.
Type 'demo()' for some demos, 'help()' for on-line help, or
'help.start()' for an HTML browser interface to help.
Type 'q()' to quit R.
> library(testthat)
> library(cbpManager)
Loading required package: shiny
Loading required package: shinydashboard
Attaching package: 'shinydashboard'
The following object is masked from 'package:graphics':
box
>
> test_check("cbpManager")
##---------------------------------------------------------------------------##
## Launching cbpManager
##---------------------------------------------------------------------------##
##---------------------------------------------------------------------------##
## Launching cbpManager
##---------------------------------------------------------------------------##
== Skipped tests ===============================================================
* On CRAN (1)
[ FAIL 0 | WARN 0 | SKIP 1 | PASS 19 ]
>
> proc.time()
user system elapsed
3.29 0.34 3.61
cbpManager.Rcheck/cbpManager-Ex.timings
| name | user | system | elapsed | |
| IsDate | 0 | 0 | 0 | |
| cBioPortalToDataFrame | 0.01 | 0.00 | 0.01 | |
| cbpManager | 0 | 0 | 0 | |
| check_input_dates | 0 | 0 | 0 | |
| convertDataFrame | 0 | 0 | 0 | |
| create_name | 0 | 0 | 0 | |
| fncols | 0 | 0 | 0 | |
| generateOncotreeUIwidgets | 0.17 | 0.02 | 0.21 | |
| generateUIwidgets | 0.01 | 0.00 | 0.01 | |
| getSampleIDs | 0 | 0 | 0 | |
| setupConda_cbpManager | 0.13 | 0.14 | 8.13 | |
| writeLogfile | 0.01 | 0.00 | 0.01 | |