| Back to Multiple platform build/check report for BioC 3.13 |
|
This page was generated on 2021-10-15 15:05:59 -0400 (Fri, 15 Oct 2021).
|
To the developers/maintainers of the caOmicsV package: - Please allow up to 24 hours (and sometimes 48 hours) for your latest push to git@git.bioconductor.org:packages/caOmicsV.git to reflect on this report. See How and When does the builder pull? When will my changes propagate? here for more information. - Make sure to use the following settings in order to reproduce any error or warning you see on this page. |
| Package 240/2041 | Hostname | OS / Arch | INSTALL | BUILD | CHECK | BUILD BIN | ||||||||
| caOmicsV 1.22.0 (landing page) Henry Zhang
| nebbiolo1 | Linux (Ubuntu 20.04.2 LTS) / x86_64 | OK | OK | WARNINGS | |||||||||
| tokay2 | Windows Server 2012 R2 Standard / x64 | OK | OK | WARNINGS | OK | |||||||||
| machv2 | macOS 10.14.6 Mojave / x86_64 | OK | OK | WARNINGS | OK | |||||||||
| Package: caOmicsV |
| Version: 1.22.0 |
| Command: rm -rf caOmicsV.buildbin-libdir && mkdir caOmicsV.buildbin-libdir && C:\Users\biocbuild\bbs-3.13-bioc\R\bin\R.exe CMD INSTALL --merge-multiarch --build --library=caOmicsV.buildbin-libdir caOmicsV_1.22.0.tar.gz |
| StartedAt: 2021-10-15 08:24:32 -0400 (Fri, 15 Oct 2021) |
| EndedAt: 2021-10-15 08:25:56 -0400 (Fri, 15 Oct 2021) |
| EllapsedTime: 84.8 seconds |
| RetCode: 0 |
| Status: OK |
| PackageFile: caOmicsV_1.22.0.zip |
| PackageFileSize: 2.957 MiB |
##############################################################################
##############################################################################
###
### Running command:
###
### rm -rf caOmicsV.buildbin-libdir && mkdir caOmicsV.buildbin-libdir && C:\Users\biocbuild\bbs-3.13-bioc\R\bin\R.exe CMD INSTALL --merge-multiarch --build --library=caOmicsV.buildbin-libdir caOmicsV_1.22.0.tar.gz
###
##############################################################################
##############################################################################
install for i386
* installing *source* package 'caOmicsV' ...
** using staged installation
** R
** data
** demo
** inst
** byte-compile and prepare package for lazy loading
** help
*** installing help indices
converting help for package 'caOmicsV'
finding HTML links ... done
CA_OMICS_ENV html
CA_OMICS_NAME html
CA_OMICS_NA_STRING html
CNVDemoData html
RNA2miRNA html
RNASeq html
RNASeqDemoData html
bioMatrixLegend html
bioNetCircosPlot html
bioNetLegend html
biomatrixPlotDemoData html
bionetPlotDemoData html
caOmicsV-package html
convertToZScores html
drawBioNetNodeBackground html
eraseBioNetNode html
getBezierCurve html
getBioMatrixDataRowTop html
getBioMatrixPlotParameters html
getBioNetNodeLinkLine html
getBioNetParameters html
getBioNetPlotLocations html
getBioNetSamplePlotPosition html
getCaOmicsVColors html
getCaOmicsVPlotTypes html
getDefaultNaStrings html
getHeatmapColorScales html
getPlotDataSet html
getPlotOmicsData html
getPlotSampleData html
getPlotSummaryData html
getRelatedPlotData html
initializeBioMatrixPlot html
initializeBioNetCircos html
labelBioNetNodeNames html
linkBioNetNodes html
linkBioNetSamples html
methylDemoData html
miRNA html
miRNADemoData html
plotBioMatrix html
plotBioMatrixBars html
plotBioMatrixBinaryData html
plotBioMatrixCategoryData html
plotBioMatrixHeatmap html
plotBioMatrixRowNames html
plotBioMatrixSampleData html
plotBioMatrixSampleNames html
plotBioNetBars html
plotBioNetCircos html
plotBioNetHeatmap html
plotBioNetLines html
plotBioNetPoints html
plotBioNetPolygons html
plotHeatmapColorScale html
resetBioNetNodePlotAreaBoundary html
sampleDemoData html
setBioMatrixBaseCoordinates html
setBioMatrixPlotArea html
setBioMatrixPlotParameters html
setBioNetCircosBasePlotPositions html
setBioNetNodeLayout html
setBioNetPlotAreaBackground html
setBioNetPlotParameters html
setCaOmicsVColors html
setDefaultNaStrings html
showBioMatrixPlotLayout html
showBioNetNodesLayout html
showSupportedBioNetCircosPlotType html
sortClinicalData html
sortOmicsDataByColumn html
sortOmicsDataByRow html
** building package indices
** installing vignettes
** testing if installed package can be loaded from temporary location
** testing if installed package can be loaded from final location
** testing if installed package keeps a record of temporary installation path
install for x64
* installing *source* package 'caOmicsV' ...
** testing if installed package can be loaded
* MD5 sums
packaged installation of 'caOmicsV' as caOmicsV_1.22.0.zip
* DONE (caOmicsV)