| Back to Multiple platform build/check report for BioC 3.13 |
|
This page was generated on 2021-10-15 15:05:59 -0400 (Fri, 15 Oct 2021).
|
To the developers/maintainers of the bnem package: - Please allow up to 24 hours (and sometimes 48 hours) for your latest push to git@git.bioconductor.org:packages/bnem.git to reflect on this report. See How and When does the builder pull? When will my changes propagate? here for more information. - Make sure to use the following settings in order to reproduce any error or warning you see on this page. |
| Package 204/2041 | Hostname | OS / Arch | INSTALL | BUILD | CHECK | BUILD BIN | ||||||||
| bnem 1.0.0 (landing page) Martin Pirkl
| nebbiolo1 | Linux (Ubuntu 20.04.2 LTS) / x86_64 | OK | OK | OK | |||||||||
| tokay2 | Windows Server 2012 R2 Standard / x64 | OK | OK | OK | OK | |||||||||
| machv2 | macOS 10.14.6 Mojave / x86_64 | OK | OK | OK | OK | |||||||||
| Package: bnem |
| Version: 1.0.0 |
| Command: C:\cygwin\bin\curl.exe -O http://155.52.207.165/BBS/3.13/bioc/src/contrib/bnem_1.0.0.tar.gz && rm -rf bnem.buildbin-libdir && mkdir bnem.buildbin-libdir && C:\Users\biocbuild\bbs-3.13-bioc\R\bin\R.exe CMD INSTALL --merge-multiarch --build --library=bnem.buildbin-libdir bnem_1.0.0.tar.gz && C:\Users\biocbuild\bbs-3.13-bioc\R\bin\R.exe CMD INSTALL bnem_1.0.0.zip && rm bnem_1.0.0.tar.gz bnem_1.0.0.zip |
| StartedAt: 2021-10-14 11:18:27 -0400 (Thu, 14 Oct 2021) |
| EndedAt: 2021-10-14 11:19:24 -0400 (Thu, 14 Oct 2021) |
| EllapsedTime: 57.7 seconds |
| RetCode: 0 |
| Status: OK |
##############################################################################
##############################################################################
###
### Running command:
###
### C:\cygwin\bin\curl.exe -O http://155.52.207.165/BBS/3.13/bioc/src/contrib/bnem_1.0.0.tar.gz && rm -rf bnem.buildbin-libdir && mkdir bnem.buildbin-libdir && C:\Users\biocbuild\bbs-3.13-bioc\R\bin\R.exe CMD INSTALL --merge-multiarch --build --library=bnem.buildbin-libdir bnem_1.0.0.tar.gz && C:\Users\biocbuild\bbs-3.13-bioc\R\bin\R.exe CMD INSTALL bnem_1.0.0.zip && rm bnem_1.0.0.tar.gz bnem_1.0.0.zip
###
##############################################################################
##############################################################################
% Total % Received % Xferd Average Speed Time Time Time Current
Dload Upload Total Spent Left Speed
0 0 0 0 0 0 0 0 --:--:-- --:--:-- --:--:-- 0
100 631k 100 631k 0 0 1375k 0 --:--:-- --:--:-- --:--:-- 1378k
install for i386
* installing *source* package 'bnem' ...
** using staged installation
** R
** data
** inst
** byte-compile and prepare package for lazy loading
** help
*** installing help indices
converting help for package 'bnem'
finding HTML links ... done
absorption html
absorptionII html
addNoise html
bcr html
bnem html
bnemBs html
computeFc html
convertGraph html
dummyCNOlist html
epiNEM2Bg html
findResiduals html
plot.bnem html
plot.bnembs html
plot.bnemsim html
processDataBCR html
randomDnf html
reduceGraph html
scoreDnf html
simBoolGtn html
simulateStatesRecursive html
transClose html
transRed html
validateGraph html
** building package indices
** installing vignettes
** testing if installed package can be loaded from temporary location
** testing if installed package can be loaded from final location
** testing if installed package keeps a record of temporary installation path
install for x64
* installing *source* package 'bnem' ...
** testing if installed package can be loaded
* MD5 sums
packaged installation of 'bnem' as bnem_1.0.0.zip
* DONE (bnem)
* installing to library 'C:/Users/biocbuild/bbs-3.13-bioc/R/library'
package 'bnem' successfully unpacked and MD5 sums checked