| Back to Multiple platform build/check report for BioC 3.13 |
|
This page was generated on 2021-10-15 15:05:58 -0400 (Fri, 15 Oct 2021).
|
To the developers/maintainers of the biocthis package: - Please allow up to 24 hours (and sometimes 48 hours) for your latest push to git@git.bioconductor.org:packages/biocthis.git to reflect on this report. See How and When does the builder pull? When will my changes propagate? here for more information. - Make sure to use the following settings in order to reproduce any error or warning you see on this page. |
| Package 174/2041 | Hostname | OS / Arch | INSTALL | BUILD | CHECK | BUILD BIN | ||||||||
| biocthis 1.2.0 (landing page) Leonardo Collado-Torres
| nebbiolo1 | Linux (Ubuntu 20.04.2 LTS) / x86_64 | OK | OK | OK | |||||||||
| tokay2 | Windows Server 2012 R2 Standard / x64 | OK | OK | OK | OK | |||||||||
| machv2 | macOS 10.14.6 Mojave / x86_64 | OK | OK | OK | OK | |||||||||
| Package: biocthis |
| Version: 1.2.0 |
| Command: rm -rf biocthis.buildbin-libdir && mkdir biocthis.buildbin-libdir && C:\Users\biocbuild\bbs-3.13-bioc\R\bin\R.exe CMD INSTALL --merge-multiarch --build --library=biocthis.buildbin-libdir biocthis_1.2.0.tar.gz |
| StartedAt: 2021-10-15 08:15:21 -0400 (Fri, 15 Oct 2021) |
| EndedAt: 2021-10-15 08:16:52 -0400 (Fri, 15 Oct 2021) |
| EllapsedTime: 91.0 seconds |
| RetCode: 0 |
| Status: OK |
| PackageFile: biocthis_1.2.0.zip |
| PackageFileSize: 674.5 KiB |
##############################################################################
##############################################################################
###
### Running command:
###
### rm -rf biocthis.buildbin-libdir && mkdir biocthis.buildbin-libdir && C:\Users\biocbuild\bbs-3.13-bioc\R\bin\R.exe CMD INSTALL --merge-multiarch --build --library=biocthis.buildbin-libdir biocthis_1.2.0.tar.gz
###
##############################################################################
##############################################################################
install for i386
* installing *source* package 'biocthis' ...
** using staged installation
** R
** inst
** byte-compile and prepare package for lazy loading
** help
*** installing help indices
converting help for package 'biocthis'
finding HTML links ... done
bioc_style html
biocthis_example_pkg html
use_bioc_citation html
use_bioc_coc html
use_bioc_description html
use_bioc_github_action html
use_bioc_issue_template html
use_bioc_news_md html
use_bioc_pkg_templates html
use_bioc_readme_rmd html
use_bioc_support html
use_bioc_vignette html
** building package indices
** installing vignettes
** testing if installed package can be loaded from temporary location
** testing if installed package can be loaded from final location
** testing if installed package keeps a record of temporary installation path
install for x64
* installing *source* package 'biocthis' ...
** testing if installed package can be loaded
* MD5 sums
packaged installation of 'biocthis' as biocthis_1.2.0.zip
* DONE (biocthis)