| Back to Multiple platform build/check report for BioC 3.13 |
|
This page was generated on 2021-10-15 15:05:36 -0400 (Fri, 15 Oct 2021).
|
To the developers/maintainers of the bioCancer package: - Please allow up to 24 hours (and sometimes 48 hours) for your latest push to git@git.bioconductor.org:packages/bioCancer.git to reflect on this report. See How and When does the builder pull? When will my changes propagate? here for more information. - Make sure to use the following settings in order to reproduce any error or warning you see on this page. |
| Package 157/2041 | Hostname | OS / Arch | INSTALL | BUILD | CHECK | BUILD BIN | ||||||||
| bioCancer 1.20.02 (landing page) Karim Mezhoud
| nebbiolo1 | Linux (Ubuntu 20.04.2 LTS) / x86_64 | OK | OK | OK | |||||||||
| tokay2 | Windows Server 2012 R2 Standard / x64 | OK | OK | OK | OK | |||||||||
| machv2 | macOS 10.14.6 Mojave / x86_64 | OK | OK | OK | OK | |||||||||
| Package: bioCancer |
| Version: 1.20.02 |
| Command: /home/biocbuild/bbs-3.13-bioc/R/bin/R CMD check --install=check:bioCancer.install-out.txt --library=/home/biocbuild/bbs-3.13-bioc/R/library --no-vignettes --timings bioCancer_1.20.02.tar.gz |
| StartedAt: 2021-10-14 09:00:57 -0400 (Thu, 14 Oct 2021) |
| EndedAt: 2021-10-14 09:05:09 -0400 (Thu, 14 Oct 2021) |
| EllapsedTime: 252.3 seconds |
| RetCode: 0 |
| Status: OK |
| CheckDir: bioCancer.Rcheck |
| Warnings: 0 |
##############################################################################
##############################################################################
###
### Running command:
###
### /home/biocbuild/bbs-3.13-bioc/R/bin/R CMD check --install=check:bioCancer.install-out.txt --library=/home/biocbuild/bbs-3.13-bioc/R/library --no-vignettes --timings bioCancer_1.20.02.tar.gz
###
##############################################################################
##############################################################################
* using log directory ‘/home/biocbuild/bbs-3.13-bioc/meat/bioCancer.Rcheck’
* using R version 4.1.1 (2021-08-10)
* using platform: x86_64-pc-linux-gnu (64-bit)
* using session charset: UTF-8
* using option ‘--no-vignettes’
* checking for file ‘bioCancer/DESCRIPTION’ ... OK
* this is package ‘bioCancer’ version ‘1.20.02’
* package encoding: UTF-8
* checking package namespace information ... OK
* checking package dependencies ... OK
* checking if this is a source package ... OK
* checking if there is a namespace ... OK
* checking for hidden files and directories ... OK
* checking for portable file names ... OK
* checking for sufficient/correct file permissions ... OK
* checking whether package ‘bioCancer’ can be installed ... OK
* checking installed package size ... NOTE
installed size is 5.4Mb
sub-directories of 1Mb or more:
app 3.3Mb
extdata 1.6Mb
* checking package directory ... OK
* checking ‘build’ directory ... OK
* checking DESCRIPTION meta-information ... OK
* checking top-level files ... OK
* checking for left-over files ... OK
* checking index information ... OK
* checking package subdirectories ... OK
* checking R files for non-ASCII characters ... OK
* checking R files for syntax errors ... OK
* checking whether the package can be loaded ... OK
* checking whether the package can be loaded with stated dependencies ... OK
* checking whether the package can be unloaded cleanly ... OK
* checking whether the namespace can be loaded with stated dependencies ... OK
* checking whether the namespace can be unloaded cleanly ... OK
* checking dependencies in R code ... NOTE
Namespaces in Imports field not imported from:
‘AlgDesign’ ‘GO.db’ ‘import’ ‘methods’ ‘org.Bt.eg.db’ ‘shinythemes’
All declared Imports should be used.
* checking S3 generic/method consistency ... OK
* checking replacement functions ... OK
* checking foreign function calls ... OK
* checking R code for possible problems ... OK
* checking Rd files ... OK
* checking Rd metadata ... OK
* checking Rd cross-references ... OK
* checking for missing documentation entries ... OK
* checking for code/documentation mismatches ... OK
* checking Rd \usage sections ... OK
* checking Rd contents ... OK
* checking for unstated dependencies in examples ... OK
* checking contents of ‘data’ directory ... OK
* checking data for non-ASCII characters ... OK
* checking LazyData ... OK
* checking data for ASCII and uncompressed saves ... OK
* checking files in ‘vignettes’ ... OK
* checking examples ... OK
* checking for unstated dependencies in ‘tests’ ... OK
* checking tests ...
Running ‘testthat.R’
OK
* checking for unstated dependencies in vignettes ... OK
* checking package vignettes in ‘inst/doc’ ... OK
* checking running R code from vignettes ... SKIPPED
* checking re-building of vignette outputs ... SKIPPED
* checking PDF version of manual ... OK
* DONE
Status: 2 NOTEs
See
‘/home/biocbuild/bbs-3.13-bioc/meat/bioCancer.Rcheck/00check.log’
for details.
bioCancer.Rcheck/00install.out
############################################################################## ############################################################################## ### ### Running command: ### ### /home/biocbuild/bbs-3.13-bioc/R/bin/R CMD INSTALL bioCancer ### ############################################################################## ############################################################################## * installing to library ‘/home/biocbuild/bbs-3.13-bioc/R/library’ * installing *source* package ‘bioCancer’ ... ** using staged installation ** R ** data *** moving datasets to lazyload DB ** inst ** byte-compile and prepare package for lazy loading ** help *** installing help indices ** building package indices ** installing vignettes ** testing if installed package can be loaded from temporary location ** testing if installed package can be loaded from final location ** testing if installed package keeps a record of temporary installation path * DONE (bioCancer)
bioCancer.Rcheck/tests/testthat.Rout
R version 4.1.1 (2021-08-10) -- "Kick Things"
Copyright (C) 2021 The R Foundation for Statistical Computing
Platform: x86_64-pc-linux-gnu (64-bit)
R is free software and comes with ABSOLUTELY NO WARRANTY.
You are welcome to redistribute it under certain conditions.
Type 'license()' or 'licence()' for distribution details.
R is a collaborative project with many contributors.
Type 'contributors()' for more information and
'citation()' on how to cite R or R packages in publications.
Type 'demo()' for some demos, 'help()' for on-line help, or
'help.start()' for an HTML browser interface to help.
Type 'q()' to quit R.
> library(testthat)
> library(bioCancer)
Loading required package: radiant.data
Loading required package: magrittr
Attaching package: 'magrittr'
The following objects are masked from 'package:testthat':
equals, is_less_than, not
Loading required package: ggplot2
Loading required package: lubridate
Attaching package: 'lubridate'
The following objects are masked from 'package:base':
date, intersect, setdiff, union
Loading required package: tidyr
Attaching package: 'tidyr'
The following object is masked from 'package:magrittr':
extract
The following object is masked from 'package:testthat':
matches
Loading required package: dplyr
Attaching package: 'dplyr'
The following object is masked from 'package:testthat':
matches
The following objects are masked from 'package:stats':
filter, lag
The following objects are masked from 'package:base':
intersect, setdiff, setequal, union
Attaching package: 'radiant.data'
The following objects are masked from 'package:lubridate':
month, wday
The following object is masked from 'package:ggplot2':
diamonds
The following object is masked from 'package:magrittr':
set_attr
The following object is masked from 'package:testthat':
describe
The following object is masked from 'package:base':
date
Loading required package: cgdsr
Please send questions to cbioportal@googlegroups.com
Loading required package: XML
>
> test_check("bioCancer")
getCancerStudies... OK
getCaseLists (1/2) ... OK
getCaseLists (2/2) ... OK
getGeneticProfiles (1/2) ... OK
getGeneticProfiles (2/2) ... OK
getClinicalData (1/1) ... OK
getProfileData (1/6) ... OK
getProfileData (2/6) ... OK
getProfileData (3/6) ... OK
getProfileData (4/6) ... OK
getProfileData (5/6) ... OK
getProfileData (6/6) ... OK
ReactomeFI connection... OK
══ Skipped tests ═══════════════════════════════════════════════════════════════
• empty test (2)
[ FAIL 0 | WARN 0 | SKIP 2 | PASS 0 ]
>
> proc.time()
user system elapsed
11.224 0.987 79.314
bioCancer.Rcheck/bioCancer-Ex.timings
| name | user | system | elapsed | |
| AnnotationFuncs-package | 0.385 | 0.020 | 0.416 | |
| Edges_Diseases_obj | 0.002 | 0.000 | 0.002 | |
| Mutation_obj | 0.004 | 0.000 | 0.004 | |
| Node_Diseases_obj | 0.002 | 0.000 | 0.002 | |
| Node_df_FreqIn | 0.001 | 0.000 | 0.001 | |
| Node_obj_CNA_ProfData | 0.000 | 0.000 | 0.001 | |
| Node_obj_FreqIn | 0 | 0 | 0 | |
| Node_obj_Met_ProfData | 0.001 | 0.000 | 0.000 | |
| Node_obj_mRNA_Classifier | 0.001 | 0.000 | 0.001 | |
| Studies_obj | 0.006 | 0.000 | 0.006 | |
| UnifyRowNames | 0.001 | 0.000 | 0.001 | |
| attriColorGene | 0.000 | 0.001 | 0.001 | |
| attriColorValue | 0.000 | 0.001 | 0.000 | |
| attriColorVector | 0.000 | 0.001 | 0.001 | |
| attriShape2Gene | 0 | 0 | 0 | |
| attriShape2Node | 0 | 0 | 0 | |
| bioCancer | 0 | 0 | 0 | |
| checkDimensions | 0.002 | 0.000 | 0.002 | |
| coffeewheel | 0.001 | 0.000 | 0.001 | |
| coffeewheelOutput | 0 | 0 | 0 | |
| displayTable | 0.028 | 0.004 | 4.485 | |
| findPhantom | 0 | 0 | 0 | |
| getEvidenceCodes | 0.001 | 0.000 | 0.000 | |
| getFreqMutData | 0.000 | 0.001 | 0.001 | |
| getGenesClassification | 0.018 | 0.002 | 0.062 | |
| getListProfData | 0.001 | 0.000 | 0.001 | |
| getList_Cases | 0.014 | 0.004 | 0.058 | |
| getList_GenProfs | 0.020 | 0.000 | 0.059 | |
| getMegaProfData | 0 | 0 | 0 | |
| getOrthologs | 0 | 0 | 0 | |
| getSequensed_SampleSize | 0.000 | 0.000 | 0.001 | |
| grepRef | 0.001 | 0.000 | 0.000 | |
| mapLists | 0.001 | 0.000 | 0.001 | |
| metabologram | 0 | 0 | 0 | |
| metabologramOutput | 0.001 | 0.000 | 0.000 | |
| pickGO | 0.157 | 0.000 | 0.161 | |
| pickRefSeq | 0.149 | 0.004 | 0.153 | |
| reStrColorGene | 0.001 | 0.000 | 0.001 | |
| reStrDimension | 0.000 | 0.000 | 0.001 | |
| reStrDisease | 0.001 | 0.000 | 0.000 | |
| removeNAs | 0.001 | 0.000 | 0.000 | |
| renderCoffeewheel | 0.000 | 0.001 | 0.000 | |
| renderMetabologram | 0.000 | 0.000 | 0.001 | |
| returnTextAreaInput | 0 | 0 | 0 | |
| translate | 0.204 | 0.005 | 0.209 | |
| whichGeneList | 0.000 | 0.000 | 0.001 | |
| widgetThumbnail | 0.000 | 0.000 | 0.001 | |