| Back to Multiple platform build/check report for BioC 3.13 |
|
This page was generated on 2021-10-15 15:05:58 -0400 (Fri, 15 Oct 2021).
|
To the developers/maintainers of the banocc package: - Please allow up to 24 hours (and sometimes 48 hours) for your latest push to git@git.bioconductor.org:packages/banocc.git to reflect on this report. See How and When does the builder pull? When will my changes propagate? here for more information. - Make sure to use the following settings in order to reproduce any error or warning you see on this page. |
| Package 116/2041 | Hostname | OS / Arch | INSTALL | BUILD | CHECK | BUILD BIN | ||||||||
| banocc 1.16.0 (landing page) George Weingart
| nebbiolo1 | Linux (Ubuntu 20.04.2 LTS) / x86_64 | OK | OK | OK | |||||||||
| tokay2 | Windows Server 2012 R2 Standard / x64 | OK | ERROR | skipped | skipped | |||||||||
| machv2 | macOS 10.14.6 Mojave / x86_64 | OK | OK | OK | OK | |||||||||
| Package: banocc |
| Version: 1.16.0 |
| Command: C:\cygwin\bin\curl.exe -O http://155.52.207.165/BBS/3.13/bioc/src/contrib/banocc_1.16.0.tar.gz && rm -rf banocc.buildbin-libdir && mkdir banocc.buildbin-libdir && C:\Users\biocbuild\bbs-3.13-bioc\R\bin\R.exe CMD INSTALL --merge-multiarch --build --library=banocc.buildbin-libdir banocc_1.16.0.tar.gz && C:\Users\biocbuild\bbs-3.13-bioc\R\bin\R.exe CMD INSTALL banocc_1.16.0.zip && rm banocc_1.16.0.tar.gz banocc_1.16.0.zip |
| StartedAt: 2021-10-14 08:26:07 -0400 (Thu, 14 Oct 2021) |
| EndedAt: 2021-10-14 08:27:28 -0400 (Thu, 14 Oct 2021) |
| EllapsedTime: 80.2 seconds |
| RetCode: 0 |
| Status: OK |
##############################################################################
##############################################################################
###
### Running command:
###
### C:\cygwin\bin\curl.exe -O http://155.52.207.165/BBS/3.13/bioc/src/contrib/banocc_1.16.0.tar.gz && rm -rf banocc.buildbin-libdir && mkdir banocc.buildbin-libdir && C:\Users\biocbuild\bbs-3.13-bioc\R\bin\R.exe CMD INSTALL --merge-multiarch --build --library=banocc.buildbin-libdir banocc_1.16.0.tar.gz && C:\Users\biocbuild\bbs-3.13-bioc\R\bin\R.exe CMD INSTALL banocc_1.16.0.zip && rm banocc_1.16.0.tar.gz banocc_1.16.0.zip
###
##############################################################################
##############################################################################
% Total % Received % Xferd Average Speed Time Time Time Current
Dload Upload Total Spent Left Speed
0 0 0 0 0 0 0 0 --:--:-- --:--:-- --:--:-- 0
0 25.3M 0 102k 0 0 295k 0 0:01:27 --:--:-- 0:01:27 295k
1 25.3M 1 475k 0 0 354k 0 0:01:13 0:00:01 0:01:12 354k
3 25.3M 3 1020k 0 0 436k 0 0:00:59 0:00:02 0:00:57 436k
6 25.3M 6 1568k 0 0 467k 0 0:00:55 0:00:03 0:00:52 467k
9 25.3M 9 2374k 0 0 544k 0 0:00:47 0:00:04 0:00:43 544k
11 25.3M 11 3009k 0 0 563k 0 0:00:45 0:00:05 0:00:40 582k
16 25.3M 16 4393k 0 0 690k 0 0:00:37 0:00:06 0:00:31 780k
24 25.3M 24 6416k 0 0 875k 0 0:00:29 0:00:07 0:00:22 1080k
35 25.3M 35 9203k 0 0 1102k 0 0:00:23 0:00:08 0:00:15 1529k
44 25.3M 44 11.2M 0 0 1224k 0 0:00:21 0:00:09 0:00:12 1818k
49 25.3M 49 12.4M 0 0 1233k 0 0:00:21 0:00:10 0:00:11 1948k
58 25.3M 58 14.7M 0 0 1332k 0 0:00:19 0:00:11 0:00:08 2153k
71 25.3M 71 18.1M 0 0 1505k 0 0:00:17 0:00:12 0:00:05 2426k
77 25.3M 77 19.5M 0 0 1498k 0 0:00:17 0:00:13 0:00:04 2159k
80 25.3M 80 20.3M 0 0 1455k 0 0:00:17 0:00:14 0:00:03 1890k
85 25.3M 85 21.5M 0 0 1439k 0 0:00:18 0:00:15 0:00:03 1864k
92 25.3M 92 23.4M 0 0 1471k 0 0:00:17 0:00:16 0:00:01 1784k
100 25.3M 100 25.3M 0 0 1523k 0 0:00:17 0:00:17 --:--:-- 1569k
install for i386
* installing *source* package 'banocc' ...
** using staged installation
** R
** data
** byte-compile and prepare package for lazy loading
** help
*** installing help indices
converting help for package 'banocc'
finding HTML links ... done
banocc html
banocc_model html
compositions_hard_null html
compositions_neg_spike html
compositions_null html
compositions_pos_spike html
counts_hard_null html
counts_neg_spike html
counts_null html
counts_pos_spike html
get_banocc_output html
run_banocc html
finding level-2 HTML links ... done
** building package indices
** installing vignettes
** testing if installed package can be loaded from temporary location
** testing if installed package can be loaded from final location
** testing if installed package keeps a record of temporary installation path
install for x64
* installing *source* package 'banocc' ...
** testing if installed package can be loaded
* MD5 sums
packaged installation of 'banocc' as banocc_1.16.0.zip
* DONE (banocc)
* installing to library 'C:/Users/biocbuild/bbs-3.13-bioc/R/library'
package 'banocc' successfully unpacked and MD5 sums checked