| Back to Multiple platform build/check report for BioC 3.13 |
|
This page was generated on 2021-10-15 15:05:57 -0400 (Fri, 15 Oct 2021).
|
To the developers/maintainers of the attract package: - Please allow up to 24 hours (and sometimes 48 hours) for your latest push to git@git.bioconductor.org:packages/attract.git to reflect on this report. See How and When does the builder pull? When will my changes propagate? here for more information. - Make sure to use the following settings in order to reproduce any error or warning you see on this page. |
| Package 100/2041 | Hostname | OS / Arch | INSTALL | BUILD | CHECK | BUILD BIN | ||||||||
| attract 1.44.0 (landing page) Samuel Zimmerman
| nebbiolo1 | Linux (Ubuntu 20.04.2 LTS) / x86_64 | OK | ERROR | skipped | |||||||||
| tokay2 | Windows Server 2012 R2 Standard / x64 | OK | ERROR | skipped | skipped | |||||||||
| machv2 | macOS 10.14.6 Mojave / x86_64 | OK | ERROR | skipped | skipped | |||||||||
| Package: attract |
| Version: 1.44.0 |
| Command: C:\cygwin\bin\curl.exe -O http://155.52.207.165/BBS/3.13/bioc/src/contrib/attract_1.44.0.tar.gz && rm -rf attract.buildbin-libdir && mkdir attract.buildbin-libdir && C:\Users\biocbuild\bbs-3.13-bioc\R\bin\R.exe CMD INSTALL --merge-multiarch --build --library=attract.buildbin-libdir attract_1.44.0.tar.gz && C:\Users\biocbuild\bbs-3.13-bioc\R\bin\R.exe CMD INSTALL attract_1.44.0.zip && rm attract_1.44.0.tar.gz attract_1.44.0.zip |
| StartedAt: 2021-10-14 09:23:24 -0400 (Thu, 14 Oct 2021) |
| EndedAt: 2021-10-14 09:24:22 -0400 (Thu, 14 Oct 2021) |
| EllapsedTime: 58.0 seconds |
| RetCode: 0 |
| Status: OK |
##############################################################################
##############################################################################
###
### Running command:
###
### C:\cygwin\bin\curl.exe -O http://155.52.207.165/BBS/3.13/bioc/src/contrib/attract_1.44.0.tar.gz && rm -rf attract.buildbin-libdir && mkdir attract.buildbin-libdir && C:\Users\biocbuild\bbs-3.13-bioc\R\bin\R.exe CMD INSTALL --merge-multiarch --build --library=attract.buildbin-libdir attract_1.44.0.tar.gz && C:\Users\biocbuild\bbs-3.13-bioc\R\bin\R.exe CMD INSTALL attract_1.44.0.zip && rm attract_1.44.0.tar.gz attract_1.44.0.zip
###
##############################################################################
##############################################################################
% Total % Received % Xferd Average Speed Time Time Time Current
Dload Upload Total Spent Left Speed
0 0 0 0 0 0 0 0 --:--:-- --:--:-- --:--:-- 0
16 4204k 16 673k 0 0 1437k 0 0:00:02 --:--:-- 0:00:02 1435k
82 4204k 82 3477k 0 0 2416k 0 0:00:01 0:00:01 --:--:-- 2416k
100 4204k 100 4204k 0 0 2578k 0 0:00:01 0:00:01 --:--:-- 2577k
install for i386
* installing *source* package 'attract' ...
** using staged installation
** R
** data
** inst
** byte-compile and prepare package for lazy loading
** help
*** installing help indices
converting help for package 'attract'
finding HTML links ... done
AttractorModuleSet-class html
SynExpressionSet-class html
attract-package html
buildCorMatrix html
buildCustomIncidenceMatrix html
buildKeggIncidenceMatrix html
calcFuncSynexprs html
calcInform html
calcModfstat html
calcRss html
exprs.dat html
filterDataSet html
findAttractors html
findCorrPartners html
findOnepwaySynexprs html
findSynexprs html
flagPwayExists html
getCustomGenes html
getPwayGenes html
loring.eset html
plotsynexprs html
removeFlatGenes html
samp.info html
subset.loring.eset html
** building package indices
** installing vignettes
** testing if installed package can be loaded from temporary location
** testing if installed package can be loaded from final location
** testing if installed package keeps a record of temporary installation path
install for x64
* installing *source* package 'attract' ...
** testing if installed package can be loaded
* MD5 sums
packaged installation of 'attract' as attract_1.44.0.zip
* DONE (attract)
* installing to library 'C:/Users/biocbuild/bbs-3.13-bioc/R/library'
package 'attract' successfully unpacked and MD5 sums checked