| Back to Multiple platform build/check report for BioC 3.13 |
|
This page was generated on 2021-10-15 15:05:57 -0400 (Fri, 15 Oct 2021).
|
To the developers/maintainers of the arrayQuality package: - Please allow up to 24 hours (and sometimes 48 hours) for your latest push to git@git.bioconductor.org:packages/arrayQuality.git to reflect on this report. See How and When does the builder pull? When will my changes propagate? here for more information. - Make sure to use the following settings in order to reproduce any error or warning you see on this page. |
| Package 84/2041 | Hostname | OS / Arch | INSTALL | BUILD | CHECK | BUILD BIN | ||||||||
| arrayQuality 1.70.0 (landing page) Agnes Paquet
| nebbiolo1 | Linux (Ubuntu 20.04.2 LTS) / x86_64 | OK | OK | WARNINGS | |||||||||
| tokay2 | Windows Server 2012 R2 Standard / x64 | OK | OK | WARNINGS | OK | |||||||||
| machv2 | macOS 10.14.6 Mojave / x86_64 | OK | OK | WARNINGS | OK | |||||||||
| Package: arrayQuality |
| Version: 1.70.0 |
| Command: rm -rf arrayQuality.buildbin-libdir && mkdir arrayQuality.buildbin-libdir && C:\Users\biocbuild\bbs-3.13-bioc\R\bin\R.exe CMD INSTALL --merge-multiarch --build --library=arrayQuality.buildbin-libdir arrayQuality_1.70.0.tar.gz |
| StartedAt: 2021-10-15 08:02:49 -0400 (Fri, 15 Oct 2021) |
| EndedAt: 2021-10-15 08:04:05 -0400 (Fri, 15 Oct 2021) |
| EllapsedTime: 75.7 seconds |
| RetCode: 0 |
| Status: OK |
| PackageFile: arrayQuality_1.70.0.zip |
| PackageFileSize: 12.06 MiB |
##############################################################################
##############################################################################
###
### Running command:
###
### rm -rf arrayQuality.buildbin-libdir && mkdir arrayQuality.buildbin-libdir && C:\Users\biocbuild\bbs-3.13-bioc\R\bin\R.exe CMD INSTALL --merge-multiarch --build --library=arrayQuality.buildbin-libdir arrayQuality_1.70.0.tar.gz
###
##############################################################################
##############################################################################
install for i386
* installing *source* package 'arrayQuality' ...
** using staged installation
** R
** data
** inst
** byte-compile and prepare package for lazy loading
** help
*** installing help indices
converting help for package 'arrayQuality'
finding HTML links ... done
MmDEGenes html
PRv9mers html
PRvQCHyb html
agQuality html
arrayQuality-internal html
globalQuality html
gpQuality html
gprDB html
heeboQuality html
heeboQualityPlots html
maQualityPlots html
meeboQuality html
meeboQualityPlots html
prdata html
qcScore html
qualBoxplot html
qualityScore html
readAgilent html
readGPR html
readSpikeTypes html
readSpot html
readcontrolCode html
scaleRefTable html
slideQuality html
spotQuality html
** building package indices
** installing vignettes
** testing if installed package can be loaded from temporary location
** testing if installed package can be loaded from final location
** testing if installed package keeps a record of temporary installation path
install for x64
* installing *source* package 'arrayQuality' ...
** testing if installed package can be loaded
* MD5 sums
packaged installation of 'arrayQuality' as arrayQuality_1.70.0.zip
* DONE (arrayQuality)