| Back to Multiple platform build/check report for BioC 3.13 |
|
This page was generated on 2021-10-15 15:05:57 -0400 (Fri, 15 Oct 2021).
|
To the developers/maintainers of the aroma.light package: - Please allow up to 24 hours (and sometimes 48 hours) for your latest push to git@git.bioconductor.org:packages/aroma.light.git to reflect on this report. See How and When does the builder pull? When will my changes propagate? here for more information. - Make sure to use the following settings in order to reproduce any error or warning you see on this page. |
| Package 80/2041 | Hostname | OS / Arch | INSTALL | BUILD | CHECK | BUILD BIN | ||||||||
| aroma.light 3.22.0 (landing page) Henrik Bengtsson
| nebbiolo1 | Linux (Ubuntu 20.04.2 LTS) / x86_64 | OK | OK | OK | |||||||||
| tokay2 | Windows Server 2012 R2 Standard / x64 | OK | OK | OK | OK | |||||||||
| machv2 | macOS 10.14.6 Mojave / x86_64 | OK | OK | OK | OK | |||||||||
| Package: aroma.light |
| Version: 3.22.0 |
| Command: rm -rf aroma.light.buildbin-libdir && mkdir aroma.light.buildbin-libdir && C:\Users\biocbuild\bbs-3.13-bioc\R\bin\R.exe CMD INSTALL --merge-multiarch --build --library=aroma.light.buildbin-libdir aroma.light_3.22.0.tar.gz |
| StartedAt: 2021-10-15 08:02:25 -0400 (Fri, 15 Oct 2021) |
| EndedAt: 2021-10-15 08:03:32 -0400 (Fri, 15 Oct 2021) |
| EllapsedTime: 67.5 seconds |
| RetCode: 0 |
| Status: OK |
| PackageFile: aroma.light_3.22.0.zip |
| PackageFileSize: 714.4 KiB |
##############################################################################
##############################################################################
###
### Running command:
###
### rm -rf aroma.light.buildbin-libdir && mkdir aroma.light.buildbin-libdir && C:\Users\biocbuild\bbs-3.13-bioc\R\bin\R.exe CMD INSTALL --merge-multiarch --build --library=aroma.light.buildbin-libdir aroma.light_3.22.0.tar.gz
###
##############################################################################
##############################################################################
install for i386
* installing *source* package 'aroma.light' ...
** using staged installation
** R
** inst
** byte-compile and prepare package for lazy loading
** help
*** installing help indices
converting help for package 'aroma.light'
finding HTML links ... done
1._Calibration_and_Normalization html
Non-documented_objects html
aroma.light-package html
averageQuantile html
backtransformAffine html
backtransformPrincipalCurve html
calibrateMultiscan html
callNaiveGenotypes html
distanceBetweenLines html
findPeaksAndValleys html
fitIWPCA html
fitNaiveGenotypes html
fitPrincipalCurve html
fitXYCurve html
iwpca html
likelihood.smooth.spline html
medianPolish html
normalizeAffine html
normalizeAverage html
normalizeCurveFit html
normalizeDifferencesToAverage html
normalizeFragmentLength html
normalizeQuantileRank html
normalizeQuantileRank.matrix html
normalizeQuantileSpline html
normalizeTumorBoost html
pairedAlleleSpecificCopyNumbers html
plotDensity html
plotMvsA html
plotMvsAPairs html
plotMvsMPairs html
plotXYCurve html
print.SmoothSplineLikelihood html
robustSmoothSpline html
sampleCorrelations html
sampleTuples html
wpca html
** building package indices
** testing if installed package can be loaded from temporary location
** testing if installed package can be loaded from final location
** testing if installed package keeps a record of temporary installation path
install for x64
* installing *source* package 'aroma.light' ...
** testing if installed package can be loaded
* MD5 sums
packaged installation of 'aroma.light' as aroma.light_3.22.0.zip
* DONE (aroma.light)