| Back to Multiple platform build/check report for BioC 3.13 | 
 | 
This page was generated on 2021-10-15 15:05:57 -0400 (Fri, 15 Oct 2021).
| To the developers/maintainers of the appreci8R package: - Please allow up to 24 hours (and sometimes 48 hours) for your latest push to git@git.bioconductor.org:packages/appreci8R.git to reflect on this report. See How and When does the builder pull? When will my changes propagate? here for more information. - Make sure to use the following settings in order to reproduce any error or warning you see on this page. | 
| Package 79/2041 | Hostname | OS / Arch | INSTALL | BUILD | CHECK | BUILD BIN | ||||||||
| appreci8R 1.10.0  (landing page) Sarah Sandmann 
 | nebbiolo1 | Linux (Ubuntu 20.04.2 LTS) / x86_64 | OK | OK | OK |  | ||||||||
| tokay2 | Windows Server 2012 R2 Standard / x64 | OK | OK | OK | OK |  | ||||||||
| machv2 | macOS 10.14.6 Mojave / x86_64 | OK | OK | OK | OK |  | ||||||||
| Package: appreci8R | 
| Version: 1.10.0 | 
| Command: C:\cygwin\bin\curl.exe -O http://155.52.207.165/BBS/3.13/bioc/src/contrib/appreci8R_1.10.0.tar.gz && rm -rf appreci8R.buildbin-libdir && mkdir appreci8R.buildbin-libdir && C:\Users\biocbuild\bbs-3.13-bioc\R\bin\R.exe CMD INSTALL --merge-multiarch --build --library=appreci8R.buildbin-libdir appreci8R_1.10.0.tar.gz && C:\Users\biocbuild\bbs-3.13-bioc\R\bin\R.exe CMD INSTALL appreci8R_1.10.0.zip && rm appreci8R_1.10.0.tar.gz appreci8R_1.10.0.zip | 
| StartedAt: 2021-10-14 10:45:16 -0400 (Thu, 14 Oct 2021) | 
| EndedAt: 2021-10-14 10:47:36 -0400 (Thu, 14 Oct 2021) | 
| EllapsedTime: 140.4 seconds | 
| RetCode: 0 | 
| Status: OK | 
##############################################################################
##############################################################################
###
### Running command:
###
###   C:\cygwin\bin\curl.exe -O http://155.52.207.165/BBS/3.13/bioc/src/contrib/appreci8R_1.10.0.tar.gz && rm -rf appreci8R.buildbin-libdir && mkdir appreci8R.buildbin-libdir && C:\Users\biocbuild\bbs-3.13-bioc\R\bin\R.exe CMD INSTALL --merge-multiarch --build --library=appreci8R.buildbin-libdir appreci8R_1.10.0.tar.gz && C:\Users\biocbuild\bbs-3.13-bioc\R\bin\R.exe CMD INSTALL appreci8R_1.10.0.zip && rm appreci8R_1.10.0.tar.gz appreci8R_1.10.0.zip
###
##############################################################################
##############################################################################
  % Total    % Received % Xferd  Average Speed   Time    Time     Time  Current
                                 Dload  Upload   Total   Spent    Left  Speed
  0     0    0     0    0     0      0      0 --:--:-- --:--:-- --:--:--     0
 77  727k   77  561k    0     0  1352k      0 --:--:-- --:--:-- --:--:-- 1353k
100  727k  100  727k    0     0  1489k      0 --:--:-- --:--:-- --:--:-- 1490k
install for i386
* installing *source* package 'appreci8R' ...
** using staged installation
** R
** inst
** byte-compile and prepare package for lazy loading
** help
*** installing help indices
  converting help for package 'appreci8R'
    finding HTML links ... done
    annotate                                html  
    appreci8R-package                       html  
    appreci8Rshiny                          html  
    combineOutput                           html  
    determineCharacteristics                html  
    evaluateCovAndBQ                        html  
    filterTarget                            html  
    finalFiltration                         html  
    normalize                               html  
** building package indices
** installing vignettes
** testing if installed package can be loaded from temporary location
** testing if installed package can be loaded from final location
** testing if installed package keeps a record of temporary installation path
install for x64
* installing *source* package 'appreci8R' ...
** testing if installed package can be loaded
* MD5 sums
packaged installation of 'appreci8R' as appreci8R_1.10.0.zip
* DONE (appreci8R)
* installing to library 'C:/Users/biocbuild/bbs-3.13-bioc/R/library'
package 'appreci8R' successfully unpacked and MD5 sums checked