| Back to Multiple platform build/check report for BioC 3.13 |
|
This page was generated on 2021-10-15 15:05:57 -0400 (Fri, 15 Oct 2021).
|
To the developers/maintainers of the annotationTools package: - Please allow up to 24 hours (and sometimes 48 hours) for your latest push to git@git.bioconductor.org:packages/annotationTools.git to reflect on this report. See How and When does the builder pull? When will my changes propagate? here for more information. - Make sure to use the following settings in order to reproduce any error or warning you see on this page. |
| Package 68/2041 | Hostname | OS / Arch | INSTALL | BUILD | CHECK | BUILD BIN | ||||||||
| annotationTools 1.66.0 (landing page) Alexandre Kuhn
| nebbiolo1 | Linux (Ubuntu 20.04.2 LTS) / x86_64 | OK | OK | OK | |||||||||
| tokay2 | Windows Server 2012 R2 Standard / x64 | OK | OK | OK | OK | |||||||||
| machv2 | macOS 10.14.6 Mojave / x86_64 | OK | OK | OK | OK | |||||||||
| Package: annotationTools |
| Version: 1.66.0 |
| Command: rm -rf annotationTools.buildbin-libdir && mkdir annotationTools.buildbin-libdir && C:\Users\biocbuild\bbs-3.13-bioc\R\bin\R.exe CMD INSTALL --merge-multiarch --build --library=annotationTools.buildbin-libdir annotationTools_1.66.0.tar.gz |
| StartedAt: 2021-10-15 08:00:45 -0400 (Fri, 15 Oct 2021) |
| EndedAt: 2021-10-15 08:02:08 -0400 (Fri, 15 Oct 2021) |
| EllapsedTime: 83.0 seconds |
| RetCode: 0 |
| Status: OK |
| PackageFile: annotationTools_1.66.0.zip |
| PackageFileSize: 427.6 KiB |
##############################################################################
##############################################################################
###
### Running command:
###
### rm -rf annotationTools.buildbin-libdir && mkdir annotationTools.buildbin-libdir && C:\Users\biocbuild\bbs-3.13-bioc\R\bin\R.exe CMD INSTALL --merge-multiarch --build --library=annotationTools.buildbin-libdir annotationTools_1.66.0.tar.gz
###
##############################################################################
##############################################################################
install for i386
* installing *source* package 'annotationTools' ...
** using staged installation
** R
** data
** inst
** byte-compile and prepare package for lazy loading
** help
*** installing help indices
converting help for package 'annotationTools'
finding HTML links ... done
HG-U133_Plus_2_annot_part html
HG-U133_Plus_2_ortholog_part html
Mouse430_2_annot_part html
annot_HGU133A html
compactList html
gene_orthologs_part html
getANNOTATION html
getGENEID html
getGENEONTOLOGY html
getGENESYMBOL html
getGENETITLE html
getHOMOLOG html
getMULTIANNOTATION html
getOrthologousProbesets html
getPROBESET html
homologene_part html
listToCharacterVector html
ortho html
ps2ps html
table_human html
table_mouse html
** building package indices
** installing vignettes
** testing if installed package can be loaded from temporary location
** testing if installed package can be loaded from final location
** testing if installed package keeps a record of temporary installation path
install for x64
* installing *source* package 'annotationTools' ...
** testing if installed package can be loaded
* MD5 sums
packaged installation of 'annotationTools' as annotationTools_1.66.0.zip
* DONE (annotationTools)