| Back to Multiple platform build/check report for BioC 3.13 |
|
This page was generated on 2021-10-15 15:05:35 -0400 (Fri, 15 Oct 2021).
|
To the developers/maintainers of the alevinQC package: - Please allow up to 24 hours (and sometimes 48 hours) for your latest push to git@git.bioconductor.org:packages/alevinQC.git to reflect on this report. See How and When does the builder pull? When will my changes propagate? here for more information. - Make sure to use the following settings in order to reproduce any error or warning you see on this page. |
| Package 43/2041 | Hostname | OS / Arch | INSTALL | BUILD | CHECK | BUILD BIN | ||||||||
| alevinQC 1.8.0 (landing page) Charlotte Soneson
| nebbiolo1 | Linux (Ubuntu 20.04.2 LTS) / x86_64 | OK | OK | OK | |||||||||
| tokay2 | Windows Server 2012 R2 Standard / x64 | OK | OK | OK | OK | |||||||||
| machv2 | macOS 10.14.6 Mojave / x86_64 | OK | OK | OK | OK | |||||||||
| Package: alevinQC |
| Version: 1.8.0 |
| Command: /home/biocbuild/bbs-3.13-bioc/R/bin/R CMD check --install=check:alevinQC.install-out.txt --library=/home/biocbuild/bbs-3.13-bioc/R/library --no-vignettes --timings alevinQC_1.8.0.tar.gz |
| StartedAt: 2021-10-14 08:50:14 -0400 (Thu, 14 Oct 2021) |
| EndedAt: 2021-10-14 08:51:23 -0400 (Thu, 14 Oct 2021) |
| EllapsedTime: 69.6 seconds |
| RetCode: 0 |
| Status: OK |
| CheckDir: alevinQC.Rcheck |
| Warnings: 0 |
##############################################################################
##############################################################################
###
### Running command:
###
### /home/biocbuild/bbs-3.13-bioc/R/bin/R CMD check --install=check:alevinQC.install-out.txt --library=/home/biocbuild/bbs-3.13-bioc/R/library --no-vignettes --timings alevinQC_1.8.0.tar.gz
###
##############################################################################
##############################################################################
* using log directory ‘/home/biocbuild/bbs-3.13-bioc/meat/alevinQC.Rcheck’
* using R version 4.1.1 (2021-08-10)
* using platform: x86_64-pc-linux-gnu (64-bit)
* using session charset: UTF-8
* using option ‘--no-vignettes’
* checking for file ‘alevinQC/DESCRIPTION’ ... OK
* checking extension type ... Package
* this is package ‘alevinQC’ version ‘1.8.0’
* package encoding: UTF-8
* checking package namespace information ... OK
* checking package dependencies ... OK
* checking if this is a source package ... OK
* checking if there is a namespace ... OK
* checking for hidden files and directories ... OK
* checking for portable file names ... OK
* checking for sufficient/correct file permissions ... OK
* checking whether package ‘alevinQC’ can be installed ... OK
* checking installed package size ... NOTE
installed size is 8.2Mb
sub-directories of 1Mb or more:
extdata 8.0Mb
* checking package directory ... OK
* checking ‘build’ directory ... OK
* checking DESCRIPTION meta-information ... OK
* checking top-level files ... OK
* checking for left-over files ... OK
* checking index information ... OK
* checking package subdirectories ... OK
* checking R files for non-ASCII characters ... OK
* checking R files for syntax errors ... OK
* checking whether the package can be loaded ... OK
* checking whether the package can be loaded with stated dependencies ... OK
* checking whether the package can be unloaded cleanly ... OK
* checking whether the namespace can be loaded with stated dependencies ... OK
* checking whether the namespace can be unloaded cleanly ... OK
* checking dependencies in R code ... OK
* checking S3 generic/method consistency ... OK
* checking replacement functions ... OK
* checking foreign function calls ... OK
* checking R code for possible problems ... OK
* checking Rd files ... OK
* checking Rd metadata ... OK
* checking Rd cross-references ... OK
* checking for missing documentation entries ... OK
* checking for code/documentation mismatches ... OK
* checking Rd \usage sections ... OK
* checking Rd contents ... OK
* checking for unstated dependencies in examples ... OK
* checking files in ‘vignettes’ ... OK
* checking examples ... OK
Examples with CPU (user + system) or elapsed time > 5s
user system elapsed
alevinQCReport 6.619 0.206 6.838
* checking for unstated dependencies in ‘tests’ ... OK
* checking tests ...
Running ‘testthat.R’
OK
* checking for unstated dependencies in vignettes ... OK
* checking package vignettes in ‘inst/doc’ ... OK
* checking running R code from vignettes ... SKIPPED
* checking re-building of vignette outputs ... SKIPPED
* checking PDF version of manual ... OK
* DONE
Status: 1 NOTE
See
‘/home/biocbuild/bbs-3.13-bioc/meat/alevinQC.Rcheck/00check.log’
for details.
alevinQC.Rcheck/00install.out
############################################################################## ############################################################################## ### ### Running command: ### ### /home/biocbuild/bbs-3.13-bioc/R/bin/R CMD INSTALL alevinQC ### ############################################################################## ############################################################################## * installing to library ‘/home/biocbuild/bbs-3.13-bioc/R/library’ * installing *source* package ‘alevinQC’ ... ** using staged installation ** R ** inst ** byte-compile and prepare package for lazy loading ** help *** installing help indices ** building package indices ** installing vignettes ** testing if installed package can be loaded from temporary location ** testing if installed package can be loaded from final location ** testing if installed package keeps a record of temporary installation path * DONE (alevinQC)
alevinQC.Rcheck/tests/testthat.Rout
R version 4.1.1 (2021-08-10) -- "Kick Things"
Copyright (C) 2021 The R Foundation for Statistical Computing
Platform: x86_64-pc-linux-gnu (64-bit)
R is free software and comes with ABSOLUTELY NO WARRANTY.
You are welcome to redistribute it under certain conditions.
Type 'license()' or 'licence()' for distribution details.
R is a collaborative project with many contributors.
Type 'contributors()' for more information and
'citation()' on how to cite R or R packages in publications.
Type 'demo()' for some demos, 'help()' for on-line help, or
'help.start()' for an HTML browser interface to help.
Type 'q()' to quit R.
> library(testthat)
> library(alevinQC)
>
> test_check("alevinQC")
[ FAIL 0 | WARN 1 | SKIP 0 | PASS 57 ]
>
> proc.time()
user system elapsed
19.397 0.710 20.123
alevinQC.Rcheck/alevinQC-Ex.timings
| name | user | system | elapsed | |
| alevinQCReport | 6.619 | 0.206 | 6.838 | |
| alevinQCShiny | 0.39 | 0.00 | 0.39 | |
| checkAlevinInputFiles | 0.001 | 0.000 | 0.002 | |
| plotAlevinBarcodeCollapse | 0.722 | 0.012 | 0.734 | |
| plotAlevinHistogram | 0.648 | 0.012 | 0.659 | |
| plotAlevinKneeNbrGenes | 0.436 | 0.008 | 0.445 | |
| plotAlevinKneeRaw | 2.424 | 0.012 | 2.437 | |
| plotAlevinQuant | 0.914 | 0.012 | 0.926 | |
| plotAlevinQuantPairs | 1.665 | 0.024 | 1.690 | |
| readAlevinQC | 0.427 | 0.008 | 0.434 | |