| Back to Multiple platform build/check report for BioC 3.13 |
|
This page was generated on 2021-10-15 15:05:57 -0400 (Fri, 15 Oct 2021).
|
To the developers/maintainers of the airpart package: - Please allow up to 24 hours (and sometimes 48 hours) for your latest push to git@git.bioconductor.org:packages/airpart.git to reflect on this report. See How and When does the builder pull? When will my changes propagate? here for more information. - Make sure to use the following settings in order to reproduce any error or warning you see on this page. |
| Package 41/2041 | Hostname | OS / Arch | INSTALL | BUILD | CHECK | BUILD BIN | ||||||||
| airpart 1.0.1 (landing page) Wancen Mu
| nebbiolo1 | Linux (Ubuntu 20.04.2 LTS) / x86_64 | OK | OK | OK | |||||||||
| tokay2 | Windows Server 2012 R2 Standard / x64 | OK | OK | OK | OK | |||||||||
| machv2 | macOS 10.14.6 Mojave / x86_64 | OK | OK | OK | OK | |||||||||
| Package: airpart |
| Version: 1.0.1 |
| Command: rm -rf airpart.buildbin-libdir && mkdir airpart.buildbin-libdir && C:\Users\biocbuild\bbs-3.13-bioc\R\bin\R.exe CMD INSTALL --merge-multiarch --build --library=airpart.buildbin-libdir airpart_1.0.1.tar.gz |
| StartedAt: 2021-10-15 07:57:26 -0400 (Fri, 15 Oct 2021) |
| EndedAt: 2021-10-15 07:58:31 -0400 (Fri, 15 Oct 2021) |
| EllapsedTime: 64.8 seconds |
| RetCode: 0 |
| Status: OK |
| PackageFile: airpart_1.0.1.zip |
| PackageFileSize: 740.2 KiB |
##############################################################################
##############################################################################
###
### Running command:
###
### rm -rf airpart.buildbin-libdir && mkdir airpart.buildbin-libdir && C:\Users\biocbuild\bbs-3.13-bioc\R\bin\R.exe CMD INSTALL --merge-multiarch --build --library=airpart.buildbin-libdir airpart_1.0.1.tar.gz
###
##############################################################################
##############################################################################
install for i386
* installing *source* package 'airpart' ...
** using staged installation
** R
** inst
** byte-compile and prepare package for lazy loading
** help
*** installing help indices
converting help for package 'airpart'
finding HTML links ... done
allelicRatio html
cellQC html
consensusPart html
estDisp html
featureQC html
fusedLasso html
geneCluster html
makeForest html
makeHeatmap html
makeSimulatedData html
makeViolin html
preprocess html
summaryAllelicRatio html
wilcoxExt html
** building package indices
** installing vignettes
** testing if installed package can be loaded from temporary location
** testing if installed package can be loaded from final location
** testing if installed package keeps a record of temporary installation path
install for x64
* installing *source* package 'airpart' ...
** testing if installed package can be loaded
* MD5 sums
packaged installation of 'airpart' as airpart_1.0.1.zip
* DONE (airpart)